BEGIN:VCALENDAR
PRODID:-//nuDatenautomaten//framework iCal4j //DE
VERSION:2.0
CALSCALE:GREGORIAN
BEGIN:VTIMEZONE
TZID:Europe/Berlin
LAST-MODIFIED:20260306T231828Z
TZURL:https://www.tzurl.org/zoneinfo/Europe/Berlin
X-LIC-LOCATION:Europe/Berlin
X-PROLEPTIC-TZNAME:LMT
BEGIN:STANDARD
TZNAME:CET
TZOFFSETFROM:+005328
TZOFFSETTO:+0100
DTSTART:18930401T000000
END:STANDARD
BEGIN:DAYLIGHT
TZNAME:CEST
TZOFFSETFROM:+0100
TZOFFSETTO:+0200
DTSTART:19160430T230000
RDATE:19400401T020000
RDATE:19430329T020000
RDATE:19460414T020000
RDATE:19470406T030000
RDATE:19480418T020000
RDATE:19490410T020000
RDATE:19800406T020000
END:DAYLIGHT
BEGIN:STANDARD
TZNAME:CET
TZOFFSETFROM:+0200
TZOFFSETTO:+0100
DTSTART:19161001T010000
RDATE:19421102T030000
RDATE:19431004T030000
RDATE:19441002T030000
RDATE:19451118T030000
RDATE:19461007T030000
END:STANDARD
BEGIN:DAYLIGHT
TZNAME:CEST
TZOFFSETFROM:+0100
TZOFFSETTO:+0200
DTSTART:19170416T020000
RRULE:FREQ=YEARLY;UNTIL=19180415T010000Z;BYMONTH=4;BYDAY=3MO
END:DAYLIGHT
BEGIN:STANDARD
TZNAME:CET
TZOFFSETFROM:+0200
TZOFFSETTO:+0100
DTSTART:19170917T030000
RRULE:FREQ=YEARLY;UNTIL=19180916T010000Z;BYMONTH=9;BYDAY=3MO
END:STANDARD
BEGIN:DAYLIGHT
TZNAME:CEST
TZOFFSETFROM:+0100
TZOFFSETTO:+0200
DTSTART:19440403T020000
RRULE:FREQ=YEARLY;UNTIL=19450402T010000Z;BYMONTH=4;BYDAY=1MO
END:DAYLIGHT
BEGIN:DAYLIGHT
TZNAME:CEMT
TZOFFSETFROM:+0200
TZOFFSETTO:+0300
DTSTART:19450524T020000
RDATE:19470511T030000
END:DAYLIGHT
BEGIN:DAYLIGHT
TZNAME:CEST
TZOFFSETFROM:+0300
TZOFFSETTO:+0200
DTSTART:19450924T030000
RDATE:19470629T030000
END:DAYLIGHT
BEGIN:STANDARD
TZNAME:CET
TZOFFSETFROM:+0100
TZOFFSETTO:+0100
DTSTART:19460101T000000
RDATE:19800101T000000
END:STANDARD
BEGIN:STANDARD
TZNAME:CET
TZOFFSETFROM:+0200
TZOFFSETTO:+0100
DTSTART:19471005T030000
RRULE:FREQ=YEARLY;UNTIL=19491002T010000Z;BYMONTH=10;BYDAY=1SU
END:STANDARD
BEGIN:STANDARD
TZNAME:CET
TZOFFSETFROM:+0200
TZOFFSETTO:+0100
DTSTART:19800928T030000
RRULE:FREQ=YEARLY;UNTIL=19950924T010000Z;BYMONTH=9;BYDAY=-1SU
END:STANDARD
BEGIN:DAYLIGHT
TZNAME:CEST
TZOFFSETFROM:+0100
TZOFFSETTO:+0200
DTSTART:19810329T020000
RRULE:FREQ=YEARLY;BYMONTH=3;BYDAY=-1SU
END:DAYLIGHT
BEGIN:STANDARD
TZNAME:CET
TZOFFSETFROM:+0200
TZOFFSETTO:+0100
DTSTART:19961027T030000
RRULE:FREQ=YEARLY;BYMONTH=10;BYDAY=-1SU
END:STANDARD
END:VTIMEZONE
BEGIN:VEVENT
DTSTAMP:20260423T174858Z
DTSTART;TZID=Europe/Berlin:20141125T181500
DTEND;TZID=Europe/Berlin:20141125T211500
SUMMARY:1. Kreisklasse SG 04 Niederbiel vs DJK SG 58 Dillenburg (25)
UID:600e4e45-b67b-3ce1-e053-1fc7a80a6bb5
STATUS:CONFIRMED
LAST-MODIFIED:20141204T203411Z
DESCRIPTION:Schüler 1. Kreisklasse\nBegegnungs-Nr: 25\nHeim: SG 04 Niederbiel\nGast: DJK SG 58 Dillenburg\n\nAdresse: Ringstr.\, 35606 Solms\n
LOCATION:Ringstr.\, 35606 Solms
CATEGORIES:Saison 2014/15
END:VEVENT
BEGIN:VEVENT
DTSTAMP:20260423T174858Z
DTSTART;TZID=Europe/Berlin:20141212T183000
DTEND;TZID=Europe/Berlin:20141212T213000
SUMMARY:1. Kreisklasse SG 04 Niederbiel vs TV 1901 Katzenfurt (5)
UID:600e4e45-999b-3ce1-e053-1fc7a80a6bb5
STATUS:CONFIRMED
LAST-MODIFIED:20150109T122345Z
DESCRIPTION:Schüler 1. Kreisklasse\nBegegnungs-Nr: 5\nHeim: SG 04 Niederbiel\nGast: TV 1901 Katzenfurt\n\nAdresse: Ringstr.\, 35606 Solms\n
LOCATION:Ringstr.\, 35606 Solms
CATEGORIES:Saison 2014/15
END:VEVENT
BEGIN:VEVENT
DTSTAMP:20260423T174858Z
DTSTART;TZID=Europe/Berlin:20150414T181500
DTEND;TZID=Europe/Berlin:20150414T211500
SUMMARY:1. Kreisklasse SG 04 Niederbiel vs TSV 1900 Fleisbach (29)
UID:600e4e45-99a3-3ce1-e053-1fc7a80a6bb5
STATUS:CONFIRMED
LAST-MODIFIED:20150423T211419Z
DESCRIPTION:Schüler 1. Kreisklasse\nBegegnungs-Nr: 29\nHeim: SG 04 Niederbiel\nGast: TSV 1900 Fleisbach\n\nAdresse: Ringstr.\, 35606 Solms\n
LOCATION:Ringstr.\, 35606 Solms
CATEGORIES:Saison 2014/15
END:VEVENT
BEGIN:VEVENT
DTSTAMP:20260423T174858Z
DTSTART;TZID=Europe/Berlin:20150120T181500
DTEND;TZID=Europe/Berlin:20150120T211500
SUMMARY:1. Kreisklasse SG 04 Niederbiel vs SG 1908 Oberbiel (1)
UID:600e4e45-9dbd-3ce1-e053-1fc7a80a6bb5
STATUS:CONFIRMED
LAST-MODIFIED:20150121T122657Z
DESCRIPTION:Schüler 1. Kreisklasse\nBegegnungs-Nr: 1\nHeim: SG 04 Niederbiel\nGast: SG 1908 Oberbiel\n\nAdresse: Ringstr.\, 35606 Solms\n
LOCATION:Ringstr.\, 35606 Solms
CATEGORIES:Saison 2014/15
END:VEVENT
BEGIN:VEVENT
DTSTAMP:20260423T174858Z
DTSTART;TZID=Europe/Berlin:20150203T181500
DTEND;TZID=Europe/Berlin:20150203T211500
SUMMARY:1. Kreisklasse SG 04 Niederbiel vs TV 1894 Braunfels II (9)
UID:600e4e45-9dc1-3ce1-e053-1fc7a80a6bb5
STATUS:CONFIRMED
LAST-MODIFIED:20150204T195341Z
DESCRIPTION:Schüler 1. Kreisklasse\nBegegnungs-Nr: 9\nHeim: SG 04 Niederbiel\nGast: TV 1894 Braunfels II\n\nAdresse: Ringstr.\, 35606 Solms\n
LOCATION:Ringstr.\, 35606 Solms
CATEGORIES:Saison 2014/15
END:VEVENT
BEGIN:VEVENT
DTSTAMP:20260423T174858Z
DTSTART;TZID=Europe/Berlin:20141209T181500
DTEND;TZID=Europe/Berlin:20141209T211500
SUMMARY:1. Kreisklasse SG 04 Niederbiel vs TTC Merkenbach 1984 II (34)
UID:600e4e45-b675-3ce1-e053-1fc7a80a6bb5
STATUS:CONFIRMED
LAST-MODIFIED:20150108T184041Z
DESCRIPTION:Schüler 1. Kreisklasse\nBegegnungs-Nr: 34\nHeim: SG 04 Niederbiel\nGast: TTC Merkenbach 1984 II\n\nAdresse: Ringstr.\, 35606 Solms\n
LOCATION:Ringstr.\, 35606 Solms
CATEGORIES:Saison 2014/15
END:VEVENT
BEGIN:VEVENT
DTSTAMP:20260423T174858Z
DTSTART;TZID=Europe/Berlin:20141111T181500
DTEND;TZID=Europe/Berlin:20141111T211500
SUMMARY:1. Kreisklasse SG 04 Niederbiel vs TTC Siegbach II (17)
UID:600e4e45-b67f-3ce1-e053-1fc7a80a6bb5
STATUS:CONFIRMED
LAST-MODIFIED:20141123T045138Z
DESCRIPTION:Schüler 1. Kreisklasse\nBegegnungs-Nr: 17\nHeim: SG 04 Niederbiel\nGast: TTC Siegbach II\n\nAdresse: Ringstr.\, 35606 Solms\n
LOCATION:Ringstr.\, 35606 Solms
CATEGORIES:Saison 2014/15
END:VEVENT
BEGIN:VEVENT
DTSTAMP:20260423T174858Z
DTSTART;TZID=Europe/Berlin:20150310T181500
DTEND;TZID=Europe/Berlin:20150310T211500
SUMMARY:1. Kreisklasse SG 04 Niederbiel vs TSV 1908 Garbenheim (21)
UID:600e4e59-8b26-3ce1-e053-1fc7a80a6bb5
STATUS:CONFIRMED
LAST-MODIFIED:20150322T110151Z
DESCRIPTION:Schüler 1. Kreisklasse\nBegegnungs-Nr: 21\nHeim: SG 04 Niederbiel\nGast: TSV 1908 Garbenheim\n\nAdresse: Ringstr.\, 35606 Solms\n
LOCATION:Ringstr.\, 35606 Solms
CATEGORIES:Saison 2014/15
END:VEVENT
BEGIN:VEVENT
DTSTAMP:20260423T174858Z
DTSTART;TZID=Europe/Berlin:20141010T180000
DTEND;TZID=Europe/Berlin:20141010T210000
SUMMARY:1. Kreisklasse TV 1894 Braunfels II vs SG 04 Niederbiel (9)
UID:600e4e45-9999-3ce1-e053-1fc7a80a6bb5
STATUS:CONFIRMED
LAST-MODIFIED:20141018T145614Z
DESCRIPTION:Schüler 1. Kreisklasse\nBegegnungs-Nr: 9\nHeim: TV 1894 Braunfels II\nGast: SG 04 Niederbiel\n\nAdresse: Felsenkellerweg\, 35619  Braunfels\n
LOCATION:Felsenkellerweg\, 35619  Braunfels
CATEGORIES:Saison 2014/15
END:VEVENT
BEGIN:VEVENT
DTSTAMP:20260423T174858Z
DTSTART;TZID=Europe/Berlin:20140926T180000
DTEND;TZID=Europe/Berlin:20140926T210000
SUMMARY:1. Kreisklasse SG 1908 Oberbiel vs SG 04 Niederbiel (2)
UID:600e4e45-999e-3ce1-e053-1fc7a80a6bb5
STATUS:CONFIRMED
LAST-MODIFIED:20141018T145945Z
DESCRIPTION:Schüler 1. Kreisklasse\nBegegnungs-Nr: 2\nHeim: SG 1908 Oberbiel\nGast: SG 04 Niederbiel\n\nAdresse: Norrstr.\, 35606 Solms-Oberbiel\n
LOCATION:Norrstr.\, 35606 Solms-Oberbiel
CATEGORIES:Saison 2014/15
END:VEVENT
BEGIN:VEVENT
DTSTAMP:20260423T174858Z
DTSTART;TZID=Europe/Berlin:20150227T173000
DTEND;TZID=Europe/Berlin:20150227T203000
SUMMARY:1. Kreisklasse DJK SG 58 Dillenburg vs SG 04 Niederbiel (26)
UID:600e4e45-9db7-3ce1-e053-1fc7a80a6bb5
STATUS:CONFIRMED
LAST-MODIFIED:20150322T110027Z
DESCRIPTION:Schüler 1. Kreisklasse\nBegegnungs-Nr: 26\nHeim: DJK SG 58 Dillenburg\nGast: SG 04 Niederbiel\n\nAdresse: Hofgartenstraße (nähe Sparkasse)\, 35683 Dillenburg\n
LOCATION:Hofgartenstraße (nähe Sparkasse)\, 35683 Dillenburg
CATEGORIES:Saison 2014/15
END:VEVENT
BEGIN:VEVENT
DTSTAMP:20260423T174858Z
DTSTART;TZID=Europe/Berlin:20150424T181500
DTEND;TZID=Europe/Berlin:20150424T211500
SUMMARY:1. Kreisklasse TTC Merkenbach 1984 II vs SG 04 Niederbiel (36)
UID:600e4e45-9dbb-3ce1-e053-1fc7a80a6bb5
STATUS:CONFIRMED
LAST-MODIFIED:20150427T113810Z
DESCRIPTION:Schüler 1. Kreisklasse\nBegegnungs-Nr: 36\nHeim: TTC Merkenbach 1984 II\nGast: SG 04 Niederbiel\n\nAdresse: Jahnstraße\, 35745 Herborn-Merkenbach\n
LOCATION:Jahnstraße\, 35745 Herborn-Merkenbach
CATEGORIES:Saison 2014/15
END:VEVENT
BEGIN:VEVENT
DTSTAMP:20260423T174858Z
DTSTART;TZID=Europe/Berlin:20150304T181500
DTEND;TZID=Europe/Berlin:20150304T211500
SUMMARY:1. Kreisklasse TTC Siegbach II vs SG 04 Niederbiel (18)
UID:600e4e45-9dbc-3ce1-e053-1fc7a80a6bb5
STATUS:CONFIRMED
LAST-MODIFIED:20150322T110058Z
DESCRIPTION:Schüler 1. Kreisklasse\nBegegnungs-Nr: 18\nHeim: TTC Siegbach II\nGast: SG 04 Niederbiel\n\nAdresse: Austraße 30\, 35768 Siegbach-Eisemroth\n
LOCATION:Austraße 30\, 35768 Siegbach-Eisemroth
CATEGORIES:Saison 2014/15
END:VEVENT
BEGIN:VEVENT
DTSTAMP:20260423T174858Z
DTSTART;TZID=Europe/Berlin:20150131T141500
DTEND;TZID=Europe/Berlin:20150131T171500
SUMMARY:1. Kreisklasse TV 1901 Katzenfurt vs SG 04 Niederbiel (8)
UID:600e4e45-9dc2-3ce1-e053-1fc7a80a6bb5
STATUS:CONFIRMED
LAST-MODIFIED:20150203T154535Z
DESCRIPTION:Schüler 1. Kreisklasse\nBegegnungs-Nr: 8\nHeim: TV 1901 Katzenfurt\nGast: SG 04 Niederbiel\n\nAdresse: Dünnackerstr. 22\, 35630 Ehringshausen-Katzenfurt\n
LOCATION:Dünnackerstr. 22\, 35630 Ehringshausen-Katzenfurt
CATEGORIES:Saison 2014/15
END:VEVENT
BEGIN:VEVENT
DTSTAMP:20260423T174858Z
DTSTART;TZID=Europe/Berlin:20141205T180000
DTEND;TZID=Europe/Berlin:20141205T210000
SUMMARY:1. Kreisklasse TSV 1900 Fleisbach vs SG 04 Niederbiel (31)
UID:600e4e45-b677-3ce1-e053-1fc7a80a6bb5
STATUS:CONFIRMED
LAST-MODIFIED:20150108T183724Z
DESCRIPTION:Schüler 1. Kreisklasse\nBegegnungs-Nr: 31\nHeim: TSV 1900 Fleisbach\nGast: SG 04 Niederbiel\n\nAdresse: Hauptstraße 18a\, 35764 Fleisbach\n
LOCATION:Hauptstraße 18a\, 35764 Fleisbach
CATEGORIES:Saison 2014/15
END:VEVENT
BEGIN:VEVENT
DTSTAMP:20260423T174858Z
DTSTART;TZID=Europe/Berlin:20141211T181500
DTEND;TZID=Europe/Berlin:20141211T211500
SUMMARY:1. Kreisklasse TSV 1908 Garbenheim vs SG 04 Niederbiel (21)
UID:600e4e45-e2a8-3ce1-e053-1fc7a80a6bb5
STATUS:CONFIRMED
LAST-MODIFIED:20150108T184135Z
DESCRIPTION:Schüler 1. Kreisklasse\nBegegnungs-Nr: 21\nHeim: TSV 1908 Garbenheim\nGast: SG 04 Niederbiel\n\nAdresse: Wiesenstr.11\, 35583 Wetzlar\n
LOCATION:Wiesenstr.11\, 35583 Wetzlar
CATEGORIES:Saison 2014/15
END:VEVENT
END:VCALENDAR
