BEGIN:VCALENDAR
PRODID:-//nuDatenautomaten//framework iCal4j //DE
VERSION:2.0
CALSCALE:GREGORIAN
BEGIN:VTIMEZONE
TZID:Europe/Berlin
LAST-MODIFIED:20260306T231828Z
TZURL:https://www.tzurl.org/zoneinfo/Europe/Berlin
X-LIC-LOCATION:Europe/Berlin
X-PROLEPTIC-TZNAME:LMT
BEGIN:STANDARD
TZNAME:CET
TZOFFSETFROM:+005328
TZOFFSETTO:+0100
DTSTART:18930401T000000
END:STANDARD
BEGIN:DAYLIGHT
TZNAME:CEST
TZOFFSETFROM:+0100
TZOFFSETTO:+0200
DTSTART:19160430T230000
RDATE:19400401T020000
RDATE:19430329T020000
RDATE:19460414T020000
RDATE:19470406T030000
RDATE:19480418T020000
RDATE:19490410T020000
RDATE:19800406T020000
END:DAYLIGHT
BEGIN:STANDARD
TZNAME:CET
TZOFFSETFROM:+0200
TZOFFSETTO:+0100
DTSTART:19161001T010000
RDATE:19421102T030000
RDATE:19431004T030000
RDATE:19441002T030000
RDATE:19451118T030000
RDATE:19461007T030000
END:STANDARD
BEGIN:DAYLIGHT
TZNAME:CEST
TZOFFSETFROM:+0100
TZOFFSETTO:+0200
DTSTART:19170416T020000
RRULE:FREQ=YEARLY;UNTIL=19180415T010000Z;BYMONTH=4;BYDAY=3MO
END:DAYLIGHT
BEGIN:STANDARD
TZNAME:CET
TZOFFSETFROM:+0200
TZOFFSETTO:+0100
DTSTART:19170917T030000
RRULE:FREQ=YEARLY;UNTIL=19180916T010000Z;BYMONTH=9;BYDAY=3MO
END:STANDARD
BEGIN:DAYLIGHT
TZNAME:CEST
TZOFFSETFROM:+0100
TZOFFSETTO:+0200
DTSTART:19440403T020000
RRULE:FREQ=YEARLY;UNTIL=19450402T010000Z;BYMONTH=4;BYDAY=1MO
END:DAYLIGHT
BEGIN:DAYLIGHT
TZNAME:CEMT
TZOFFSETFROM:+0200
TZOFFSETTO:+0300
DTSTART:19450524T020000
RDATE:19470511T030000
END:DAYLIGHT
BEGIN:DAYLIGHT
TZNAME:CEST
TZOFFSETFROM:+0300
TZOFFSETTO:+0200
DTSTART:19450924T030000
RDATE:19470629T030000
END:DAYLIGHT
BEGIN:STANDARD
TZNAME:CET
TZOFFSETFROM:+0100
TZOFFSETTO:+0100
DTSTART:19460101T000000
RDATE:19800101T000000
END:STANDARD
BEGIN:STANDARD
TZNAME:CET
TZOFFSETFROM:+0200
TZOFFSETTO:+0100
DTSTART:19471005T030000
RRULE:FREQ=YEARLY;UNTIL=19491002T010000Z;BYMONTH=10;BYDAY=1SU
END:STANDARD
BEGIN:STANDARD
TZNAME:CET
TZOFFSETFROM:+0200
TZOFFSETTO:+0100
DTSTART:19800928T030000
RRULE:FREQ=YEARLY;UNTIL=19950924T010000Z;BYMONTH=9;BYDAY=-1SU
END:STANDARD
BEGIN:DAYLIGHT
TZNAME:CEST
TZOFFSETFROM:+0100
TZOFFSETTO:+0200
DTSTART:19810329T020000
RRULE:FREQ=YEARLY;BYMONTH=3;BYDAY=-1SU
END:DAYLIGHT
BEGIN:STANDARD
TZNAME:CET
TZOFFSETFROM:+0200
TZOFFSETTO:+0100
DTSTART:19961027T030000
RRULE:FREQ=YEARLY;BYMONTH=10;BYDAY=-1SU
END:STANDARD
END:VTIMEZONE
BEGIN:VEVENT
DTSTAMP:20260423T044444Z
DTSTART;TZID=Europe/Berlin:20160213T180000
DTEND;TZID=Europe/Berlin:20160213T210000
SUMMARY:Bezirksoberliga Gr. 1 TTC 1961 Burghasungen II vs TTC 1951 Ginseldorf (18)
UID:600e4e52-4219-3ce1-e053-1fc7a80a6bb5
STATUS:CONFIRMED
LAST-MODIFIED:20160219T221128Z
DESCRIPTION:Herren Bezirksoberliga Gr. 1\nBegegnungs-Nr: 18\nHeim: TTC 1961 Burghasungen II\nGast: TTC 1951 Ginseldorf\n\nAdresse: Zum Steinborn 1\, 34289 Zierenberg\n
LOCATION:Zum Steinborn 1\, 34289 Zierenberg
CATEGORIES:Saison 2015/16
END:VEVENT
BEGIN:VEVENT
DTSTAMP:20260423T044444Z
DTSTART;TZID=Europe/Berlin:20160423T150000
DTEND;TZID=Europe/Berlin:20160423T180000
SUMMARY:Bezirksoberliga Gr. 1 TTC 1961 Burghasungen II vs TTV 1994 Korbach (53)
UID:600e4e49-7ac8-3ce1-e053-1fc7a80a6bb5
STATUS:CONFIRMED
LAST-MODIFIED:20160425T090234Z
DESCRIPTION:Herren Bezirksoberliga Gr. 1\nBegegnungs-Nr: 53\nHeim: TTC 1961 Burghasungen II\nGast: TTV 1994 Korbach\n\nAdresse: Zum Steinborn 1\, 34289 Zierenberg\n
LOCATION:Zum Steinborn 1\, 34289 Zierenberg
CATEGORIES:Saison 2015/16
END:VEVENT
BEGIN:VEVENT
DTSTAMP:20260423T044444Z
DTSTART;TZID=Europe/Berlin:20151017T180000
DTEND;TZID=Europe/Berlin:20151017T210000
SUMMARY:Bezirksoberliga Gr. 1 TTC 1961 Burghasungen II vs TSV 1906 Eintr. Naumburg (19)
UID:600e4e4a-54a9-3ce1-e053-1fc7a80a6bb5
STATUS:CONFIRMED
LAST-MODIFIED:20151024T184416Z
DESCRIPTION:Herren Bezirksoberliga Gr. 1\nBegegnungs-Nr: 19\nHeim: TTC 1961 Burghasungen II\nGast: TSV 1906 Eintr. Naumburg\n\nAdresse: Zum Steinborn 1\, 34289 Zierenberg\n
LOCATION:Zum Steinborn 1\, 34289 Zierenberg
CATEGORIES:Saison 2015/16
END:VEVENT
BEGIN:VEVENT
DTSTAMP:20260423T044444Z
DTSTART;TZID=Europe/Berlin:20150926T180000
DTEND;TZID=Europe/Berlin:20150926T210000
SUMMARY:Bezirksoberliga Gr. 1 TTC 1961 Burghasungen II vs TTC 1967 Hofgeismar II (6)
UID:600e4e49-6fca-3ce1-e053-1fc7a80a6bb5
STATUS:CONFIRMED
LAST-MODIFIED:20151004T190403Z
DESCRIPTION:Herren Bezirksoberliga Gr. 1\nBegegnungs-Nr: 6\nHeim: TTC 1961 Burghasungen II\nGast: TTC 1967 Hofgeismar II\n\nAdresse: Zum Steinborn 1\, 34289 Zierenberg\n
LOCATION:Zum Steinborn 1\, 34289 Zierenberg
CATEGORIES:Saison 2015/16
END:VEVENT
BEGIN:VEVENT
DTSTAMP:20260423T044444Z
DTSTART;TZID=Europe/Berlin:20151205T180000
DTEND;TZID=Europe/Berlin:20151205T210000
SUMMARY:Bezirksoberliga Gr. 1 TTC 1961 Burghasungen II vs SC Niestetal (47)
UID:600e4e49-6fcf-3ce1-e053-1fc7a80a6bb5
STATUS:CONFIRMED
LAST-MODIFIED:20151213T080836Z
DESCRIPTION:Herren Bezirksoberliga Gr. 1\nBegegnungs-Nr: 47\nHeim: TTC 1961 Burghasungen II\nGast: SC Niestetal\n\nAdresse: Zum Steinborn 1\, 34289 Zierenberg\n
LOCATION:Zum Steinborn 1\, 34289 Zierenberg
CATEGORIES:Saison 2015/16
END:VEVENT
BEGIN:VEVENT
DTSTAMP:20260423T044444Z
DTSTART;TZID=Europe/Berlin:20151121T193000
DTEND;TZID=Europe/Berlin:20151121T223000
SUMMARY:Bezirksoberliga Gr. 1 TTC 1961 Burghasungen II vs TTC Ederbergland (36)
UID:600e4e49-6fd6-3ce1-e053-1fc7a80a6bb5
STATUS:CONFIRMED
LAST-MODIFIED:20151125T231057Z
DESCRIPTION:Herren Bezirksoberliga Gr. 1\nBegegnungs-Nr: 36\nHeim: TTC 1961 Burghasungen II\nGast: TTC Ederbergland\n\nAdresse: Zum Steinborn 1\, 34289 Zierenberg\n
LOCATION:Zum Steinborn 1\, 34289 Zierenberg
CATEGORIES:Saison 2015/16
END:VEVENT
BEGIN:VEVENT
DTSTAMP:20260423T044444Z
DTSTART;TZID=Europe/Berlin:20160319T180000
DTEND;TZID=Europe/Berlin:20160319T210000
SUMMARY:Bezirksoberliga Gr. 1 TTC 1961 Burghasungen II vs TTC 1952 Anzefahr (42)
UID:600e4e49-771d-3ce1-e053-1fc7a80a6bb5
STATUS:CONFIRMED
LAST-MODIFIED:20160325T104606Z
DESCRIPTION:Herren Bezirksoberliga Gr. 1\nBegegnungs-Nr: 42\nHeim: TTC 1961 Burghasungen II\nGast: TTC 1952 Anzefahr\n\nAdresse: Zum Steinborn 1\, 34289 Zierenberg\n
LOCATION:Zum Steinborn 1\, 34289 Zierenberg
CATEGORIES:Saison 2015/16
END:VEVENT
BEGIN:VEVENT
DTSTAMP:20260423T044444Z
DTSTART;TZID=Europe/Berlin:20160130T180000
DTEND;TZID=Europe/Berlin:20160130T210000
SUMMARY:Bezirksoberliga Gr. 1 TTC 1961 Burghasungen II vs TTC Eintr.Burgh.-Kirchhain (13)
UID:600e4e49-7acb-3ce1-e053-1fc7a80a6bb5
STATUS:CONFIRMED
LAST-MODIFIED:20160209T170713Z
DESCRIPTION:Herren Bezirksoberliga Gr. 1\nBegegnungs-Nr: 13\nHeim: TTC 1961 Burghasungen II\nGast: TTC Eintr.Burgh.-Kirchhain\n\nAdresse: Zum Steinborn 1\, 34289 Zierenberg\n
LOCATION:Zum Steinborn 1\, 34289 Zierenberg
CATEGORIES:Saison 2015/16
END:VEVENT
BEGIN:VEVENT
DTSTAMP:20260423T044444Z
DTSTART;TZID=Europe/Berlin:20160220T180000
DTEND;TZID=Europe/Berlin:20160220T210000
SUMMARY:Bezirksoberliga Gr. 1 TTC 1961 Burghasungen II vs TSV 1945 Ihringshausen II (24)
UID:600e4e49-7acd-3ce1-e053-1fc7a80a6bb5
STATUS:CONFIRMED
LAST-MODIFIED:20160224T100552Z
DESCRIPTION:Herren Bezirksoberliga Gr. 1\nBegegnungs-Nr: 24\nHeim: TTC 1961 Burghasungen II\nGast: TSV 1945 Ihringshausen II\n\nAdresse: Zum Steinborn 1\, 34289 Zierenberg\n
LOCATION:Zum Steinborn 1\, 34289 Zierenberg
CATEGORIES:Saison 2015/16
END:VEVENT
BEGIN:VEVENT
DTSTAMP:20260423T044444Z
DTSTART;TZID=Europe/Berlin:20160227T203000
DTEND;TZID=Europe/Berlin:20160227T233000
SUMMARY:Bezirksoberliga Gr. 1 TTC 1961 Burghasungen II vs VfL Marburg 1860 (31)
UID:600e4e5a-d474-3ce1-e053-1fc7a80a6bb5
STATUS:CONFIRMED
LAST-MODIFIED:20160301T231248Z
DESCRIPTION:Herren Bezirksoberliga Gr. 1\nBegegnungs-Nr: 31\nHeim: TTC 1961 Burghasungen II\nGast: VfL Marburg 1860\n\nAdresse: Zum Steinborn 1\, 34289 Zierenberg\n
LOCATION:Zum Steinborn 1\, 34289 Zierenberg
CATEGORIES:Saison 2015/16
END:VEVENT
BEGIN:VEVENT
DTSTAMP:20260423T044444Z
DTSTART;TZID=Europe/Berlin:20151114T190000
DTEND;TZID=Europe/Berlin:20151114T220000
SUMMARY:Bezirksoberliga Gr. 1 VfL Marburg 1860 vs TTC 1961 Burghasungen II (30)
UID:600e4e55-581b-3ce1-e053-1fc7a80a6bb5
STATUS:CONFIRMED
LAST-MODIFIED:20151116T121345Z
DESCRIPTION:Herren Bezirksoberliga Gr. 1\nBegegnungs-Nr: 30\nHeim: VfL Marburg 1860\nGast: TTC 1961 Burghasungen II\n\nAdresse: Am Schwanhof 50\, 35037  Marburg\n
LOCATION:Am Schwanhof 50\, 35037  Marburg
CATEGORIES:Saison 2015/16
END:VEVENT
BEGIN:VEVENT
DTSTAMP:20260423T044444Z
DTSTART;TZID=Europe/Berlin:20151128T180000
DTEND;TZID=Europe/Berlin:20151128T210000
SUMMARY:Bezirksoberliga Gr. 1 TTC 1951 Ginseldorf vs TTC 1961 Burghasungen II (40)
UID:600e4e55-5829-3ce1-e053-1fc7a80a6bb5
STATUS:CONFIRMED
LAST-MODIFIED:20151202T001410Z
DESCRIPTION:Herren Bezirksoberliga Gr. 1\nBegegnungs-Nr: 40\nHeim: TTC 1951 Ginseldorf\nGast: TTC 1961 Burghasungen II\n\nAdresse: Rinnweg\, 35043 Marburg-Ginseldorf\n
LOCATION:Rinnweg\, 35043 Marburg-Ginseldorf
CATEGORIES:Saison 2015/16
END:VEVENT
BEGIN:VEVENT
DTSTAMP:20260423T044444Z
DTSTART;TZID=Europe/Berlin:20160214T100000
DTEND;TZID=Europe/Berlin:20160214T130000
SUMMARY:Bezirksoberliga Gr. 1 TTC Ederbergland vs TTC 1961 Burghasungen II (20)
UID:600e4e4c-cea4-3ce1-e053-1fc7a80a6bb5
STATUS:CONFIRMED
LAST-MODIFIED:20160219T221230Z
DESCRIPTION:Herren Bezirksoberliga Gr. 1\nBegegnungs-Nr: 20\nHeim: TTC Ederbergland\nGast: TTC 1961 Burghasungen II\n\nAdresse: Am Sportplatz\, 35108 Allendorf\n
LOCATION:Am Sportplatz\, 35108 Allendorf
CATEGORIES:Saison 2015/16
END:VEVENT
BEGIN:VEVENT
DTSTAMP:20260423T044444Z
DTSTART;TZID=Europe/Berlin:20160116T170000
DTEND;TZID=Europe/Berlin:20160116T200000
SUMMARY:Bezirksoberliga Gr. 1 TSV 1906 Eintr. Naumburg vs TTC 1961 Burghasungen II (3)
UID:600e4e4d-4195-3ce1-e053-1fc7a80a6bb5
STATUS:CONFIRMED
LAST-MODIFIED:20160124T195515Z
DESCRIPTION:Herren Bezirksoberliga Gr. 1\nBegegnungs-Nr: 3\nHeim: TSV 1906 Eintr. Naumburg\nGast: TTC 1961 Burghasungen II\n\nAdresse: Am Kuhberg\, 34311 Naumburg\n
LOCATION:Am Kuhberg\, 34311 Naumburg
CATEGORIES:Saison 2015/16
END:VEVENT
BEGIN:VEVENT
DTSTAMP:20260423T044444Z
DTSTART;TZID=Europe/Berlin:20151107T170000
DTEND;TZID=Europe/Berlin:20151107T200000
SUMMARY:Bezirksoberliga Gr. 1 TTC 1952 Anzefahr vs TTC 1961 Burghasungen II (23)
UID:600e4e4a-c8d7-3ce1-e053-1fc7a80a6bb5
STATUS:CONFIRMED
LAST-MODIFIED:20151116T120853Z
DESCRIPTION:Herren Bezirksoberliga Gr. 1\nBegegnungs-Nr: 23\nHeim: TTC 1952 Anzefahr\nGast: TTC 1961 Burghasungen II\n\nAdresse: Sindersfelderstr.\, 35274 Kirchhain-Anzefahr\n
LOCATION:Sindersfelderstr.\, 35274 Kirchhain-Anzefahr
CATEGORIES:Saison 2015/16
END:VEVENT
BEGIN:VEVENT
DTSTAMP:20260423T044444Z
DTSTART;TZID=Europe/Berlin:20151023T203000
DTEND;TZID=Europe/Berlin:20151023T233000
SUMMARY:Bezirksoberliga Gr. 1 TTC Eintr.Burgh.-Kirchhain vs TTC 1961 Burghasungen II (21)
UID:600e4e49-6c30-3ce1-e053-1fc7a80a6bb5
STATUS:CONFIRMED
LAST-MODIFIED:20151024T184617Z
DESCRIPTION:Herren Bezirksoberliga Gr. 1\nBegegnungs-Nr: 21\nHeim: TTC Eintr.Burgh.-Kirchhain\nGast: TTC 1961 Burghasungen II\n\nAdresse: Erlenstraße\, 35274 Kirchhain\n
LOCATION:Erlenstraße\, 35274 Kirchhain
CATEGORIES:Saison 2015/16
END:VEVENT
BEGIN:VEVENT
DTSTAMP:20260423T044444Z
DTSTART;TZID=Europe/Berlin:20151127T203000
DTEND;TZID=Europe/Berlin:20151127T233000
SUMMARY:Bezirksoberliga Gr. 1 TSV 1945 Ihringshausen II vs TTC 1961 Burghasungen II (38)
UID:600e4e49-6c34-3ce1-e053-1fc7a80a6bb5
STATUS:CONFIRMED
LAST-MODIFIED:20151202T001140Z
DESCRIPTION:Herren Bezirksoberliga Gr. 1\nBegegnungs-Nr: 38\nHeim: TSV 1945 Ihringshausen II\nGast: TTC 1961 Burghasungen II\n\nAdresse: Grebenstraße\, 34233 Fuldatal\n
LOCATION:Grebenstraße\, 34233 Fuldatal
CATEGORIES:Saison 2015/16
END:VEVENT
BEGIN:VEVENT
DTSTAMP:20260423T044444Z
DTSTART;TZID=Europe/Berlin:20151011T100000
DTEND;TZID=Europe/Berlin:20151011T130000
SUMMARY:Bezirksoberliga Gr. 1 TTV 1994 Korbach vs TTC 1961 Burghasungen II (16)
UID:600e4e49-7372-3ce1-e053-1fc7a80a6bb5
STATUS:CONFIRMED
LAST-MODIFIED:20151015T145636Z
DESCRIPTION:Herren Bezirksoberliga Gr. 1\nBegegnungs-Nr: 16\nHeim: TTV 1994 Korbach\nGast: TTC 1961 Burghasungen II\n\nAdresse: Christian Paul Str. 6\, 34497 Korbach\n
LOCATION:Christian Paul Str. 6\, 34497 Korbach
CATEGORIES:Saison 2015/16
END:VEVENT
BEGIN:VEVENT
DTSTAMP:20260423T044444Z
DTSTART;TZID=Europe/Berlin:20160416T170000
DTEND;TZID=Europe/Berlin:20160416T200000
SUMMARY:Bezirksoberliga Gr. 1 SC Niestetal vs TTC 1961 Burghasungen II (47)
UID:600e4e49-7719-3ce1-e053-1fc7a80a6bb5
STATUS:CONFIRMED
LAST-MODIFIED:20160423T210330Z
DESCRIPTION:Herren Bezirksoberliga Gr. 1\nBegegnungs-Nr: 47\nHeim: SC Niestetal\nGast: TTC 1961 Burghasungen II\n\nAdresse: Karl-Marx-Str.\, 34266 Niestetal-Heiligenrode\n
LOCATION:Karl-Marx-Str.\, 34266 Niestetal-Heiligenrode
CATEGORIES:Saison 2015/16
END:VEVENT
BEGIN:VEVENT
DTSTAMP:20260423T044444Z
DTSTART;TZID=Europe/Berlin:20160226T203000
DTEND;TZID=Europe/Berlin:20160226T233000
SUMMARY:Bezirksoberliga Gr. 1 TTC 1967 Hofgeismar II vs TTC 1961 Burghasungen II (27)
UID:600e4e5a-1292-3ce1-e053-1fc7a80a6bb5
STATUS:CONFIRMED
LAST-MODIFIED:20160301T231109Z
DESCRIPTION:Herren Bezirksoberliga Gr. 1\nBegegnungs-Nr: 27\nHeim: TTC 1967 Hofgeismar II\nGast: TTC 1961 Burghasungen II\n\nAdresse: Würfelturmstr. gegenüber Haus-Nr. 2\, 34369 Hofgeismar\n
LOCATION:Würfelturmstr. gegenüber Haus-Nr. 2\, 34369 Hofgeismar
CATEGORIES:Saison 2015/16
END:VEVENT
END:VCALENDAR
