BEGIN:VCALENDAR
PRODID:-//nuDatenautomaten//framework iCal4j //DE
VERSION:2.0
CALSCALE:GREGORIAN
BEGIN:VTIMEZONE
TZID:Europe/Berlin
LAST-MODIFIED:20260306T231828Z
TZURL:https://www.tzurl.org/zoneinfo/Europe/Berlin
X-LIC-LOCATION:Europe/Berlin
X-PROLEPTIC-TZNAME:LMT
BEGIN:STANDARD
TZNAME:CET
TZOFFSETFROM:+005328
TZOFFSETTO:+0100
DTSTART:18930401T000000
END:STANDARD
BEGIN:DAYLIGHT
TZNAME:CEST
TZOFFSETFROM:+0100
TZOFFSETTO:+0200
DTSTART:19160430T230000
RDATE:19400401T020000
RDATE:19430329T020000
RDATE:19460414T020000
RDATE:19470406T030000
RDATE:19480418T020000
RDATE:19490410T020000
RDATE:19800406T020000
END:DAYLIGHT
BEGIN:STANDARD
TZNAME:CET
TZOFFSETFROM:+0200
TZOFFSETTO:+0100
DTSTART:19161001T010000
RDATE:19421102T030000
RDATE:19431004T030000
RDATE:19441002T030000
RDATE:19451118T030000
RDATE:19461007T030000
END:STANDARD
BEGIN:DAYLIGHT
TZNAME:CEST
TZOFFSETFROM:+0100
TZOFFSETTO:+0200
DTSTART:19170416T020000
RRULE:FREQ=YEARLY;UNTIL=19180415T010000Z;BYMONTH=4;BYDAY=3MO
END:DAYLIGHT
BEGIN:STANDARD
TZNAME:CET
TZOFFSETFROM:+0200
TZOFFSETTO:+0100
DTSTART:19170917T030000
RRULE:FREQ=YEARLY;UNTIL=19180916T010000Z;BYMONTH=9;BYDAY=3MO
END:STANDARD
BEGIN:DAYLIGHT
TZNAME:CEST
TZOFFSETFROM:+0100
TZOFFSETTO:+0200
DTSTART:19440403T020000
RRULE:FREQ=YEARLY;UNTIL=19450402T010000Z;BYMONTH=4;BYDAY=1MO
END:DAYLIGHT
BEGIN:DAYLIGHT
TZNAME:CEMT
TZOFFSETFROM:+0200
TZOFFSETTO:+0300
DTSTART:19450524T020000
RDATE:19470511T030000
END:DAYLIGHT
BEGIN:DAYLIGHT
TZNAME:CEST
TZOFFSETFROM:+0300
TZOFFSETTO:+0200
DTSTART:19450924T030000
RDATE:19470629T030000
END:DAYLIGHT
BEGIN:STANDARD
TZNAME:CET
TZOFFSETFROM:+0100
TZOFFSETTO:+0100
DTSTART:19460101T000000
RDATE:19800101T000000
END:STANDARD
BEGIN:STANDARD
TZNAME:CET
TZOFFSETFROM:+0200
TZOFFSETTO:+0100
DTSTART:19471005T030000
RRULE:FREQ=YEARLY;UNTIL=19491002T010000Z;BYMONTH=10;BYDAY=1SU
END:STANDARD
BEGIN:STANDARD
TZNAME:CET
TZOFFSETFROM:+0200
TZOFFSETTO:+0100
DTSTART:19800928T030000
RRULE:FREQ=YEARLY;UNTIL=19950924T010000Z;BYMONTH=9;BYDAY=-1SU
END:STANDARD
BEGIN:DAYLIGHT
TZNAME:CEST
TZOFFSETFROM:+0100
TZOFFSETTO:+0200
DTSTART:19810329T020000
RRULE:FREQ=YEARLY;BYMONTH=3;BYDAY=-1SU
END:DAYLIGHT
BEGIN:STANDARD
TZNAME:CET
TZOFFSETFROM:+0200
TZOFFSETTO:+0100
DTSTART:19961027T030000
RRULE:FREQ=YEARLY;BYMONTH=10;BYDAY=-1SU
END:STANDARD
END:VTIMEZONE
BEGIN:VEVENT
DTSTAMP:20260423T194518Z
DTSTART;TZID=Europe/Berlin:20151102T183000
DTEND;TZID=Europe/Berlin:20151102T213000
SUMMARY:Kreisliga SV Kaufungen vs Kasseler Spvgg. Auedamm (18)
UID:600e4e4b-ef36-3ce1-e053-1fc7a80a6bb5
STATUS:CONFIRMED
LAST-MODIFIED:20151104T192743Z
DESCRIPTION:Männliche Jugend Kreisliga\nBegegnungs-Nr: 18\nHeim: SV Kaufungen\nGast: Kasseler Spvgg. Auedamm\n\nAdresse: Friedrich Ebert Straße 28\, 34260 Kaufungen\n
LOCATION:Friedrich Ebert Straße 28\, 34260 Kaufungen
CATEGORIES:Saison 2015/16
END:VEVENT
BEGIN:VEVENT
DTSTAMP:20260423T194518Z
DTSTART;TZID=Europe/Berlin:20151016T183000
DTEND;TZID=Europe/Berlin:20151016T213000
SUMMARY:Kreisliga SV Kaufungen vs TuS 1908 Meimbressen (17)
UID:600e4e49-3a44-3ce1-e053-1fc7a80a6bb5
STATUS:CONFIRMED
LAST-MODIFIED:20151022T161333Z
DESCRIPTION:Männliche Jugend Kreisliga\nBegegnungs-Nr: 17\nHeim: SV Kaufungen\nGast: TuS 1908 Meimbressen\n\nAdresse: Friedrich Ebert Straße 28\, 34260 Kaufungen\n
LOCATION:Friedrich Ebert Straße 28\, 34260 Kaufungen
CATEGORIES:Saison 2015/16
END:VEVENT
BEGIN:VEVENT
DTSTAMP:20260423T194518Z
DTSTART;TZID=Europe/Berlin:20151130T183000
DTEND;TZID=Europe/Berlin:20151130T213000
SUMMARY:Kreisliga SV Kaufungen vs TSV 1921 Wenigenhasungen (36)
UID:600e4e49-3a45-3ce1-e053-1fc7a80a6bb5
STATUS:CONFIRMED
LAST-MODIFIED:20151216T185612Z
DESCRIPTION:Männliche Jugend Kreisliga\nBegegnungs-Nr: 36\nHeim: SV Kaufungen\nGast: TSV 1921 Wenigenhasungen\n\nAdresse: Friedrich Ebert Straße 28\, 34260 Kaufungen\n
LOCATION:Friedrich Ebert Straße 28\, 34260 Kaufungen
CATEGORIES:Saison 2015/16
END:VEVENT
BEGIN:VEVENT
DTSTAMP:20260423T194518Z
DTSTART;TZID=Europe/Berlin:20151019T183000
DTEND;TZID=Europe/Berlin:20151019T213000
SUMMARY:Kreisliga SV Kaufungen vs TTC Calden-Westuffeln (8)
UID:600e4e49-417b-3ce1-e053-1fc7a80a6bb5
STATUS:CONFIRMED
LAST-MODIFIED:20160115T114010Z
DESCRIPTION:Männliche Jugend Kreisliga\nBegegnungs-Nr: 8\nHeim: SV Kaufungen\nGast: TTC Calden-Westuffeln\n\nAdresse: Friedrich Ebert Straße 28\, 34260 Kaufungen\n
LOCATION:Friedrich Ebert Straße 28\, 34260 Kaufungen
CATEGORIES:Saison 2015/16
END:VEVENT
BEGIN:VEVENT
DTSTAMP:20260423T194518Z
DTSTART;TZID=Europe/Berlin:20160415T183000
DTEND;TZID=Europe/Berlin:20160415T213000
SUMMARY:Kreisliga SV Kaufungen vs KSV Baunatal (24)
UID:600e4e49-4521-3ce1-e053-1fc7a80a6bb5
STATUS:CONFIRMED
DESCRIPTION:Männliche Jugend Kreisliga\nBegegnungs-Nr: 24\nHeim: SV Kaufungen\nGast: KSV Baunatal\n\nAdresse: Friedrich Ebert Straße 28\, 34260 Kaufungen\n
LOCATION:Friedrich Ebert Straße 28\, 34260 Kaufungen
CATEGORIES:Saison 2015/16
END:VEVENT
BEGIN:VEVENT
DTSTAMP:20260423T194518Z
DTSTART;TZID=Europe/Berlin:20160219T183000
DTEND;TZID=Europe/Berlin:20160219T213000
SUMMARY:Kreisliga SV Kaufungen vs SV Espenau 1896/1946 (12)
UID:600e4e49-4528-3ce1-e053-1fc7a80a6bb5
STATUS:CONFIRMED
LAST-MODIFIED:20160226T173916Z
DESCRIPTION:Männliche Jugend Kreisliga\nBegegnungs-Nr: 12\nHeim: SV Kaufungen\nGast: SV Espenau 1896/1946\n\nAdresse: Friedrich Ebert Straße 28\, 34260 Kaufungen\n
LOCATION:Friedrich Ebert Straße 28\, 34260 Kaufungen
CATEGORIES:Saison 2015/16
END:VEVENT
BEGIN:VEVENT
DTSTAMP:20260423T194518Z
DTSTART;TZID=Europe/Berlin:20160115T183000
DTEND;TZID=Europe/Berlin:20160115T213000
SUMMARY:Kreisliga SV Kaufungen vs PSV G.-W. Kassel (4)
UID:600e4e49-452d-3ce1-e053-1fc7a80a6bb5
STATUS:CONFIRMED
LAST-MODIFIED:20160128T172145Z
DESCRIPTION:Männliche Jugend Kreisliga\nBegegnungs-Nr: 4\nHeim: SV Kaufungen\nGast: PSV G.-W. Kassel\n\nAdresse: Friedrich Ebert Straße 28\, 34260 Kaufungen\n
LOCATION:Friedrich Ebert Straße 28\, 34260 Kaufungen
CATEGORIES:Saison 2015/16
END:VEVENT
BEGIN:VEVENT
DTSTAMP:20260423T194518Z
DTSTART;TZID=Europe/Berlin:20151116T183000
DTEND;TZID=Europe/Berlin:20151116T213000
SUMMARY:Kreisliga SV Kaufungen vs TTC Elgershausen (25)
UID:600e4e5a-cdf5-3ce1-e053-1fc7a80a6bb5
STATUS:CONFIRMED
LAST-MODIFIED:20151125T172732Z
DESCRIPTION:Männliche Jugend Kreisliga\nBegegnungs-Nr: 25\nHeim: SV Kaufungen\nGast: TTC Elgershausen\n\nAdresse: Friedrich Ebert Straße 28\, 34260 Kaufungen\n
LOCATION:Friedrich Ebert Straße 28\, 34260 Kaufungen
CATEGORIES:Saison 2015/16
END:VEVENT
BEGIN:VEVENT
DTSTAMP:20260423T194518Z
DTSTART;TZID=Europe/Berlin:20151128T120000
DTEND;TZID=Europe/Berlin:20151128T150000
SUMMARY:Kreisliga SC Niestetal IV vs SV Kaufungen (33)
UID:600e4e52-3aed-3ce1-e053-1fc7a80a6bb5
STATUS:CONFIRMED
LAST-MODIFIED:20151221T165640Z
DESCRIPTION:Männliche Jugend Kreisliga\nBegegnungs-Nr: 33\nHeim: SC Niestetal IV\nGast: SV Kaufungen\n\nAdresse: Heiligenröder Str. 70\, 34266 Niestetal-Sandershausen\n
LOCATION:Heiligenröder Str. 70\, 34266 Niestetal-Sandershausen
CATEGORIES:Saison 2015/16
END:VEVENT
BEGIN:VEVENT
DTSTAMP:20260423T194518Z
DTSTART;TZID=Europe/Berlin:20151108T100000
DTEND;TZID=Europe/Berlin:20151108T130000
SUMMARY:Kreisliga KSV Baunatal vs SV Kaufungen (21)
UID:600e4e49-3de0-3ce1-e053-1fc7a80a6bb5
STATUS:CONFIRMED
LAST-MODIFIED:20151125T172554Z
DESCRIPTION:Männliche Jugend Kreisliga\nBegegnungs-Nr: 21\nHeim: KSV Baunatal\nGast: SV Kaufungen\n\nAdresse: Altenritter Str. 37\, 34225 Baunatal\n
LOCATION:Altenritter Str. 37\, 34225 Baunatal
CATEGORIES:Saison 2015/16
END:VEVENT
BEGIN:VEVENT
DTSTAMP:20260423T194518Z
DTSTART;TZID=Europe/Berlin:20150926T143000
DTEND;TZID=Europe/Berlin:20150926T173000
SUMMARY:Kreisliga PSV G.-W. Kassel vs SV Kaufungen (6)
UID:600e4e49-3a41-3ce1-e053-1fc7a80a6bb5
STATUS:CONFIRMED
LAST-MODIFIED:20151008T172725Z
DESCRIPTION:Männliche Jugend Kreisliga\nBegegnungs-Nr: 6\nHeim: PSV G.-W. Kassel\nGast: SV Kaufungen\n\nAdresse: Hupfeldstr. 8\, 34121 Kassel\n
LOCATION:Hupfeldstr. 8\, 34121 Kassel
CATEGORIES:Saison 2015/16
END:VEVENT
BEGIN:VEVENT
DTSTAMP:20260423T194518Z
DTSTART;TZID=Europe/Berlin:20151110T193000
DTEND;TZID=Europe/Berlin:20151110T223000
SUMMARY:Kreisliga SV Espenau 1896/1946 vs SV Kaufungen (15)
UID:600e4e49-4178-3ce1-e053-1fc7a80a6bb5
STATUS:CONFIRMED
LAST-MODIFIED:20151125T172609Z
DESCRIPTION:Männliche Jugend Kreisliga\nBegegnungs-Nr: 15\nHeim: SV Espenau 1896/1946\nGast: SV Kaufungen\n\nAdresse: Schulweg 5\, 34314 Hohenkirchen\n
LOCATION:Schulweg 5\, 34314 Hohenkirchen
CATEGORIES:Saison 2015/16
END:VEVENT
BEGIN:VEVENT
DTSTAMP:20260423T194518Z
DTSTART;TZID=Europe/Berlin:20160421T180000
DTEND;TZID=Europe/Berlin:20160421T210000
SUMMARY:Kreisliga TuS 1908 Meimbressen vs SV Kaufungen (41)
UID:600e4e49-417e-3ce1-e053-1fc7a80a6bb5
STATUS:CONFIRMED
DESCRIPTION:Männliche Jugend Kreisliga\nBegegnungs-Nr: 41\nHeim: TuS 1908 Meimbressen\nGast: SV Kaufungen\n\nAdresse: Schäferbreite / Parkplatz Rechts am Ortseingang aus Richtung Calden kommend - Fußweg auf den \"Hesselnberg\" zur Halle am Sportplatz\, 34379 Meimbressen\n
LOCATION:Schäferbreite / Parkplatz Rechts am Ortseingang aus Richtung Calden kommend - Fußweg auf den \"Hesselnberg\" zur Halle am Sportplatz\, 34379 Meimbressen
CATEGORIES:Saison 2015/16
END:VEVENT
BEGIN:VEVENT
DTSTAMP:20260423T194518Z
DTSTART;TZID=Europe/Berlin:20160412T180000
DTEND;TZID=Europe/Berlin:20160412T210000
SUMMARY:Kreisliga TSV 1921 Wenigenhasungen vs SV Kaufungen (40)
UID:600e4e49-417f-3ce1-e053-1fc7a80a6bb5
STATUS:CONFIRMED
DESCRIPTION:Männliche Jugend Kreisliga\nBegegnungs-Nr: 40\nHeim: TSV 1921 Wenigenhasungen\nGast: SV Kaufungen\n\nAdresse: Schulstraße\, 34466 Wolfhagen-Wenigenhasungen\n
LOCATION:Schulstraße\, 34466 Wolfhagen-Wenigenhasungen
CATEGORIES:Saison 2015/16
END:VEVENT
BEGIN:VEVENT
DTSTAMP:20260423T194518Z
DTSTART;TZID=Europe/Berlin:20160312T140000
DTEND;TZID=Europe/Berlin:20160312T170000
SUMMARY:Kreisliga TTC Elgershausen vs SV Kaufungen (28)
UID:600e4e49-4185-3ce1-e053-1fc7a80a6bb5
STATUS:CONFIRMED
LAST-MODIFIED:20160315T143539Z
DESCRIPTION:Männliche Jugend Kreisliga\nBegegnungs-Nr: 28\nHeim: TTC Elgershausen\nGast: SV Kaufungen\n\nAdresse: Korbacher Str. 45\, 34270 Schauenburg\n
LOCATION:Korbacher Str. 45\, 34270 Schauenburg
CATEGORIES:Saison 2015/16
END:VEVENT
BEGIN:VEVENT
DTSTAMP:20260423T194518Z
DTSTART;TZID=Europe/Berlin:20160217T184500
DTEND;TZID=Europe/Berlin:20160217T214500
SUMMARY:Kreisliga Kasseler Spvgg. Auedamm vs SV Kaufungen (16)
UID:600e4e49-4526-3ce1-e053-1fc7a80a6bb5
STATUS:CONFIRMED
LAST-MODIFIED:20160226T174149Z
DESCRIPTION:Männliche Jugend Kreisliga\nBegegnungs-Nr: 16\nHeim: Kasseler Spvgg. Auedamm\nGast: SV Kaufungen\n\nAdresse: Wilhelmshöher Allee 35\, 34117 Kassel\n
LOCATION:Wilhelmshöher Allee 35\, 34117 Kassel
CATEGORIES:Saison 2015/16
END:VEVENT
END:VCALENDAR
