BEGIN:VCALENDAR
PRODID:-//nuDatenautomaten//framework iCal4j //DE
VERSION:2.0
CALSCALE:GREGORIAN
BEGIN:VTIMEZONE
TZID:Europe/Berlin
LAST-MODIFIED:20260306T231828Z
TZURL:https://www.tzurl.org/zoneinfo/Europe/Berlin
X-LIC-LOCATION:Europe/Berlin
X-PROLEPTIC-TZNAME:LMT
BEGIN:STANDARD
TZNAME:CET
TZOFFSETFROM:+005328
TZOFFSETTO:+0100
DTSTART:18930401T000000
END:STANDARD
BEGIN:DAYLIGHT
TZNAME:CEST
TZOFFSETFROM:+0100
TZOFFSETTO:+0200
DTSTART:19160430T230000
RDATE:19400401T020000
RDATE:19430329T020000
RDATE:19460414T020000
RDATE:19470406T030000
RDATE:19480418T020000
RDATE:19490410T020000
RDATE:19800406T020000
END:DAYLIGHT
BEGIN:STANDARD
TZNAME:CET
TZOFFSETFROM:+0200
TZOFFSETTO:+0100
DTSTART:19161001T010000
RDATE:19421102T030000
RDATE:19431004T030000
RDATE:19441002T030000
RDATE:19451118T030000
RDATE:19461007T030000
END:STANDARD
BEGIN:DAYLIGHT
TZNAME:CEST
TZOFFSETFROM:+0100
TZOFFSETTO:+0200
DTSTART:19170416T020000
RRULE:FREQ=YEARLY;UNTIL=19180415T010000Z;BYMONTH=4;BYDAY=3MO
END:DAYLIGHT
BEGIN:STANDARD
TZNAME:CET
TZOFFSETFROM:+0200
TZOFFSETTO:+0100
DTSTART:19170917T030000
RRULE:FREQ=YEARLY;UNTIL=19180916T010000Z;BYMONTH=9;BYDAY=3MO
END:STANDARD
BEGIN:DAYLIGHT
TZNAME:CEST
TZOFFSETFROM:+0100
TZOFFSETTO:+0200
DTSTART:19440403T020000
RRULE:FREQ=YEARLY;UNTIL=19450402T010000Z;BYMONTH=4;BYDAY=1MO
END:DAYLIGHT
BEGIN:DAYLIGHT
TZNAME:CEMT
TZOFFSETFROM:+0200
TZOFFSETTO:+0300
DTSTART:19450524T020000
RDATE:19470511T030000
END:DAYLIGHT
BEGIN:DAYLIGHT
TZNAME:CEST
TZOFFSETFROM:+0300
TZOFFSETTO:+0200
DTSTART:19450924T030000
RDATE:19470629T030000
END:DAYLIGHT
BEGIN:STANDARD
TZNAME:CET
TZOFFSETFROM:+0100
TZOFFSETTO:+0100
DTSTART:19460101T000000
RDATE:19800101T000000
END:STANDARD
BEGIN:STANDARD
TZNAME:CET
TZOFFSETFROM:+0200
TZOFFSETTO:+0100
DTSTART:19471005T030000
RRULE:FREQ=YEARLY;UNTIL=19491002T010000Z;BYMONTH=10;BYDAY=1SU
END:STANDARD
BEGIN:STANDARD
TZNAME:CET
TZOFFSETFROM:+0200
TZOFFSETTO:+0100
DTSTART:19800928T030000
RRULE:FREQ=YEARLY;UNTIL=19950924T010000Z;BYMONTH=9;BYDAY=-1SU
END:STANDARD
BEGIN:DAYLIGHT
TZNAME:CEST
TZOFFSETFROM:+0100
TZOFFSETTO:+0200
DTSTART:19810329T020000
RRULE:FREQ=YEARLY;BYMONTH=3;BYDAY=-1SU
END:DAYLIGHT
BEGIN:STANDARD
TZNAME:CET
TZOFFSETFROM:+0200
TZOFFSETTO:+0100
DTSTART:19961027T030000
RRULE:FREQ=YEARLY;BYMONTH=10;BYDAY=-1SU
END:STANDARD
END:VTIMEZONE
BEGIN:VEVENT
DTSTAMP:20260421T123750Z
DTSTART;TZID=Europe/Berlin:20121024T190000
DTEND;TZID=Europe/Berlin:20121024T220000
SUMMARY:1. Kreisklasse Staffel E TuS Buckow II vs TTC Düppel III (14)
UID:600e4e4c-728b-3ce1-e053-1fc7a80a6bb5
STATUS:CONFIRMED
LAST-MODIFIED:20160129T101248Z
DESCRIPTION:1. Kreisklasse Herren Staffel E\nBegegnungs-Nr: 14\nHeim: TuS Buckow II\nGast: TTC Düppel III\n
LOCATION:
CATEGORIES:Saison 2012/13
END:VEVENT
BEGIN:VEVENT
DTSTAMP:20260421T123750Z
DTSTART;TZID=Europe/Berlin:20121107T190000
DTEND;TZID=Europe/Berlin:20121107T220000
SUMMARY:1. Kreisklasse Staffel E TuS Buckow II vs SC Charlottenburg IV (24)
UID:600e4e4c-771d-3ce1-e053-1fc7a80a6bb5
STATUS:CONFIRMED
LAST-MODIFIED:20160129T101248Z
DESCRIPTION:1. Kreisklasse Herren Staffel E\nBegegnungs-Nr: 24\nHeim: TuS Buckow II\nGast: SC Charlottenburg IV\n
LOCATION:
CATEGORIES:Saison 2012/13
END:VEVENT
BEGIN:VEVENT
DTSTAMP:20260421T123750Z
DTSTART;TZID=Europe/Berlin:20120905T190000
DTEND;TZID=Europe/Berlin:20120905T220000
SUMMARY:1. Kreisklasse Staffel E TuS Buckow II vs SF Kladow II (4)
UID:600e4e4c-7bbe-3ce1-e053-1fc7a80a6bb5
STATUS:CONFIRMED
LAST-MODIFIED:20160129T101248Z
DESCRIPTION:1. Kreisklasse Herren Staffel E\nBegegnungs-Nr: 4\nHeim: TuS Buckow II\nGast: SF Kladow II\n
LOCATION:
CATEGORIES:Saison 2012/13
END:VEVENT
BEGIN:VEVENT
DTSTAMP:20260421T123750Z
DTSTART;TZID=Europe/Berlin:20121128T190000
DTEND;TZID=Europe/Berlin:20121128T220000
SUMMARY:1. Kreisklasse Staffel E TuS Buckow II vs ASV Berlin V (40)
UID:600e4e4c-7bbf-3ce1-e053-1fc7a80a6bb5
STATUS:CONFIRMED
LAST-MODIFIED:20160129T101248Z
DESCRIPTION:1. Kreisklasse Herren Staffel E\nBegegnungs-Nr: 40\nHeim: TuS Buckow II\nGast: ASV Berlin V\n
LOCATION:
CATEGORIES:Saison 2012/13
END:VEVENT
BEGIN:VEVENT
DTSTAMP:20260421T123750Z
DTSTART;TZID=Europe/Berlin:20130220T190000
DTEND;TZID=Europe/Berlin:20130220T220000
SUMMARY:1. Kreisklasse Staffel E TuS Buckow II vs Polizei SV Berlin III (19)
UID:600e4e4c-8068-3ce1-e053-1fc7a80a6bb5
STATUS:CONFIRMED
LAST-MODIFIED:20160129T101249Z
DESCRIPTION:1. Kreisklasse Herren Staffel E\nBegegnungs-Nr: 19\nHeim: TuS Buckow II\nGast: Polizei SV Berlin III\n
LOCATION:
CATEGORIES:Saison 2012/13
END:VEVENT
BEGIN:VEVENT
DTSTAMP:20260421T123750Z
DTSTART;TZID=Europe/Berlin:20130306T190000
DTEND;TZID=Europe/Berlin:20130306T220000
SUMMARY:1. Kreisklasse Staffel E TuS Buckow II vs VfK Berlin-Südwest VI (30)
UID:600e4e4c-8074-3ce1-e053-1fc7a80a6bb5
STATUS:CONFIRMED
LAST-MODIFIED:20160129T101249Z
DESCRIPTION:1. Kreisklasse Herren Staffel E\nBegegnungs-Nr: 30\nHeim: TuS Buckow II\nGast: VfK Berlin-Südwest VI\n
LOCATION:
CATEGORIES:Saison 2012/13
END:VEVENT
BEGIN:VEVENT
DTSTAMP:20260421T123750Z
DTSTART;TZID=Europe/Berlin:20130313T190000
DTEND;TZID=Europe/Berlin:20130313T220000
SUMMARY:1. Kreisklasse Staffel E TuS Buckow II vs TSV Rudow 1888 III (35)
UID:600e4e4c-8077-3ce1-e053-1fc7a80a6bb5
STATUS:CONFIRMED
LAST-MODIFIED:20160129T101249Z
DESCRIPTION:1. Kreisklasse Herren Staffel E\nBegegnungs-Nr: 35\nHeim: TuS Buckow II\nGast: TSV Rudow 1888 III\n
LOCATION:
CATEGORIES:Saison 2012/13
END:VEVENT
BEGIN:VEVENT
DTSTAMP:20260421T123750Z
DTSTART;TZID=Europe/Berlin:20130417T190000
DTEND;TZID=Europe/Berlin:20130417T220000
SUMMARY:1. Kreisklasse Staffel E TuS Buckow II vs TSC Berlin 1893 V (42)
UID:600e4e4c-8517-3ce1-e053-1fc7a80a6bb5
STATUS:CONFIRMED
LAST-MODIFIED:20160129T101249Z
DESCRIPTION:1. Kreisklasse Herren Staffel E\nBegegnungs-Nr: 42\nHeim: TuS Buckow II\nGast: TSC Berlin 1893 V\n
LOCATION:
CATEGORIES:Saison 2012/13
END:VEVENT
BEGIN:VEVENT
DTSTAMP:20260421T123750Z
DTSTART;TZID=Europe/Berlin:20130130T190000
DTEND;TZID=Europe/Berlin:20130130T220000
SUMMARY:1. Kreisklasse Staffel E TuS Buckow II vs CfL Berlin 65 IV (8)
UID:600e4e4c-851d-3ce1-e053-1fc7a80a6bb5
STATUS:CONFIRMED
LAST-MODIFIED:20160129T101249Z
DESCRIPTION:1. Kreisklasse Herren Staffel E\nBegegnungs-Nr: 8\nHeim: TuS Buckow II\nGast: CfL Berlin 65 IV\n
LOCATION:
CATEGORIES:Saison 2012/13
END:VEVENT
BEGIN:VEVENT
DTSTAMP:20260421T123750Z
DTSTART;TZID=Europe/Berlin:20121030T190000
DTEND;TZID=Europe/Berlin:20121030T220000
SUMMARY:1. Kreisklasse Staffel E Polizei SV Berlin III vs TuS Buckow II (19)
UID:600e4e4c-7718-3ce1-e053-1fc7a80a6bb5
STATUS:CONFIRMED
LAST-MODIFIED:20160129T101248Z
DESCRIPTION:1. Kreisklasse Herren Staffel E\nBegegnungs-Nr: 19\nHeim: Polizei SV Berlin III\nGast: TuS Buckow II\n
LOCATION:
CATEGORIES:Saison 2012/13
END:VEVENT
BEGIN:VEVENT
DTSTAMP:20260421T123750Z
DTSTART;TZID=Europe/Berlin:20121114T193000
DTEND;TZID=Europe/Berlin:20121114T223000
SUMMARY:1. Kreisklasse Staffel E VfK Berlin-Südwest VI vs TuS Buckow II (30)
UID:600e4e4c-7723-3ce1-e053-1fc7a80a6bb5
STATUS:CONFIRMED
LAST-MODIFIED:20160129T101248Z
DESCRIPTION:1. Kreisklasse Herren Staffel E\nBegegnungs-Nr: 30\nHeim: VfK Berlin-Südwest VI\nGast: TuS Buckow II\n
LOCATION:
CATEGORIES:Saison 2012/13
END:VEVENT
BEGIN:VEVENT
DTSTAMP:20260421T123750Z
DTSTART;TZID=Europe/Berlin:20121119T192000
DTEND;TZID=Europe/Berlin:20121119T222000
SUMMARY:1. Kreisklasse Staffel E TSV Rudow 1888 III vs TuS Buckow II (35)
UID:600e4e4c-7727-3ce1-e053-1fc7a80a6bb5
STATUS:CONFIRMED
LAST-MODIFIED:20160129T101248Z
DESCRIPTION:1. Kreisklasse Herren Staffel E\nBegegnungs-Nr: 35\nHeim: TSV Rudow 1888 III\nGast: TuS Buckow II\n
LOCATION:
CATEGORIES:Saison 2012/13
END:VEVENT
BEGIN:VEVENT
DTSTAMP:20260421T123750Z
DTSTART;TZID=Europe/Berlin:20121209T100000
DTEND;TZID=Europe/Berlin:20121209T130000
SUMMARY:1. Kreisklasse Staffel E TSC Berlin 1893 V vs TuS Buckow II (42)
UID:600e4e4c-7bc1-3ce1-e053-1fc7a80a6bb5
STATUS:CONFIRMED
LAST-MODIFIED:20160129T101249Z
DESCRIPTION:1. Kreisklasse Herren Staffel E\nBegegnungs-Nr: 42\nHeim: TSC Berlin 1893 V\nGast: TuS Buckow II\n
LOCATION:
CATEGORIES:Saison 2012/13
END:VEVENT
BEGIN:VEVENT
DTSTAMP:20260421T123750Z
DTSTART;TZID=Europe/Berlin:20120913T193000
DTEND;TZID=Europe/Berlin:20120913T223000
SUMMARY:1. Kreisklasse Staffel E CfL Berlin 65 IV vs TuS Buckow II (8)
UID:600e4e4c-7bc6-3ce1-e053-1fc7a80a6bb5
STATUS:CONFIRMED
LAST-MODIFIED:20160129T101249Z
DESCRIPTION:1. Kreisklasse Herren Staffel E\nBegegnungs-Nr: 8\nHeim: CfL Berlin 65 IV\nGast: TuS Buckow II\n
LOCATION:
CATEGORIES:Saison 2012/13
END:VEVENT
BEGIN:VEVENT
DTSTAMP:20260421T123750Z
DTSTART;TZID=Europe/Berlin:20130109T190000
DTEND;TZID=Europe/Berlin:20130109T220000
SUMMARY:1. Kreisklasse Staffel E SF Kladow II vs TuS Buckow II (4)
UID:600e4e4c-807a-3ce1-e053-1fc7a80a6bb5
STATUS:CONFIRMED
LAST-MODIFIED:20160129T101249Z
DESCRIPTION:1. Kreisklasse Herren Staffel E\nBegegnungs-Nr: 4\nHeim: SF Kladow II\nGast: TuS Buckow II\n
LOCATION:
CATEGORIES:Saison 2012/13
END:VEVENT
BEGIN:VEVENT
DTSTAMP:20260421T123750Z
DTSTART;TZID=Europe/Berlin:20130412T190000
DTEND;TZID=Europe/Berlin:20130412T220000
SUMMARY:1. Kreisklasse Staffel E ASV Berlin V vs TuS Buckow II (40)
UID:600e4e4c-8515-3ce1-e053-1fc7a80a6bb5
STATUS:CONFIRMED
LAST-MODIFIED:20160129T101249Z
DESCRIPTION:1. Kreisklasse Herren Staffel E\nBegegnungs-Nr: 40\nHeim: ASV Berlin V\nGast: TuS Buckow II\n
LOCATION:
CATEGORIES:Saison 2012/13
END:VEVENT
BEGIN:VEVENT
DTSTAMP:20260421T123750Z
DTSTART;TZID=Europe/Berlin:20130214T193000
DTEND;TZID=Europe/Berlin:20130214T223000
SUMMARY:1. Kreisklasse Staffel E TTC Düppel III vs TuS Buckow II (14)
UID:600e4e59-5a6b-3ce1-e053-1fc7a80a6bb5
STATUS:CONFIRMED
LAST-MODIFIED:20160129T101249Z
DESCRIPTION:1. Kreisklasse Herren Staffel E\nBegegnungs-Nr: 14\nHeim: TTC Düppel III\nGast: TuS Buckow II\n
LOCATION:
CATEGORIES:Saison 2012/13
END:VEVENT
BEGIN:VEVENT
DTSTAMP:20260421T123750Z
DTSTART;TZID=Europe/Berlin:20130303T140000
DTEND;TZID=Europe/Berlin:20130303T170000
SUMMARY:1. Kreisklasse Staffel E SC Charlottenburg IV vs TuS Buckow II (24)
UID:600e4e59-73d6-3ce1-e053-1fc7a80a6bb5
STATUS:CONFIRMED
LAST-MODIFIED:20160129T101249Z
DESCRIPTION:1. Kreisklasse Herren Staffel E\nBegegnungs-Nr: 24\nHeim: SC Charlottenburg IV\nGast: TuS Buckow II\n
LOCATION:
CATEGORIES:Saison 2012/13
END:VEVENT
END:VCALENDAR
