BEGIN:VCALENDAR
PRODID:-//nuDatenautomaten//framework iCal4j //DE
VERSION:2.0
CALSCALE:GREGORIAN
BEGIN:VTIMEZONE
TZID:Europe/Berlin
LAST-MODIFIED:20260306T231828Z
TZURL:https://www.tzurl.org/zoneinfo/Europe/Berlin
X-LIC-LOCATION:Europe/Berlin
X-PROLEPTIC-TZNAME:LMT
BEGIN:STANDARD
TZNAME:CET
TZOFFSETFROM:+005328
TZOFFSETTO:+0100
DTSTART:18930401T000000
END:STANDARD
BEGIN:DAYLIGHT
TZNAME:CEST
TZOFFSETFROM:+0100
TZOFFSETTO:+0200
DTSTART:19160430T230000
RDATE:19400401T020000
RDATE:19430329T020000
RDATE:19460414T020000
RDATE:19470406T030000
RDATE:19480418T020000
RDATE:19490410T020000
RDATE:19800406T020000
END:DAYLIGHT
BEGIN:STANDARD
TZNAME:CET
TZOFFSETFROM:+0200
TZOFFSETTO:+0100
DTSTART:19161001T010000
RDATE:19421102T030000
RDATE:19431004T030000
RDATE:19441002T030000
RDATE:19451118T030000
RDATE:19461007T030000
END:STANDARD
BEGIN:DAYLIGHT
TZNAME:CEST
TZOFFSETFROM:+0100
TZOFFSETTO:+0200
DTSTART:19170416T020000
RRULE:FREQ=YEARLY;UNTIL=19180415T010000Z;BYMONTH=4;BYDAY=3MO
END:DAYLIGHT
BEGIN:STANDARD
TZNAME:CET
TZOFFSETFROM:+0200
TZOFFSETTO:+0100
DTSTART:19170917T030000
RRULE:FREQ=YEARLY;UNTIL=19180916T010000Z;BYMONTH=9;BYDAY=3MO
END:STANDARD
BEGIN:DAYLIGHT
TZNAME:CEST
TZOFFSETFROM:+0100
TZOFFSETTO:+0200
DTSTART:19440403T020000
RRULE:FREQ=YEARLY;UNTIL=19450402T010000Z;BYMONTH=4;BYDAY=1MO
END:DAYLIGHT
BEGIN:DAYLIGHT
TZNAME:CEMT
TZOFFSETFROM:+0200
TZOFFSETTO:+0300
DTSTART:19450524T020000
RDATE:19470511T030000
END:DAYLIGHT
BEGIN:DAYLIGHT
TZNAME:CEST
TZOFFSETFROM:+0300
TZOFFSETTO:+0200
DTSTART:19450924T030000
RDATE:19470629T030000
END:DAYLIGHT
BEGIN:STANDARD
TZNAME:CET
TZOFFSETFROM:+0100
TZOFFSETTO:+0100
DTSTART:19460101T000000
RDATE:19800101T000000
END:STANDARD
BEGIN:STANDARD
TZNAME:CET
TZOFFSETFROM:+0200
TZOFFSETTO:+0100
DTSTART:19471005T030000
RRULE:FREQ=YEARLY;UNTIL=19491002T010000Z;BYMONTH=10;BYDAY=1SU
END:STANDARD
BEGIN:STANDARD
TZNAME:CET
TZOFFSETFROM:+0200
TZOFFSETTO:+0100
DTSTART:19800928T030000
RRULE:FREQ=YEARLY;UNTIL=19950924T010000Z;BYMONTH=9;BYDAY=-1SU
END:STANDARD
BEGIN:DAYLIGHT
TZNAME:CEST
TZOFFSETFROM:+0100
TZOFFSETTO:+0200
DTSTART:19810329T020000
RRULE:FREQ=YEARLY;BYMONTH=3;BYDAY=-1SU
END:DAYLIGHT
BEGIN:STANDARD
TZNAME:CET
TZOFFSETFROM:+0200
TZOFFSETTO:+0100
DTSTART:19961027T030000
RRULE:FREQ=YEARLY;BYMONTH=10;BYDAY=-1SU
END:STANDARD
END:VTIMEZONE
BEGIN:VEVENT
DTSTAMP:20260424T165320Z
DTSTART;TZID=Europe/Berlin:20120907T190000
DTEND;TZID=Europe/Berlin:20120907T220000
SUMMARY:1. Kreisklasse Staffel E ASV Berlin V vs TSC Berlin 1893 V (1)
UID:600e4e4c-7287-3ce1-e053-1fc7a80a6bb5
STATUS:CONFIRMED
LAST-MODIFIED:20160129T101248Z
DESCRIPTION:1. Kreisklasse Herren Staffel E\nBegegnungs-Nr: 1\nHeim: ASV Berlin V\nGast: TSC Berlin 1893 V\n
LOCATION:
CATEGORIES:Saison 2012/13
END:VEVENT
BEGIN:VEVENT
DTSTAMP:20260424T165320Z
DTSTART;TZID=Europe/Berlin:20121109T190000
DTEND;TZID=Europe/Berlin:20121109T220000
SUMMARY:1. Kreisklasse Staffel E ASV Berlin V vs Polizei SV Berlin III (21)
UID:600e4e4c-771b-3ce1-e053-1fc7a80a6bb5
STATUS:CONFIRMED
LAST-MODIFIED:20160129T101248Z
DESCRIPTION:1. Kreisklasse Herren Staffel E\nBegegnungs-Nr: 21\nHeim: ASV Berlin V\nGast: Polizei SV Berlin III\n
LOCATION:
CATEGORIES:Saison 2012/13
END:VEVENT
BEGIN:VEVENT
DTSTAMP:20260424T165320Z
DTSTART;TZID=Europe/Berlin:20121123T190000
DTEND;TZID=Europe/Berlin:20121123T220000
SUMMARY:1. Kreisklasse Staffel E ASV Berlin V vs VfK Berlin-Südwest VI (31)
UID:600e4e4c-7724-3ce1-e053-1fc7a80a6bb5
STATUS:CONFIRMED
LAST-MODIFIED:20160129T101248Z
DESCRIPTION:1. Kreisklasse Herren Staffel E\nBegegnungs-Nr: 31\nHeim: ASV Berlin V\nGast: VfK Berlin-Südwest VI\n
LOCATION:
CATEGORIES:Saison 2012/13
END:VEVENT
BEGIN:VEVENT
DTSTAMP:20260424T165320Z
DTSTART;TZID=Europe/Berlin:20121207T190000
DTEND;TZID=Europe/Berlin:20121207T220000
SUMMARY:1. Kreisklasse Staffel E ASV Berlin V vs TSV Rudow 1888 III (41)
UID:600e4e4c-7bc0-3ce1-e053-1fc7a80a6bb5
STATUS:CONFIRMED
LAST-MODIFIED:20160129T101248Z
DESCRIPTION:1. Kreisklasse Herren Staffel E\nBegegnungs-Nr: 41\nHeim: ASV Berlin V\nGast: TSV Rudow 1888 III\n
LOCATION:
CATEGORIES:Saison 2012/13
END:VEVENT
BEGIN:VEVENT
DTSTAMP:20260424T165320Z
DTSTART;TZID=Europe/Berlin:20130222T190000
DTEND;TZID=Europe/Berlin:20130222T220000
SUMMARY:1. Kreisklasse Staffel E ASV Berlin V vs TTC Düppel III (18)
UID:600e4e4c-7bce-3ce1-e053-1fc7a80a6bb5
STATUS:CONFIRMED
LAST-MODIFIED:20160129T101249Z
DESCRIPTION:1. Kreisklasse Herren Staffel E\nBegegnungs-Nr: 18\nHeim: ASV Berlin V\nGast: TTC Düppel III\n
LOCATION:
CATEGORIES:Saison 2012/13
END:VEVENT
BEGIN:VEVENT
DTSTAMP:20260424T165320Z
DTSTART;TZID=Europe/Berlin:20130308T190000
DTEND;TZID=Europe/Berlin:20130308T220000
SUMMARY:1. Kreisklasse Staffel E ASV Berlin V vs SC Charlottenburg IV (29)
UID:600e4e4c-8072-3ce1-e053-1fc7a80a6bb5
STATUS:CONFIRMED
LAST-MODIFIED:20160129T101249Z
DESCRIPTION:1. Kreisklasse Herren Staffel E\nBegegnungs-Nr: 29\nHeim: ASV Berlin V\nGast: SC Charlottenburg IV\n
LOCATION:
CATEGORIES:Saison 2012/13
END:VEVENT
BEGIN:VEVENT
DTSTAMP:20260424T165320Z
DTSTART;TZID=Europe/Berlin:20130412T190000
DTEND;TZID=Europe/Berlin:20130412T220000
SUMMARY:1. Kreisklasse Staffel E ASV Berlin V vs TuS Buckow II (40)
UID:600e4e4c-8515-3ce1-e053-1fc7a80a6bb5
STATUS:CONFIRMED
LAST-MODIFIED:20160129T101249Z
DESCRIPTION:1. Kreisklasse Herren Staffel E\nBegegnungs-Nr: 40\nHeim: ASV Berlin V\nGast: TuS Buckow II\n
LOCATION:
CATEGORIES:Saison 2012/13
END:VEVENT
BEGIN:VEVENT
DTSTAMP:20260424T165320Z
DTSTART;TZID=Europe/Berlin:20130125T190000
DTEND;TZID=Europe/Berlin:20130125T220000
SUMMARY:1. Kreisklasse Staffel E ASV Berlin V vs SF Kladow II (7)
UID:600e4e4c-851c-3ce1-e053-1fc7a80a6bb5
STATUS:CONFIRMED
LAST-MODIFIED:20160129T101249Z
DESCRIPTION:1. Kreisklasse Herren Staffel E\nBegegnungs-Nr: 7\nHeim: ASV Berlin V\nGast: SF Kladow II\n
LOCATION:
CATEGORIES:Saison 2012/13
END:VEVENT
BEGIN:VEVENT
DTSTAMP:20260424T165320Z
DTSTART;TZID=Europe/Berlin:20121012T190000
DTEND;TZID=Europe/Berlin:20121012T220000
SUMMARY:1. Kreisklasse Staffel E ASV Berlin V vs CfL Berlin 65 IV (11)
UID:600e4e59-5a62-3ce1-e053-1fc7a80a6bb5
STATUS:CONFIRMED
LAST-MODIFIED:20160129T101248Z
DESCRIPTION:1. Kreisklasse Herren Staffel E\nBegegnungs-Nr: 11\nHeim: ASV Berlin V\nGast: CfL Berlin 65 IV\n
LOCATION:
CATEGORIES:Saison 2012/13
END:VEVENT
BEGIN:VEVENT
DTSTAMP:20260424T165320Z
DTSTART;TZID=Europe/Berlin:20130313T193000
DTEND;TZID=Europe/Berlin:20130313T223000
SUMMARY:1. Kreisklasse Staffel E VfK Berlin-Südwest VI vs ASV Berlin V (31)
UID:600e4e55-58c8-3ce1-e053-1fc7a80a6bb5
STATUS:CONFIRMED
LAST-MODIFIED:20160129T101249Z
DESCRIPTION:1. Kreisklasse Herren Staffel E\nBegegnungs-Nr: 31\nHeim: VfK Berlin-Südwest VI\nGast: ASV Berlin V\n
LOCATION:
CATEGORIES:Saison 2012/13
END:VEVENT
BEGIN:VEVENT
DTSTAMP:20260424T165320Z
DTSTART;TZID=Europe/Berlin:20121108T193000
DTEND;TZID=Europe/Berlin:20121108T223000
SUMMARY:1. Kreisklasse Staffel E TTC Düppel III vs ASV Berlin V (18)
UID:600e4e4c-7717-3ce1-e053-1fc7a80a6bb5
STATUS:CONFIRMED
LAST-MODIFIED:20160129T101248Z
DESCRIPTION:1. Kreisklasse Herren Staffel E\nBegegnungs-Nr: 18\nHeim: TTC Düppel III\nGast: ASV Berlin V\n
LOCATION:
CATEGORIES:Saison 2012/13
END:VEVENT
BEGIN:VEVENT
DTSTAMP:20260424T165320Z
DTSTART;TZID=Europe/Berlin:20121128T190000
DTEND;TZID=Europe/Berlin:20121128T220000
SUMMARY:1. Kreisklasse Staffel E TuS Buckow II vs ASV Berlin V (40)
UID:600e4e4c-7bbf-3ce1-e053-1fc7a80a6bb5
STATUS:CONFIRMED
LAST-MODIFIED:20160129T101248Z
DESCRIPTION:1. Kreisklasse Herren Staffel E\nBegegnungs-Nr: 40\nHeim: TuS Buckow II\nGast: ASV Berlin V\n
LOCATION:
CATEGORIES:Saison 2012/13
END:VEVENT
BEGIN:VEVENT
DTSTAMP:20260424T165320Z
DTSTART;TZID=Europe/Berlin:20120912T193000
DTEND;TZID=Europe/Berlin:20120912T223000
SUMMARY:1. Kreisklasse Staffel E SF Kladow II vs ASV Berlin V (7)
UID:600e4e4c-7bc5-3ce1-e053-1fc7a80a6bb5
STATUS:CONFIRMED
LAST-MODIFIED:20160129T101249Z
DESCRIPTION:1. Kreisklasse Herren Staffel E\nBegegnungs-Nr: 7\nHeim: SF Kladow II\nGast: ASV Berlin V\n
LOCATION:
CATEGORIES:Saison 2012/13
END:VEVENT
BEGIN:VEVENT
DTSTAMP:20260424T165320Z
DTSTART;TZID=Europe/Berlin:20130113T100000
DTEND;TZID=Europe/Berlin:20130113T130000
SUMMARY:1. Kreisklasse Staffel E TSC Berlin 1893 V vs ASV Berlin V (1)
UID:600e4e4c-7bc8-3ce1-e053-1fc7a80a6bb5
STATUS:CONFIRMED
LAST-MODIFIED:20160129T101249Z
DESCRIPTION:1. Kreisklasse Herren Staffel E\nBegegnungs-Nr: 1\nHeim: TSC Berlin 1893 V\nGast: ASV Berlin V\n
LOCATION:
CATEGORIES:Saison 2012/13
END:VEVENT
BEGIN:VEVENT
DTSTAMP:20260424T165320Z
DTSTART;TZID=Europe/Berlin:20130214T193000
DTEND;TZID=Europe/Berlin:20130214T223000
SUMMARY:1. Kreisklasse Staffel E CfL Berlin 65 IV vs ASV Berlin V (11)
UID:600e4e4c-7bc9-3ce1-e053-1fc7a80a6bb5
STATUS:CONFIRMED
LAST-MODIFIED:20160129T101249Z
DESCRIPTION:1. Kreisklasse Herren Staffel E\nBegegnungs-Nr: 11\nHeim: CfL Berlin 65 IV\nGast: ASV Berlin V\n
LOCATION:
CATEGORIES:Saison 2012/13
END:VEVENT
BEGIN:VEVENT
DTSTAMP:20260424T165320Z
DTSTART;TZID=Europe/Berlin:20130226T190000
DTEND;TZID=Europe/Berlin:20130226T220000
SUMMARY:1. Kreisklasse Staffel E Polizei SV Berlin III vs ASV Berlin V (21)
UID:600e4e4c-806b-3ce1-e053-1fc7a80a6bb5
STATUS:CONFIRMED
LAST-MODIFIED:20160129T101249Z
DESCRIPTION:1. Kreisklasse Herren Staffel E\nBegegnungs-Nr: 21\nHeim: Polizei SV Berlin III\nGast: ASV Berlin V\n
LOCATION:
CATEGORIES:Saison 2012/13
END:VEVENT
BEGIN:VEVENT
DTSTAMP:20260424T165320Z
DTSTART;TZID=Europe/Berlin:20130418T192000
DTEND;TZID=Europe/Berlin:20130418T222000
SUMMARY:1. Kreisklasse Staffel E TSV Rudow 1888 III vs ASV Berlin V (41)
UID:600e4e4c-8516-3ce1-e053-1fc7a80a6bb5
STATUS:CONFIRMED
LAST-MODIFIED:20160129T101249Z
DESCRIPTION:1. Kreisklasse Herren Staffel E\nBegegnungs-Nr: 41\nHeim: TSV Rudow 1888 III\nGast: ASV Berlin V\n
LOCATION:
CATEGORIES:Saison 2012/13
END:VEVENT
BEGIN:VEVENT
DTSTAMP:20260424T165320Z
DTSTART;TZID=Europe/Berlin:20121118T110000
DTEND;TZID=Europe/Berlin:20121118T140000
SUMMARY:1. Kreisklasse Staffel E SC Charlottenburg IV vs ASV Berlin V (29)
UID:600e4e4c-7722-3ce1-e053-1fc7a80a6bb5
STATUS:CONFIRMED
LAST-MODIFIED:20160129T101248Z
DESCRIPTION:1. Kreisklasse Herren Staffel E\nBegegnungs-Nr: 29\nHeim: SC Charlottenburg IV\nGast: ASV Berlin V\n
LOCATION:
CATEGORIES:Saison 2012/13
END:VEVENT
END:VCALENDAR
