BEGIN:VCALENDAR
PRODID:-//nuDatenautomaten//framework iCal4j //DE
VERSION:2.0
CALSCALE:GREGORIAN
BEGIN:VTIMEZONE
TZID:Europe/Berlin
LAST-MODIFIED:20260306T231828Z
TZURL:https://www.tzurl.org/zoneinfo/Europe/Berlin
X-LIC-LOCATION:Europe/Berlin
X-PROLEPTIC-TZNAME:LMT
BEGIN:STANDARD
TZNAME:CET
TZOFFSETFROM:+005328
TZOFFSETTO:+0100
DTSTART:18930401T000000
END:STANDARD
BEGIN:DAYLIGHT
TZNAME:CEST
TZOFFSETFROM:+0100
TZOFFSETTO:+0200
DTSTART:19160430T230000
RDATE:19400401T020000
RDATE:19430329T020000
RDATE:19460414T020000
RDATE:19470406T030000
RDATE:19480418T020000
RDATE:19490410T020000
RDATE:19800406T020000
END:DAYLIGHT
BEGIN:STANDARD
TZNAME:CET
TZOFFSETFROM:+0200
TZOFFSETTO:+0100
DTSTART:19161001T010000
RDATE:19421102T030000
RDATE:19431004T030000
RDATE:19441002T030000
RDATE:19451118T030000
RDATE:19461007T030000
END:STANDARD
BEGIN:DAYLIGHT
TZNAME:CEST
TZOFFSETFROM:+0100
TZOFFSETTO:+0200
DTSTART:19170416T020000
RRULE:FREQ=YEARLY;UNTIL=19180415T010000Z;BYMONTH=4;BYDAY=3MO
END:DAYLIGHT
BEGIN:STANDARD
TZNAME:CET
TZOFFSETFROM:+0200
TZOFFSETTO:+0100
DTSTART:19170917T030000
RRULE:FREQ=YEARLY;UNTIL=19180916T010000Z;BYMONTH=9;BYDAY=3MO
END:STANDARD
BEGIN:DAYLIGHT
TZNAME:CEST
TZOFFSETFROM:+0100
TZOFFSETTO:+0200
DTSTART:19440403T020000
RRULE:FREQ=YEARLY;UNTIL=19450402T010000Z;BYMONTH=4;BYDAY=1MO
END:DAYLIGHT
BEGIN:DAYLIGHT
TZNAME:CEMT
TZOFFSETFROM:+0200
TZOFFSETTO:+0300
DTSTART:19450524T020000
RDATE:19470511T030000
END:DAYLIGHT
BEGIN:DAYLIGHT
TZNAME:CEST
TZOFFSETFROM:+0300
TZOFFSETTO:+0200
DTSTART:19450924T030000
RDATE:19470629T030000
END:DAYLIGHT
BEGIN:STANDARD
TZNAME:CET
TZOFFSETFROM:+0100
TZOFFSETTO:+0100
DTSTART:19460101T000000
RDATE:19800101T000000
END:STANDARD
BEGIN:STANDARD
TZNAME:CET
TZOFFSETFROM:+0200
TZOFFSETTO:+0100
DTSTART:19471005T030000
RRULE:FREQ=YEARLY;UNTIL=19491002T010000Z;BYMONTH=10;BYDAY=1SU
END:STANDARD
BEGIN:STANDARD
TZNAME:CET
TZOFFSETFROM:+0200
TZOFFSETTO:+0100
DTSTART:19800928T030000
RRULE:FREQ=YEARLY;UNTIL=19950924T010000Z;BYMONTH=9;BYDAY=-1SU
END:STANDARD
BEGIN:DAYLIGHT
TZNAME:CEST
TZOFFSETFROM:+0100
TZOFFSETTO:+0200
DTSTART:19810329T020000
RRULE:FREQ=YEARLY;BYMONTH=3;BYDAY=-1SU
END:DAYLIGHT
BEGIN:STANDARD
TZNAME:CET
TZOFFSETFROM:+0200
TZOFFSETTO:+0100
DTSTART:19961027T030000
RRULE:FREQ=YEARLY;BYMONTH=10;BYDAY=-1SU
END:STANDARD
END:VTIMEZONE
BEGIN:VEVENT
DTSTAMP:20260424T120133Z
DTSTART;TZID=Europe/Berlin:20120929T100000
DTEND;TZID=Europe/Berlin:20120929T130000
SUMMARY:Bezirksliga TTSV Handwerk Tannenberg II vs BSC Rapid Chemnitz V (705)
UID:600e4e55-524e-3ce1-e053-1fc7a80a6bb5
STATUS:CONFIRMED
LAST-MODIFIED:20160129T101318Z
DESCRIPTION:Bezirksliga Damen\nBegegnungs-Nr: 705\nHeim: TTSV Handwerk Tannenberg II\nGast: BSC Rapid Chemnitz V\n
LOCATION:
CATEGORIES:Saison 2012/13
END:VEVENT
BEGIN:VEVENT
DTSTAMP:20260424T120133Z
DTSTART;TZID=Europe/Berlin:20130223T140000
DTEND;TZID=Europe/Berlin:20130223T170000
SUMMARY:Bezirksliga TTSV Handwerk Tannenberg II vs SV Tanne Thalheim  (736)
UID:600e4e55-6db7-3ce1-e053-1fc7a80a6bb5
STATUS:CONFIRMED
LAST-MODIFIED:20160129T101318Z
DESCRIPTION:Bezirksliga Damen\nBegegnungs-Nr: 736\nHeim: TTSV Handwerk Tannenberg II\nGast: SV Tanne Thalheim \n
LOCATION:
CATEGORIES:Saison 2012/13
END:VEVENT
BEGIN:VEVENT
DTSTAMP:20260424T120133Z
DTSTART;TZID=Europe/Berlin:20121027T100000
DTEND;TZID=Europe/Berlin:20121027T130000
SUMMARY:Bezirksliga TTSV Handwerk Tannenberg II vs Erzgebirgischer SV Eibenstock  (701)
UID:600e4e4d-554a-3ce1-e053-1fc7a80a6bb5
STATUS:CONFIRMED
LAST-MODIFIED:20160129T101318Z
DESCRIPTION:Bezirksliga Damen\nBegegnungs-Nr: 701\nHeim: TTSV Handwerk Tannenberg II\nGast: Erzgebirgischer SV Eibenstock \n
LOCATION:
CATEGORIES:Saison 2012/13
END:VEVENT
BEGIN:VEVENT
DTSTAMP:20260424T120133Z
DTSTART;TZID=Europe/Berlin:20121020T100000
DTEND;TZID=Europe/Berlin:20121020T130000
SUMMARY:Bezirksliga TTSV Handwerk Tannenberg II vs ESV Lokomotive Zwickau II (715)
UID:600e4e4d-59fe-3ce1-e053-1fc7a80a6bb5
STATUS:CONFIRMED
LAST-MODIFIED:20160129T101318Z
DESCRIPTION:Bezirksliga Damen\nBegegnungs-Nr: 715\nHeim: TTSV Handwerk Tannenberg II\nGast: ESV Lokomotive Zwickau II\n
LOCATION:
CATEGORIES:Saison 2012/13
END:VEVENT
BEGIN:VEVENT
DTSTAMP:20260424T120133Z
DTSTART;TZID=Europe/Berlin:20121201T140000
DTEND;TZID=Europe/Berlin:20121201T170000
SUMMARY:Bezirksliga TTSV Handwerk Tannenberg II vs SV Tanne Thalheim II (722)
UID:600e4e4d-5a04-3ce1-e053-1fc7a80a6bb5
STATUS:CONFIRMED
LAST-MODIFIED:20160129T101318Z
DESCRIPTION:Bezirksliga Damen\nBegegnungs-Nr: 722\nHeim: TTSV Handwerk Tannenberg II\nGast: SV Tanne Thalheim II\n
LOCATION:
CATEGORIES:Saison 2012/13
END:VEVENT
BEGIN:VEVENT
DTSTAMP:20260424T120133Z
DTSTART;TZID=Europe/Berlin:20130316T100000
DTEND;TZID=Europe/Berlin:20130316T130000
SUMMARY:Bezirksliga TTSV Handwerk Tannenberg II vs SpVgg. Heinsdorfergrund 02  (743)
UID:600e4e4d-5ec0-3ce1-e053-1fc7a80a6bb5
STATUS:CONFIRMED
LAST-MODIFIED:20160129T101318Z
DESCRIPTION:Bezirksliga Damen\nBegegnungs-Nr: 743\nHeim: TTSV Handwerk Tannenberg II\nGast: SpVgg. Heinsdorfergrund 02 \n
LOCATION:
CATEGORIES:Saison 2012/13
END:VEVENT
BEGIN:VEVENT
DTSTAMP:20260424T120133Z
DTSTART;TZID=Europe/Berlin:20130323T140000
DTEND;TZID=Europe/Berlin:20130323T170000
SUMMARY:Bezirksliga TTSV Handwerk Tannenberg II vs SV Adorf/Erzgebirge  (746)
UID:600e4e4d-5ec2-3ce1-e053-1fc7a80a6bb5
STATUS:CONFIRMED
LAST-MODIFIED:20160129T101318Z
DESCRIPTION:Bezirksliga Damen\nBegegnungs-Nr: 746\nHeim: TTSV Handwerk Tannenberg II\nGast: SV Adorf/Erzgebirge \n
LOCATION:
CATEGORIES:Saison 2012/13
END:VEVENT
BEGIN:VEVENT
DTSTAMP:20260424T120133Z
DTSTART;TZID=Europe/Berlin:20130407T100000
DTEND;TZID=Europe/Berlin:20130407T130000
SUMMARY:Bezirksliga SV Tanne Thalheim II vs TTSV Handwerk Tannenberg II (753)
UID:600e4e55-4a8a-3ce1-e053-1fc7a80a6bb5
STATUS:CONFIRMED
LAST-MODIFIED:20160129T101318Z
DESCRIPTION:Bezirksliga Damen\nBegegnungs-Nr: 753\nHeim: SV Tanne Thalheim II\nGast: TTSV Handwerk Tannenberg II\n
LOCATION:
CATEGORIES:Saison 2012/13
END:VEVENT
BEGIN:VEVENT
DTSTAMP:20260424T120133Z
DTSTART;TZID=Europe/Berlin:20121007T100000
DTEND;TZID=Europe/Berlin:20121007T130000
SUMMARY:Bezirksliga SV Tanne Thalheim  vs TTSV Handwerk Tannenberg II (711)
UID:600e4e55-524f-3ce1-e053-1fc7a80a6bb5
STATUS:CONFIRMED
LAST-MODIFIED:20160129T101318Z
DESCRIPTION:Bezirksliga Damen\nBegegnungs-Nr: 711\nHeim: SV Tanne Thalheim \nGast: TTSV Handwerk Tannenberg II\n
LOCATION:
CATEGORIES:Saison 2012/13
END:VEVENT
BEGIN:VEVENT
DTSTAMP:20260424T120133Z
DTSTART;TZID=Europe/Berlin:20130112T140000
DTEND;TZID=Europe/Berlin:20130112T170000
SUMMARY:Bezirksliga BSC Rapid Chemnitz V vs TTSV Handwerk Tannenberg II (732)
UID:600e4e4d-5a0a-3ce1-e053-1fc7a80a6bb5
STATUS:CONFIRMED
LAST-MODIFIED:20160129T101318Z
DESCRIPTION:Bezirksliga Damen\nBegegnungs-Nr: 732\nHeim: BSC Rapid Chemnitz V\nGast: TTSV Handwerk Tannenberg II\n
LOCATION:
CATEGORIES:Saison 2012/13
END:VEVENT
BEGIN:VEVENT
DTSTAMP:20260424T120133Z
DTSTART;TZID=Europe/Berlin:20130302T100000
DTEND;TZID=Europe/Berlin:20130302T130000
SUMMARY:Bezirksliga ESV Lokomotive Zwickau II vs TTSV Handwerk Tannenberg II (740)
UID:600e4e4d-5ebd-3ce1-e053-1fc7a80a6bb5
STATUS:CONFIRMED
LAST-MODIFIED:20160129T101318Z
DESCRIPTION:Bezirksliga Damen\nBegegnungs-Nr: 740\nHeim: ESV Lokomotive Zwickau II\nGast: TTSV Handwerk Tannenberg II\n
LOCATION:
CATEGORIES:Saison 2012/13
END:VEVENT
BEGIN:VEVENT
DTSTAMP:20260424T120133Z
DTSTART;TZID=Europe/Berlin:20121124T140000
DTEND;TZID=Europe/Berlin:20121124T170000
SUMMARY:Bezirksliga SV Adorf/Erzgebirge  vs TTSV Handwerk Tannenberg II (719)
UID:600e4e59-4d65-3ce1-e053-1fc7a80a6bb5
STATUS:CONFIRMED
LAST-MODIFIED:20160129T101318Z
DESCRIPTION:Bezirksliga Damen\nBegegnungs-Nr: 719\nHeim: SV Adorf/Erzgebirge \nGast: TTSV Handwerk Tannenberg II\n
LOCATION:
CATEGORIES:Saison 2012/13
END:VEVENT
END:VCALENDAR
