BEGIN:VCALENDAR
PRODID:-//nuDatenautomaten//framework iCal4j //DE
VERSION:2.0
CALSCALE:GREGORIAN
BEGIN:VTIMEZONE
TZID:Europe/Berlin
LAST-MODIFIED:20260306T231828Z
TZURL:https://www.tzurl.org/zoneinfo/Europe/Berlin
X-LIC-LOCATION:Europe/Berlin
X-PROLEPTIC-TZNAME:LMT
BEGIN:STANDARD
TZNAME:CET
TZOFFSETFROM:+005328
TZOFFSETTO:+0100
DTSTART:18930401T000000
END:STANDARD
BEGIN:DAYLIGHT
TZNAME:CEST
TZOFFSETFROM:+0100
TZOFFSETTO:+0200
DTSTART:19160430T230000
RDATE:19400401T020000
RDATE:19430329T020000
RDATE:19460414T020000
RDATE:19470406T030000
RDATE:19480418T020000
RDATE:19490410T020000
RDATE:19800406T020000
END:DAYLIGHT
BEGIN:STANDARD
TZNAME:CET
TZOFFSETFROM:+0200
TZOFFSETTO:+0100
DTSTART:19161001T010000
RDATE:19421102T030000
RDATE:19431004T030000
RDATE:19441002T030000
RDATE:19451118T030000
RDATE:19461007T030000
END:STANDARD
BEGIN:DAYLIGHT
TZNAME:CEST
TZOFFSETFROM:+0100
TZOFFSETTO:+0200
DTSTART:19170416T020000
RRULE:FREQ=YEARLY;UNTIL=19180415T010000Z;BYMONTH=4;BYDAY=3MO
END:DAYLIGHT
BEGIN:STANDARD
TZNAME:CET
TZOFFSETFROM:+0200
TZOFFSETTO:+0100
DTSTART:19170917T030000
RRULE:FREQ=YEARLY;UNTIL=19180916T010000Z;BYMONTH=9;BYDAY=3MO
END:STANDARD
BEGIN:DAYLIGHT
TZNAME:CEST
TZOFFSETFROM:+0100
TZOFFSETTO:+0200
DTSTART:19440403T020000
RRULE:FREQ=YEARLY;UNTIL=19450402T010000Z;BYMONTH=4;BYDAY=1MO
END:DAYLIGHT
BEGIN:DAYLIGHT
TZNAME:CEMT
TZOFFSETFROM:+0200
TZOFFSETTO:+0300
DTSTART:19450524T020000
RDATE:19470511T030000
END:DAYLIGHT
BEGIN:DAYLIGHT
TZNAME:CEST
TZOFFSETFROM:+0300
TZOFFSETTO:+0200
DTSTART:19450924T030000
RDATE:19470629T030000
END:DAYLIGHT
BEGIN:STANDARD
TZNAME:CET
TZOFFSETFROM:+0100
TZOFFSETTO:+0100
DTSTART:19460101T000000
RDATE:19800101T000000
END:STANDARD
BEGIN:STANDARD
TZNAME:CET
TZOFFSETFROM:+0200
TZOFFSETTO:+0100
DTSTART:19471005T030000
RRULE:FREQ=YEARLY;UNTIL=19491002T010000Z;BYMONTH=10;BYDAY=1SU
END:STANDARD
BEGIN:STANDARD
TZNAME:CET
TZOFFSETFROM:+0200
TZOFFSETTO:+0100
DTSTART:19800928T030000
RRULE:FREQ=YEARLY;UNTIL=19950924T010000Z;BYMONTH=9;BYDAY=-1SU
END:STANDARD
BEGIN:DAYLIGHT
TZNAME:CEST
TZOFFSETFROM:+0100
TZOFFSETTO:+0200
DTSTART:19810329T020000
RRULE:FREQ=YEARLY;BYMONTH=3;BYDAY=-1SU
END:DAYLIGHT
BEGIN:STANDARD
TZNAME:CET
TZOFFSETFROM:+0200
TZOFFSETTO:+0100
DTSTART:19961027T030000
RRULE:FREQ=YEARLY;BYMONTH=10;BYDAY=-1SU
END:STANDARD
END:VTIMEZONE
BEGIN:VEVENT
DTSTAMP:20260422T181937Z
DTSTART;TZID=Europe/Berlin:20130302T170000
DTEND;TZID=Europe/Berlin:20130302T200000
SUMMARY:2. Bezirksliga West SV Rot-Weiß Treuen  vs Post SV Plauen  (69)
UID:600e4e55-61d9-3ce1-e053-1fc7a80a6bb5
STATUS:CONFIRMED
LAST-MODIFIED:20160129T101321Z
DESCRIPTION:2. Bezirksliga Herren West\nBegegnungs-Nr: 69\nHeim: SV Rot-Weiß Treuen \nGast: Post SV Plauen \n
LOCATION:
CATEGORIES:Saison 2012/13
END:VEVENT
BEGIN:VEVENT
DTSTAMP:20260422T181937Z
DTSTART;TZID=Europe/Berlin:20121103T160000
DTEND;TZID=Europe/Berlin:20121103T190000
SUMMARY:2. Bezirksliga West SV Rot-Weiß Treuen  vs SV Schnarrtanne 1890  (27)
UID:600e4e4d-39cd-3ce1-e053-1fc7a80a6bb5
STATUS:CONFIRMED
LAST-MODIFIED:20160129T101321Z
DESCRIPTION:2. Bezirksliga Herren West\nBegegnungs-Nr: 27\nHeim: SV Rot-Weiß Treuen \nGast: SV Schnarrtanne 1890 \n
LOCATION:
CATEGORIES:Saison 2012/13
END:VEVENT
BEGIN:VEVENT
DTSTAMP:20260422T181937Z
DTSTART;TZID=Europe/Berlin:20121117T180000
DTEND;TZID=Europe/Berlin:20121117T210000
SUMMARY:2. Bezirksliga West SV Rot-Weiß Treuen  vs VfB Lengenfeld 1908 II (31)
UID:600e4e4d-39d1-3ce1-e053-1fc7a80a6bb5
STATUS:CONFIRMED
LAST-MODIFIED:20160129T101321Z
DESCRIPTION:2. Bezirksliga Herren West\nBegegnungs-Nr: 31\nHeim: SV Rot-Weiß Treuen \nGast: VfB Lengenfeld 1908 II\n
LOCATION:
CATEGORIES:Saison 2012/13
END:VEVENT
BEGIN:VEVENT
DTSTAMP:20260422T181937Z
DTSTART;TZID=Europe/Berlin:20130112T160000
DTEND;TZID=Europe/Berlin:20130112T190000
SUMMARY:2. Bezirksliga West SV Rot-Weiß Treuen  vs SV SR Hohenstein-E. III (51)
UID:600e4e4d-3e77-3ce1-e053-1fc7a80a6bb5
STATUS:CONFIRMED
LAST-MODIFIED:20160129T101321Z
DESCRIPTION:2. Bezirksliga Herren West\nBegegnungs-Nr: 51\nHeim: SV Rot-Weiß Treuen \nGast: SV SR Hohenstein-E. III\n
LOCATION:
CATEGORIES:Saison 2012/13
END:VEVENT
BEGIN:VEVENT
DTSTAMP:20260422T181937Z
DTSTART;TZID=Europe/Berlin:20130201T190000
DTEND;TZID=Europe/Berlin:20130201T220000
SUMMARY:2. Bezirksliga West SV Rot-Weiß Treuen  vs SV Cainsdorf  (56)
UID:600e4e4d-4301-3ce1-e053-1fc7a80a6bb5
STATUS:CONFIRMED
LAST-MODIFIED:20160129T101321Z
DESCRIPTION:2. Bezirksliga Herren West\nBegegnungs-Nr: 56\nHeim: SV Rot-Weiß Treuen \nGast: SV Cainsdorf \n
LOCATION:
CATEGORIES:Saison 2012/13
END:VEVENT
BEGIN:VEVENT
DTSTAMP:20260422T181937Z
DTSTART;TZID=Europe/Berlin:20130323T170000
DTEND;TZID=Europe/Berlin:20130323T200000
SUMMARY:2. Bezirksliga West SV Rot-Weiß Treuen  vs SV Muldental Wilkau-Haßlau II (81)
UID:600e4e4d-47a5-3ce1-e053-1fc7a80a6bb5
STATUS:CONFIRMED
LAST-MODIFIED:20160129T101321Z
DESCRIPTION:2. Bezirksliga Herren West\nBegegnungs-Nr: 81\nHeim: SV Rot-Weiß Treuen \nGast: SV Muldental Wilkau-Haßlau II\n
LOCATION:
CATEGORIES:Saison 2012/13
END:VEVENT
BEGIN:VEVENT
DTSTAMP:20260422T181937Z
DTSTART;TZID=Europe/Berlin:20120929T160000
DTEND;TZID=Europe/Berlin:20120929T190000
SUMMARY:2. Bezirksliga West SV Rot-Weiß Treuen  vs Elsterberger BC  (7)
UID:600e4e4d-3e71-3ce1-e053-1fc7a80a6bb5
STATUS:CONFIRMED
LAST-MODIFIED:20160129T101321Z
DESCRIPTION:2. Bezirksliga Herren West\nBegegnungs-Nr: 7\nHeim: SV Rot-Weiß Treuen \nGast: Elsterberger BC \n
LOCATION:
CATEGORIES:Saison 2012/13
END:VEVENT
BEGIN:VEVENT
DTSTAMP:20260422T181937Z
DTSTART;TZID=Europe/Berlin:20130413T160000
DTEND;TZID=Europe/Berlin:20130413T190000
SUMMARY:2. Bezirksliga West SV Rot-Weiß Treuen  vs TV Ellefeld  (90)
UID:600e4e4d-47ad-3ce1-e053-1fc7a80a6bb5
STATUS:CONFIRMED
LAST-MODIFIED:20160129T101321Z
DESCRIPTION:2. Bezirksliga Herren West\nBegegnungs-Nr: 90\nHeim: SV Rot-Weiß Treuen \nGast: TV Ellefeld \n
LOCATION:
CATEGORIES:Saison 2012/13
END:VEVENT
BEGIN:VEVENT
DTSTAMP:20260422T181937Z
DTSTART;TZID=Europe/Berlin:20121006T160000
DTEND;TZID=Europe/Berlin:20121006T190000
SUMMARY:2. Bezirksliga West SV Rot-Weiß Treuen  vs SG Blau-Weiß Reichenbach II (12)
UID:600e4e59-45e2-3ce1-e053-1fc7a80a6bb5
STATUS:CONFIRMED
LAST-MODIFIED:20160129T101320Z
DESCRIPTION:2. Bezirksliga Herren West\nBegegnungs-Nr: 12\nHeim: SV Rot-Weiß Treuen \nGast: SG Blau-Weiß Reichenbach II\n
LOCATION:
CATEGORIES:Saison 2012/13
END:VEVENT
BEGIN:VEVENT
DTSTAMP:20260422T181937Z
DTSTART;TZID=Europe/Berlin:20120915T150000
DTEND;TZID=Europe/Berlin:20120915T180000
SUMMARY:2. Bezirksliga West SV Cainsdorf  vs SV Rot-Weiß Treuen  (1)
UID:600e4e55-55fa-3ce1-e053-1fc7a80a6bb5
STATUS:CONFIRMED
LAST-MODIFIED:20160129T101320Z
DESCRIPTION:2. Bezirksliga Herren West\nBegegnungs-Nr: 1\nHeim: SV Cainsdorf \nGast: SV Rot-Weiß Treuen \n
LOCATION:
CATEGORIES:Saison 2012/13
END:VEVENT
BEGIN:VEVENT
DTSTAMP:20260422T181937Z
DTSTART;TZID=Europe/Berlin:20121021T090000
DTEND;TZID=Europe/Berlin:20121021T120000
SUMMARY:2. Bezirksliga West Post SV Plauen  vs SV Rot-Weiß Treuen  (18)
UID:600e4e4d-39c4-3ce1-e053-1fc7a80a6bb5
STATUS:CONFIRMED
LAST-MODIFIED:20160129T101320Z
DESCRIPTION:2. Bezirksliga Herren West\nBegegnungs-Nr: 18\nHeim: Post SV Plauen \nGast: SV Rot-Weiß Treuen \n
LOCATION:
CATEGORIES:Saison 2012/13
END:VEVENT
BEGIN:VEVENT
DTSTAMP:20260422T181937Z
DTSTART;TZID=Europe/Berlin:20121209T100000
DTEND;TZID=Europe/Berlin:20121209T130000
SUMMARY:2. Bezirksliga West TV Ellefeld  vs SV Rot-Weiß Treuen  (45)
UID:600e4e4d-3e6f-3ce1-e053-1fc7a80a6bb5
STATUS:CONFIRMED
LAST-MODIFIED:20160129T101321Z
DESCRIPTION:2. Bezirksliga Herren West\nBegegnungs-Nr: 45\nHeim: TV Ellefeld \nGast: SV Rot-Weiß Treuen \n
LOCATION:
CATEGORIES:Saison 2012/13
END:VEVENT
BEGIN:VEVENT
DTSTAMP:20260422T181937Z
DTSTART;TZID=Europe/Berlin:20130105T150000
DTEND;TZID=Europe/Berlin:20130105T180000
SUMMARY:2. Bezirksliga West Elsterberger BC  vs SV Rot-Weiß Treuen  (47)
UID:600e4e4d-3e74-3ce1-e053-1fc7a80a6bb5
STATUS:CONFIRMED
LAST-MODIFIED:20160129T101321Z
DESCRIPTION:2. Bezirksliga Herren West\nBegegnungs-Nr: 47\nHeim: Elsterberger BC \nGast: SV Rot-Weiß Treuen \n
LOCATION:
CATEGORIES:Saison 2012/13
END:VEVENT
BEGIN:VEVENT
DTSTAMP:20260422T181937Z
DTSTART;TZID=Europe/Berlin:20130217T090000
DTEND;TZID=Europe/Berlin:20130217T120000
SUMMARY:2. Bezirksliga West VfB Lengenfeld 1908 II vs SV Rot-Weiß Treuen  (62)
UID:600e4e4d-4306-3ce1-e053-1fc7a80a6bb5
STATUS:CONFIRMED
LAST-MODIFIED:20160129T101321Z
DESCRIPTION:2. Bezirksliga Herren West\nBegegnungs-Nr: 62\nHeim: VfB Lengenfeld 1908 II\nGast: SV Rot-Weiß Treuen \n
LOCATION:
CATEGORIES:Saison 2012/13
END:VEVENT
BEGIN:VEVENT
DTSTAMP:20260422T181937Z
DTSTART;TZID=Europe/Berlin:20130317T090000
DTEND;TZID=Europe/Berlin:20130317T120000
SUMMARY:2. Bezirksliga West SV Schnarrtanne 1890  vs SV Rot-Weiß Treuen  (74)
UID:600e4e4d-430f-3ce1-e053-1fc7a80a6bb5
STATUS:CONFIRMED
LAST-MODIFIED:20160129T101321Z
DESCRIPTION:2. Bezirksliga Herren West\nBegegnungs-Nr: 74\nHeim: SV Schnarrtanne 1890 \nGast: SV Rot-Weiß Treuen \n
LOCATION:
CATEGORIES:Saison 2012/13
END:VEVENT
BEGIN:VEVENT
DTSTAMP:20260422T181937Z
DTSTART;TZID=Europe/Berlin:20121124T150000
DTEND;TZID=Europe/Berlin:20121124T180000
SUMMARY:2. Bezirksliga West SV Muldental Wilkau-Haßlau II vs SV Rot-Weiß Treuen  (32)
UID:600e4e4d-39d2-3ce1-e053-1fc7a80a6bb5
STATUS:CONFIRMED
LAST-MODIFIED:20160129T101321Z
DESCRIPTION:2. Bezirksliga Herren West\nBegegnungs-Nr: 32\nHeim: SV Muldental Wilkau-Haßlau II\nGast: SV Rot-Weiß Treuen \n
LOCATION:
CATEGORIES:Saison 2012/13
END:VEVENT
BEGIN:VEVENT
DTSTAMP:20260422T181937Z
DTSTART;TZID=Europe/Berlin:20130407T100000
DTEND;TZID=Europe/Berlin:20130407T130000
SUMMARY:2. Bezirksliga West SG Blau-Weiß Reichenbach II vs SV Rot-Weiß Treuen  (84)
UID:600e4e59-499e-3ce1-e053-1fc7a80a6bb5
STATUS:CONFIRMED
LAST-MODIFIED:20160129T101321Z
DESCRIPTION:2. Bezirksliga Herren West\nBegegnungs-Nr: 84\nHeim: SG Blau-Weiß Reichenbach II\nGast: SV Rot-Weiß Treuen \n
LOCATION:
CATEGORIES:Saison 2012/13
END:VEVENT
BEGIN:VEVENT
DTSTAMP:20260422T181937Z
DTSTART;TZID=Europe/Berlin:20121123T190000
DTEND;TZID=Europe/Berlin:20121123T220000
SUMMARY:2. Bezirksliga West SV SR Hohenstein-E. III vs SV Rot-Weiß Treuen  (23)
UID:600e4e59-5f51-3ce1-e053-1fc7a80a6bb5
STATUS:CONFIRMED
LAST-MODIFIED:20160129T101321Z
DESCRIPTION:2. Bezirksliga Herren West\nBegegnungs-Nr: 23\nHeim: SV SR Hohenstein-E. III\nGast: SV Rot-Weiß Treuen \n
LOCATION:
CATEGORIES:Saison 2012/13
END:VEVENT
END:VCALENDAR
