BEGIN:VCALENDAR
PRODID:-//nuDatenautomaten//framework iCal4j //DE
VERSION:2.0
CALSCALE:GREGORIAN
BEGIN:VTIMEZONE
TZID:Europe/Berlin
LAST-MODIFIED:20260306T231828Z
TZURL:https://www.tzurl.org/zoneinfo/Europe/Berlin
X-LIC-LOCATION:Europe/Berlin
X-PROLEPTIC-TZNAME:LMT
BEGIN:STANDARD
TZNAME:CET
TZOFFSETFROM:+005328
TZOFFSETTO:+0100
DTSTART:18930401T000000
END:STANDARD
BEGIN:DAYLIGHT
TZNAME:CEST
TZOFFSETFROM:+0100
TZOFFSETTO:+0200
DTSTART:19160430T230000
RDATE:19400401T020000
RDATE:19430329T020000
RDATE:19460414T020000
RDATE:19470406T030000
RDATE:19480418T020000
RDATE:19490410T020000
RDATE:19800406T020000
END:DAYLIGHT
BEGIN:STANDARD
TZNAME:CET
TZOFFSETFROM:+0200
TZOFFSETTO:+0100
DTSTART:19161001T010000
RDATE:19421102T030000
RDATE:19431004T030000
RDATE:19441002T030000
RDATE:19451118T030000
RDATE:19461007T030000
END:STANDARD
BEGIN:DAYLIGHT
TZNAME:CEST
TZOFFSETFROM:+0100
TZOFFSETTO:+0200
DTSTART:19170416T020000
RRULE:FREQ=YEARLY;UNTIL=19180415T010000Z;BYMONTH=4;BYDAY=3MO
END:DAYLIGHT
BEGIN:STANDARD
TZNAME:CET
TZOFFSETFROM:+0200
TZOFFSETTO:+0100
DTSTART:19170917T030000
RRULE:FREQ=YEARLY;UNTIL=19180916T010000Z;BYMONTH=9;BYDAY=3MO
END:STANDARD
BEGIN:DAYLIGHT
TZNAME:CEST
TZOFFSETFROM:+0100
TZOFFSETTO:+0200
DTSTART:19440403T020000
RRULE:FREQ=YEARLY;UNTIL=19450402T010000Z;BYMONTH=4;BYDAY=1MO
END:DAYLIGHT
BEGIN:DAYLIGHT
TZNAME:CEMT
TZOFFSETFROM:+0200
TZOFFSETTO:+0300
DTSTART:19450524T020000
RDATE:19470511T030000
END:DAYLIGHT
BEGIN:DAYLIGHT
TZNAME:CEST
TZOFFSETFROM:+0300
TZOFFSETTO:+0200
DTSTART:19450924T030000
RDATE:19470629T030000
END:DAYLIGHT
BEGIN:STANDARD
TZNAME:CET
TZOFFSETFROM:+0100
TZOFFSETTO:+0100
DTSTART:19460101T000000
RDATE:19800101T000000
END:STANDARD
BEGIN:STANDARD
TZNAME:CET
TZOFFSETFROM:+0200
TZOFFSETTO:+0100
DTSTART:19471005T030000
RRULE:FREQ=YEARLY;UNTIL=19491002T010000Z;BYMONTH=10;BYDAY=1SU
END:STANDARD
BEGIN:STANDARD
TZNAME:CET
TZOFFSETFROM:+0200
TZOFFSETTO:+0100
DTSTART:19800928T030000
RRULE:FREQ=YEARLY;UNTIL=19950924T010000Z;BYMONTH=9;BYDAY=-1SU
END:STANDARD
BEGIN:DAYLIGHT
TZNAME:CEST
TZOFFSETFROM:+0100
TZOFFSETTO:+0200
DTSTART:19810329T020000
RRULE:FREQ=YEARLY;BYMONTH=3;BYDAY=-1SU
END:DAYLIGHT
BEGIN:STANDARD
TZNAME:CET
TZOFFSETFROM:+0200
TZOFFSETTO:+0100
DTSTART:19961027T030000
RRULE:FREQ=YEARLY;BYMONTH=10;BYDAY=-1SU
END:STANDARD
END:VTIMEZONE
BEGIN:VEVENT
DTSTAMP:20260423T093734Z
DTSTART;TZID=Europe/Berlin:20130301T194500
DTEND;TZID=Europe/Berlin:20130301T224500
SUMMARY:3. Stadtklasse Staffel 2 TTV Blau-Weiß Zschachwitz IV vs SV Gymnasium DKS Dresden II (670)
UID:600e4e55-4685-3ce1-e053-1fc7a80a6bb5
STATUS:CONFIRMED
LAST-MODIFIED:20160129T101549Z
DESCRIPTION:3. Stadtklasse Herren Staffel 2\nBegegnungs-Nr: 670\nHeim: TTV Blau-Weiß Zschachwitz IV\nGast: SV Gymnasium DKS Dresden II\n
LOCATION:
CATEGORIES:Saison 2012/13
END:VEVENT
BEGIN:VEVENT
DTSTAMP:20260423T093734Z
DTSTART;TZID=Europe/Berlin:20120914T194500
DTEND;TZID=Europe/Berlin:20120914T224500
SUMMARY:3. Stadtklasse Staffel 2 TTV Blau-Weiß Zschachwitz IV vs SV Dresden-Mitte 1950 IX (605)
UID:600e4e4d-4a24-3ce1-e053-1fc7a80a6bb5
STATUS:CONFIRMED
LAST-MODIFIED:20160129T101548Z
DESCRIPTION:3. Stadtklasse Herren Staffel 2\nBegegnungs-Nr: 605\nHeim: TTV Blau-Weiß Zschachwitz IV\nGast: SV Dresden-Mitte 1950 IX\n
LOCATION:
CATEGORIES:Saison 2012/13
END:VEVENT
BEGIN:VEVENT
DTSTAMP:20260423T093734Z
DTSTART;TZID=Europe/Berlin:20120928T194500
DTEND;TZID=Europe/Berlin:20120928T224500
SUMMARY:3. Stadtklasse Staffel 2 TTV Blau-Weiß Zschachwitz IV vs Sportfreunde Dresden-Nord IV (615)
UID:600e4e4d-4a2d-3ce1-e053-1fc7a80a6bb5
STATUS:CONFIRMED
LAST-MODIFIED:20160129T101548Z
DESCRIPTION:3. Stadtklasse Herren Staffel 2\nBegegnungs-Nr: 615\nHeim: TTV Blau-Weiß Zschachwitz IV\nGast: Sportfreunde Dresden-Nord IV\n
LOCATION:
CATEGORIES:Saison 2012/13
END:VEVENT
BEGIN:VEVENT
DTSTAMP:20260423T093734Z
DTSTART;TZID=Europe/Berlin:20121012T194500
DTEND;TZID=Europe/Berlin:20121012T224500
SUMMARY:3. Stadtklasse Staffel 2 TTV Blau-Weiß Zschachwitz IV vs SV Sachsenwerk Dresden IV (620)
UID:600e4e4d-4a31-3ce1-e053-1fc7a80a6bb5
STATUS:CONFIRMED
LAST-MODIFIED:20160129T101548Z
DESCRIPTION:3. Stadtklasse Herren Staffel 2\nBegegnungs-Nr: 620\nHeim: TTV Blau-Weiß Zschachwitz IV\nGast: SV Sachsenwerk Dresden IV\n
LOCATION:
CATEGORIES:Saison 2012/13
END:VEVENT
BEGIN:VEVENT
DTSTAMP:20260423T093734Z
DTSTART;TZID=Europe/Berlin:20121123T194500
DTEND;TZID=Europe/Berlin:20121123T224500
SUMMARY:3. Stadtklasse Staffel 2 TTV Blau-Weiß Zschachwitz IV vs TTC Elbe Dresden VIII (640)
UID:600e4e4d-4ebf-3ce1-e053-1fc7a80a6bb5
STATUS:CONFIRMED
LAST-MODIFIED:20160129T101548Z
DESCRIPTION:3. Stadtklasse Herren Staffel 2\nBegegnungs-Nr: 640\nHeim: TTV Blau-Weiß Zschachwitz IV\nGast: TTC Elbe Dresden VIII\n
LOCATION:
CATEGORIES:Saison 2012/13
END:VEVENT
BEGIN:VEVENT
DTSTAMP:20260423T093734Z
DTSTART;TZID=Europe/Berlin:20130308T194500
DTEND;TZID=Europe/Berlin:20130308T224500
SUMMARY:3. Stadtklasse Staffel 2 TTV Blau-Weiß Zschachwitz IV vs SV Dresden-Neustadt II (673)
UID:600e4e4d-57e8-3ce1-e053-1fc7a80a6bb5
STATUS:CONFIRMED
LAST-MODIFIED:20160129T101549Z
DESCRIPTION:3. Stadtklasse Herren Staffel 2\nBegegnungs-Nr: 673\nHeim: TTV Blau-Weiß Zschachwitz IV\nGast: SV Dresden-Neustadt II\n
LOCATION:
CATEGORIES:Saison 2012/13
END:VEVENT
BEGIN:VEVENT
DTSTAMP:20260423T093734Z
DTSTART;TZID=Europe/Berlin:20130315T194500
DTEND;TZID=Europe/Berlin:20130315T224500
SUMMARY:3. Stadtklasse Staffel 2 TTV Blau-Weiß Zschachwitz IV vs TTV System-Haus Dresden 90 III (680)
UID:600e4e4d-57ee-3ce1-e053-1fc7a80a6bb5
STATUS:CONFIRMED
LAST-MODIFIED:20160129T101549Z
DESCRIPTION:3. Stadtklasse Herren Staffel 2\nBegegnungs-Nr: 680\nHeim: TTV Blau-Weiß Zschachwitz IV\nGast: TTV System-Haus Dresden 90 III\n
LOCATION:
CATEGORIES:Saison 2012/13
END:VEVENT
BEGIN:VEVENT
DTSTAMP:20260423T093734Z
DTSTART;TZID=Europe/Berlin:20130125T194500
DTEND;TZID=Europe/Berlin:20130125T224500
SUMMARY:3. Stadtklasse Staffel 2 TTV Blau-Weiß Zschachwitz IV vs TSV Theeg.-PACTEC Dresden VI (655)
UID:600e4e59-5bda-3ce1-e053-1fc7a80a6bb5
STATUS:CONFIRMED
LAST-MODIFIED:20160129T101548Z
DESCRIPTION:3. Stadtklasse Herren Staffel 2\nBegegnungs-Nr: 655\nHeim: TTV Blau-Weiß Zschachwitz IV\nGast: TSV Theeg.-PACTEC Dresden VI\n
LOCATION:
CATEGORIES:Saison 2012/13
END:VEVENT
BEGIN:VEVENT
DTSTAMP:20260423T093734Z
DTSTART;TZID=Europe/Berlin:20130412T194500
DTEND;TZID=Europe/Berlin:20130412T224500
SUMMARY:3. Stadtklasse Staffel 2 TTV Blau-Weiß Zschachwitz IV vs SV TuR Dresden II (690)
UID:600e4e59-78dc-3ce1-e053-1fc7a80a6bb5
STATUS:CONFIRMED
LAST-MODIFIED:20160129T101549Z
DESCRIPTION:3. Stadtklasse Herren Staffel 2\nBegegnungs-Nr: 690\nHeim: TTV Blau-Weiß Zschachwitz IV\nGast: SV TuR Dresden II\n
LOCATION:
CATEGORIES:Saison 2012/13
END:VEVENT
BEGIN:VEVENT
DTSTAMP:20260423T093734Z
DTSTART;TZID=Europe/Berlin:20121203T193000
DTEND;TZID=Europe/Berlin:20121203T223000
SUMMARY:3. Stadtklasse Staffel 2 SV TuR Dresden II vs TTV Blau-Weiß Zschachwitz IV (641)
UID:600e4e55-69bb-3ce1-e053-1fc7a80a6bb5
STATUS:CONFIRMED
LAST-MODIFIED:20160129T101548Z
DESCRIPTION:3. Stadtklasse Herren Staffel 2\nBegegnungs-Nr: 641\nHeim: SV TuR Dresden II\nGast: TTV Blau-Weiß Zschachwitz IV\n
LOCATION:
CATEGORIES:Saison 2012/13
END:VEVENT
BEGIN:VEVENT
DTSTAMP:20260423T093734Z
DTSTART;TZID=Europe/Berlin:20120918T193000
DTEND;TZID=Europe/Berlin:20120918T223000
SUMMARY:3. Stadtklasse Staffel 2 TSV Theeg.-PACTEC Dresden VI vs TTV Blau-Weiß Zschachwitz IV (608)
UID:600e4e4d-4a27-3ce1-e053-1fc7a80a6bb5
STATUS:CONFIRMED
LAST-MODIFIED:20160129T101548Z
DESCRIPTION:3. Stadtklasse Herren Staffel 2\nBegegnungs-Nr: 608\nHeim: TSV Theeg.-PACTEC Dresden VI\nGast: TTV Blau-Weiß Zschachwitz IV\n
LOCATION:
CATEGORIES:Saison 2012/13
END:VEVENT
BEGIN:VEVENT
DTSTAMP:20260423T093734Z
DTSTART;TZID=Europe/Berlin:20121017T194500
DTEND;TZID=Europe/Berlin:20121017T224500
SUMMARY:3. Stadtklasse Staffel 2 SV Gymnasium DKS Dresden II vs TTV Blau-Weiß Zschachwitz IV (623)
UID:600e4e4d-4a33-3ce1-e053-1fc7a80a6bb5
STATUS:CONFIRMED
LAST-MODIFIED:20160129T101548Z
DESCRIPTION:3. Stadtklasse Herren Staffel 2\nBegegnungs-Nr: 623\nHeim: SV Gymnasium DKS Dresden II\nGast: TTV Blau-Weiß Zschachwitz IV\n
LOCATION:
CATEGORIES:Saison 2012/13
END:VEVENT
BEGIN:VEVENT
DTSTAMP:20260423T093734Z
DTSTART;TZID=Europe/Berlin:20121108T194500
DTEND;TZID=Europe/Berlin:20121108T224500
SUMMARY:3. Stadtklasse Staffel 2 SV Dresden-Neustadt II vs TTV Blau-Weiß Zschachwitz IV (630)
UID:600e4e4d-4eb6-3ce1-e053-1fc7a80a6bb5
STATUS:CONFIRMED
LAST-MODIFIED:20160129T101548Z
DESCRIPTION:3. Stadtklasse Herren Staffel 2\nBegegnungs-Nr: 630\nHeim: SV Dresden-Neustadt II\nGast: TTV Blau-Weiß Zschachwitz IV\n
LOCATION:
CATEGORIES:Saison 2012/13
END:VEVENT
BEGIN:VEVENT
DTSTAMP:20260423T093734Z
DTSTART;TZID=Europe/Berlin:20121116T193000
DTEND;TZID=Europe/Berlin:20121116T223000
SUMMARY:3. Stadtklasse Staffel 2 TTV System-Haus Dresden 90 III vs TTV Blau-Weiß Zschachwitz IV (634)
UID:600e4e4d-4eb9-3ce1-e053-1fc7a80a6bb5
STATUS:CONFIRMED
LAST-MODIFIED:20160129T101548Z
DESCRIPTION:3. Stadtklasse Herren Staffel 2\nBegegnungs-Nr: 634\nHeim: TTV System-Haus Dresden 90 III\nGast: TTV Blau-Weiß Zschachwitz IV\n
LOCATION:
CATEGORIES:Saison 2012/13
END:VEVENT
BEGIN:VEVENT
DTSTAMP:20260423T093734Z
DTSTART;TZID=Europe/Berlin:20130118T193000
DTEND;TZID=Europe/Berlin:20130118T223000
SUMMARY:3. Stadtklasse Staffel 2 SV Dresden-Mitte 1950 IX vs TTV Blau-Weiß Zschachwitz IV (650)
UID:600e4e4d-5337-3ce1-e053-1fc7a80a6bb5
STATUS:CONFIRMED
LAST-MODIFIED:20160129T101548Z
DESCRIPTION:3. Stadtklasse Herren Staffel 2\nBegegnungs-Nr: 650\nHeim: SV Dresden-Mitte 1950 IX\nGast: TTV Blau-Weiß Zschachwitz IV\n
LOCATION:
CATEGORIES:Saison 2012/13
END:VEVENT
BEGIN:VEVENT
DTSTAMP:20260423T093734Z
DTSTART;TZID=Europe/Berlin:20130128T193000
DTEND;TZID=Europe/Berlin:20130128T223000
SUMMARY:3. Stadtklasse Staffel 2 Sportfreunde Dresden-Nord IV vs TTV Blau-Weiß Zschachwitz IV (657)
UID:600e4e4d-533d-3ce1-e053-1fc7a80a6bb5
STATUS:CONFIRMED
LAST-MODIFIED:20160129T101548Z
DESCRIPTION:3. Stadtklasse Herren Staffel 2\nBegegnungs-Nr: 657\nHeim: Sportfreunde Dresden-Nord IV\nGast: TTV Blau-Weiß Zschachwitz IV\n
LOCATION:
CATEGORIES:Saison 2012/13
END:VEVENT
BEGIN:VEVENT
DTSTAMP:20260423T093734Z
DTSTART;TZID=Europe/Berlin:20130219T191500
DTEND;TZID=Europe/Berlin:20130219T221500
SUMMARY:3. Stadtklasse Staffel 2 SV Sachsenwerk Dresden IV vs TTV Blau-Weiß Zschachwitz IV (662)
UID:600e4e4d-5342-3ce1-e053-1fc7a80a6bb5
STATUS:CONFIRMED
LAST-MODIFIED:20160129T101549Z
DESCRIPTION:3. Stadtklasse Herren Staffel 2\nBegegnungs-Nr: 662\nHeim: SV Sachsenwerk Dresden IV\nGast: TTV Blau-Weiß Zschachwitz IV\n
LOCATION:
CATEGORIES:Saison 2012/13
END:VEVENT
BEGIN:VEVENT
DTSTAMP:20260423T093734Z
DTSTART;TZID=Europe/Berlin:20130322T193000
DTEND;TZID=Europe/Berlin:20130322T223000
SUMMARY:3. Stadtklasse Staffel 2 TTC Elbe Dresden VIII vs TTV Blau-Weiß Zschachwitz IV (683)
UID:600e4e4d-57f1-3ce1-e053-1fc7a80a6bb5
STATUS:CONFIRMED
LAST-MODIFIED:20160129T101549Z
DESCRIPTION:3. Stadtklasse Herren Staffel 2\nBegegnungs-Nr: 683\nHeim: TTC Elbe Dresden VIII\nGast: TTV Blau-Weiß Zschachwitz IV\n
LOCATION:
CATEGORIES:Saison 2012/13
END:VEVENT
END:VCALENDAR
