BEGIN:VCALENDAR
PRODID:-//nuDatenautomaten//framework iCal4j //DE
VERSION:2.0
CALSCALE:GREGORIAN
BEGIN:VTIMEZONE
TZID:Europe/Berlin
LAST-MODIFIED:20260306T231828Z
TZURL:https://www.tzurl.org/zoneinfo/Europe/Berlin
X-LIC-LOCATION:Europe/Berlin
X-PROLEPTIC-TZNAME:LMT
BEGIN:STANDARD
TZNAME:CET
TZOFFSETFROM:+005328
TZOFFSETTO:+0100
DTSTART:18930401T000000
END:STANDARD
BEGIN:DAYLIGHT
TZNAME:CEST
TZOFFSETFROM:+0100
TZOFFSETTO:+0200
DTSTART:19160430T230000
RDATE:19400401T020000
RDATE:19430329T020000
RDATE:19460414T020000
RDATE:19470406T030000
RDATE:19480418T020000
RDATE:19490410T020000
RDATE:19800406T020000
END:DAYLIGHT
BEGIN:STANDARD
TZNAME:CET
TZOFFSETFROM:+0200
TZOFFSETTO:+0100
DTSTART:19161001T010000
RDATE:19421102T030000
RDATE:19431004T030000
RDATE:19441002T030000
RDATE:19451118T030000
RDATE:19461007T030000
END:STANDARD
BEGIN:DAYLIGHT
TZNAME:CEST
TZOFFSETFROM:+0100
TZOFFSETTO:+0200
DTSTART:19170416T020000
RRULE:FREQ=YEARLY;UNTIL=19180415T010000Z;BYMONTH=4;BYDAY=3MO
END:DAYLIGHT
BEGIN:STANDARD
TZNAME:CET
TZOFFSETFROM:+0200
TZOFFSETTO:+0100
DTSTART:19170917T030000
RRULE:FREQ=YEARLY;UNTIL=19180916T010000Z;BYMONTH=9;BYDAY=3MO
END:STANDARD
BEGIN:DAYLIGHT
TZNAME:CEST
TZOFFSETFROM:+0100
TZOFFSETTO:+0200
DTSTART:19440403T020000
RRULE:FREQ=YEARLY;UNTIL=19450402T010000Z;BYMONTH=4;BYDAY=1MO
END:DAYLIGHT
BEGIN:DAYLIGHT
TZNAME:CEMT
TZOFFSETFROM:+0200
TZOFFSETTO:+0300
DTSTART:19450524T020000
RDATE:19470511T030000
END:DAYLIGHT
BEGIN:DAYLIGHT
TZNAME:CEST
TZOFFSETFROM:+0300
TZOFFSETTO:+0200
DTSTART:19450924T030000
RDATE:19470629T030000
END:DAYLIGHT
BEGIN:STANDARD
TZNAME:CET
TZOFFSETFROM:+0100
TZOFFSETTO:+0100
DTSTART:19460101T000000
RDATE:19800101T000000
END:STANDARD
BEGIN:STANDARD
TZNAME:CET
TZOFFSETFROM:+0200
TZOFFSETTO:+0100
DTSTART:19471005T030000
RRULE:FREQ=YEARLY;UNTIL=19491002T010000Z;BYMONTH=10;BYDAY=1SU
END:STANDARD
BEGIN:STANDARD
TZNAME:CET
TZOFFSETFROM:+0200
TZOFFSETTO:+0100
DTSTART:19800928T030000
RRULE:FREQ=YEARLY;UNTIL=19950924T010000Z;BYMONTH=9;BYDAY=-1SU
END:STANDARD
BEGIN:DAYLIGHT
TZNAME:CEST
TZOFFSETFROM:+0100
TZOFFSETTO:+0200
DTSTART:19810329T020000
RRULE:FREQ=YEARLY;BYMONTH=3;BYDAY=-1SU
END:DAYLIGHT
BEGIN:STANDARD
TZNAME:CET
TZOFFSETFROM:+0200
TZOFFSETTO:+0100
DTSTART:19961027T030000
RRULE:FREQ=YEARLY;BYMONTH=10;BYDAY=-1SU
END:STANDARD
END:VTIMEZONE
BEGIN:VEVENT
DTSTAMP:20260424T161407Z
DTSTART;TZID=Europe/Berlin:20161111T201500
DTEND;TZID=Europe/Berlin:20161111T231500
SUMMARY:Bezirksklasse Gr. 4 SV Kaufungen vs FSK Lohfelden II (33)
UID:600e4e54-5035-3ce1-e053-1fc7a80a6bb5
STATUS:CONFIRMED
LAST-MODIFIED:20161116T111541Z
DESCRIPTION:Herren Bezirksklasse Gr. 4\nBegegnungs-Nr: 33\nHeim: SV Kaufungen\nGast: FSK Lohfelden II\n\nAdresse: Friedrich Ebert Straße 28\, 34260 Kaufungen\n
LOCATION:Friedrich Ebert Straße 28\, 34260 Kaufungen
CATEGORIES:Saison 2016/17
END:VEVENT
BEGIN:VEVENT
DTSTAMP:20260424T161407Z
DTSTART;TZID=Europe/Berlin:20160916T201500
DTEND;TZID=Europe/Berlin:20160916T231500
SUMMARY:Bezirksklasse Gr. 4 SV Kaufungen vs KSV Baunatal (6)
UID:600e4e55-4076-3ce1-e053-1fc7a80a6bb5
STATUS:CONFIRMED
LAST-MODIFIED:20160921T230402Z
DESCRIPTION:Herren Bezirksklasse Gr. 4\nBegegnungs-Nr: 6\nHeim: SV Kaufungen\nGast: KSV Baunatal\n\nAdresse: Friedrich Ebert Straße 28\, 34260 Kaufungen\n
LOCATION:Friedrich Ebert Straße 28\, 34260 Kaufungen
CATEGORIES:Saison 2016/17
END:VEVENT
BEGIN:VEVENT
DTSTAMP:20260424T161407Z
DTSTART;TZID=Europe/Berlin:20161104T201500
DTEND;TZID=Europe/Berlin:20161104T231500
SUMMARY:Bezirksklasse Gr. 4 SV Kaufungen vs SC Niestetal III (29)
UID:600e4e53-d86a-3ce1-e053-1fc7a80a6bb5
STATUS:CONFIRMED
LAST-MODIFIED:20161107T170907Z
DESCRIPTION:Herren Bezirksklasse Gr. 4\nBegegnungs-Nr: 29\nHeim: SV Kaufungen\nGast: SC Niestetal III\n\nAdresse: Friedrich Ebert Straße 28\, 34260 Kaufungen\n
LOCATION:Friedrich Ebert Straße 28\, 34260 Kaufungen
CATEGORIES:Saison 2016/17
END:VEVENT
BEGIN:VEVENT
DTSTAMP:20260424T161407Z
DTSTART;TZID=Europe/Berlin:20170317T201500
DTEND;TZID=Europe/Berlin:20170317T231500
SUMMARY:Bezirksklasse Gr. 4 SV Kaufungen vs GSV Eintracht Baunatal II (37)
UID:600e4e4e-842e-3ce1-e053-1fc7a80a6bb5
STATUS:CONFIRMED
LAST-MODIFIED:20170320T181136Z
DESCRIPTION:Herren Bezirksklasse Gr. 4\nBegegnungs-Nr: 37\nHeim: SV Kaufungen\nGast: GSV Eintracht Baunatal II\n\nAdresse: Friedrich Ebert Straße 28\, 34260 Kaufungen\n
LOCATION:Friedrich Ebert Straße 28\, 34260 Kaufungen
CATEGORIES:Saison 2016/17
END:VEVENT
BEGIN:VEVENT
DTSTAMP:20260424T161407Z
DTSTART;TZID=Europe/Berlin:20170210T201500
DTEND;TZID=Europe/Berlin:20170210T231500
SUMMARY:Bezirksklasse Gr. 4 SV Kaufungen vs TSV 1906 Eintr. Naumburg II (16)
UID:600e4e4e-87c1-3ce1-e053-1fc7a80a6bb5
STATUS:CONFIRMED
LAST-MODIFIED:20170216T000453Z
DESCRIPTION:Herren Bezirksklasse Gr. 4\nBegegnungs-Nr: 16\nHeim: SV Kaufungen\nGast: TSV 1906 Eintr. Naumburg II\n\nAdresse: Friedrich Ebert Straße 28\, 34260 Kaufungen\n
LOCATION:Friedrich Ebert Straße 28\, 34260 Kaufungen
CATEGORIES:Saison 2016/17
END:VEVENT
BEGIN:VEVENT
DTSTAMP:20260424T161407Z
DTSTART;TZID=Europe/Berlin:20170123T201500
DTEND;TZID=Europe/Berlin:20170123T231500
SUMMARY:Bezirksklasse Gr. 4 SV Kaufungen vs FSK Lohfelden (7)
UID:600e4e4e-87c6-3ce1-e053-1fc7a80a6bb5
STATUS:CONFIRMED
LAST-MODIFIED:20170130T224508Z
DESCRIPTION:Herren Bezirksklasse Gr. 4\nBegegnungs-Nr: 7\nHeim: SV Kaufungen\nGast: FSK Lohfelden\n\nAdresse: Friedrich Ebert Straße 28\, 34260 Kaufungen\n
LOCATION:Friedrich Ebert Straße 28\, 34260 Kaufungen
CATEGORIES:Saison 2016/17
END:VEVENT
BEGIN:VEVENT
DTSTAMP:20260424T161407Z
DTSTART;TZID=Europe/Berlin:20160926T201500
DTEND;TZID=Europe/Berlin:20160926T231500
SUMMARY:Bezirksklasse Gr. 4 SV Kaufungen vs Kasseler Spvgg. Auedamm II (14)
UID:600e4e4e-8b53-3ce1-e053-1fc7a80a6bb5
STATUS:CONFIRMED
LAST-MODIFIED:20161002T182620Z
DESCRIPTION:Herren Bezirksklasse Gr. 4\nBegegnungs-Nr: 14\nHeim: SV Kaufungen\nGast: Kasseler Spvgg. Auedamm II\n\nAdresse: Friedrich Ebert Straße 28\, 34260 Kaufungen\n
LOCATION:Friedrich Ebert Straße 28\, 34260 Kaufungen
CATEGORIES:Saison 2016/17
END:VEVENT
BEGIN:VEVENT
DTSTAMP:20260424T161407Z
DTSTART;TZID=Europe/Berlin:20161014T201500
DTEND;TZID=Europe/Berlin:20161014T231500
SUMMARY:Bezirksklasse Gr. 4 SV Kaufungen vs Tuspo 1912 Rengershausen (24)
UID:600e4e4e-8eda-3ce1-e053-1fc7a80a6bb5
STATUS:CONFIRMED
LAST-MODIFIED:20161017T171013Z
DESCRIPTION:Herren Bezirksklasse Gr. 4\nBegegnungs-Nr: 24\nHeim: SV Kaufungen\nGast: Tuspo 1912 Rengershausen\n\nAdresse: Friedrich Ebert Straße 28\, 34260 Kaufungen\n
LOCATION:Friedrich Ebert Straße 28\, 34260 Kaufungen
CATEGORIES:Saison 2016/17
END:VEVENT
BEGIN:VEVENT
DTSTAMP:20260424T161407Z
DTSTART;TZID=Europe/Berlin:20170303T201500
DTEND;TZID=Europe/Berlin:20170303T231500
SUMMARY:Bezirksklasse Gr. 4 SV Kaufungen vs FT 1897 Kassel-Niederzwehren (29)
UID:600e4e5c-9a75-3ce1-e053-1fc7a80a6bb5
STATUS:CONFIRMED
LAST-MODIFIED:20170306T095153Z
DESCRIPTION:Herren Bezirksklasse Gr. 4\nBegegnungs-Nr: 29\nHeim: SV Kaufungen\nGast: FT 1897 Kassel-Niederzwehren\n\nAdresse: Friedrich Ebert Straße 28\, 34260 Kaufungen\n
LOCATION:Friedrich Ebert Straße 28\, 34260 Kaufungen
CATEGORIES:Saison 2016/17
END:VEVENT
BEGIN:VEVENT
DTSTAMP:20260424T161407Z
DTSTART;TZID=Europe/Berlin:20161202T201500
DTEND;TZID=Europe/Berlin:20161202T231500
SUMMARY:Bezirksklasse Gr. 4 SV Kaufungen vs TSG 1887 Kassel (54)
UID:600e4e59-f1ea-3ce1-e053-1fc7a80a6bb5
STATUS:CONFIRMED
LAST-MODIFIED:20161205T220513Z
DESCRIPTION:Herren Bezirksklasse Gr. 4\nBegegnungs-Nr: 54\nHeim: SV Kaufungen\nGast: TSG 1887 Kassel\n\nAdresse: Friedrich Ebert Straße 28\, 34260 Kaufungen\n
LOCATION:Friedrich Ebert Straße 28\, 34260 Kaufungen
CATEGORIES:Saison 2016/17
END:VEVENT
BEGIN:VEVENT
DTSTAMP:20260424T161407Z
DTSTART;TZID=Europe/Berlin:20170331T183000
DTEND;TZID=Europe/Berlin:20170331T213000
SUMMARY:Bezirksklasse Gr. 4 SC Niestetal III vs SV Kaufungen (46)
UID:600e4e55-4be4-3ce1-e053-1fc7a80a6bb5
STATUS:CONFIRMED
LAST-MODIFIED:20170402T083911Z
DESCRIPTION:Herren Bezirksklasse Gr. 4\nBegegnungs-Nr: 46\nHeim: SC Niestetal III\nGast: SV Kaufungen\n
LOCATION:
CATEGORIES:Saison 2016/17
END:VEVENT
BEGIN:VEVENT
DTSTAMP:20260424T161407Z
DTSTART;TZID=Europe/Berlin:20161009T103000
DTEND;TZID=Europe/Berlin:20161009T133000
SUMMARY:Bezirksklasse Gr. 4 TSV 1906 Eintr. Naumburg II vs SV Kaufungen (21)
UID:600e4e55-6380-3ce1-e053-1fc7a80a6bb5
STATUS:CONFIRMED
LAST-MODIFIED:20161010T111231Z
DESCRIPTION:Herren Bezirksklasse Gr. 4\nBegegnungs-Nr: 21\nHeim: TSV 1906 Eintr. Naumburg II\nGast: SV Kaufungen\n\nAdresse: Am Kuhberg\, 34311 Naumburg\n
LOCATION:Am Kuhberg\, 34311 Naumburg
CATEGORIES:Saison 2016/17
END:VEVENT
BEGIN:VEVENT
DTSTAMP:20260424T161407Z
DTSTART;TZID=Europe/Berlin:20161118T194500
DTEND;TZID=Europe/Berlin:20161118T224500
SUMMARY:Bezirksklasse Gr. 4 GSV Eintracht Baunatal II vs SV Kaufungen (37)
UID:600e4e54-127d-3ce1-e053-1fc7a80a6bb5
STATUS:CONFIRMED
LAST-MODIFIED:20161120T111055Z
DESCRIPTION:Herren Bezirksklasse Gr. 4\nBegegnungs-Nr: 37\nHeim: GSV Eintracht Baunatal II\nGast: SV Kaufungen\n\nAdresse: Burgbergstraße 33\, 34225 Baunatal\n
LOCATION:Burgbergstraße 33\, 34225 Baunatal
CATEGORIES:Saison 2016/17
END:VEVENT
BEGIN:VEVENT
DTSTAMP:20260424T161407Z
DTSTART;TZID=Europe/Berlin:20170217T200000
DTEND;TZID=Europe/Berlin:20170217T230000
SUMMARY:Bezirksklasse Gr. 4 FSK Lohfelden II vs SV Kaufungen (20)
UID:600e4e4e-8438-3ce1-e053-1fc7a80a6bb5
STATUS:CONFIRMED
LAST-MODIFIED:20170222T113121Z
DESCRIPTION:Herren Bezirksklasse Gr. 4\nBegegnungs-Nr: 20\nHeim: FSK Lohfelden II\nGast: SV Kaufungen\n\nAdresse: Lange Straße 51a\, 34253 Lohfelden\n
LOCATION:Lange Straße 51a\, 34253 Lohfelden
CATEGORIES:Saison 2016/17
END:VEVENT
BEGIN:VEVENT
DTSTAMP:20260424T161407Z
DTSTART;TZID=Europe/Berlin:20161126T160000
DTEND;TZID=Europe/Berlin:20161126T190000
SUMMARY:Bezirksklasse Gr. 4 FSK Lohfelden vs SV Kaufungen (48)
UID:600e4e4e-8b4f-3ce1-e053-1fc7a80a6bb5
STATUS:CONFIRMED
LAST-MODIFIED:20161127T215929Z
DESCRIPTION:Herren Bezirksklasse Gr. 4\nBegegnungs-Nr: 48\nHeim: FSK Lohfelden\nGast: SV Kaufungen\n\nAdresse: Lange Straße 51a\, 34253 Lohfelden\n
LOCATION:Lange Straße 51a\, 34253 Lohfelden
CATEGORIES:Saison 2016/17
END:VEVENT
BEGIN:VEVENT
DTSTAMP:20260424T161407Z
DTSTART;TZID=Europe/Berlin:20161031T194500
DTEND;TZID=Europe/Berlin:20161031T224500
SUMMARY:Bezirksklasse Gr. 4 FT 1897 Kassel-Niederzwehren vs SV Kaufungen (25)
UID:600e4e4e-8ee3-3ce1-e053-1fc7a80a6bb5
STATUS:CONFIRMED
LAST-MODIFIED:20161107T170510Z
DESCRIPTION:Herren Bezirksklasse Gr. 4\nBegegnungs-Nr: 25\nHeim: FT 1897 Kassel-Niederzwehren\nGast: SV Kaufungen\n\nAdresse: Korbacher Str.\, 34134 Kassel-Niederzwehren\n
LOCATION:Korbacher Str.\, 34134 Kassel-Niederzwehren
CATEGORIES:Saison 2016/17
END:VEVENT
BEGIN:VEVENT
DTSTAMP:20260424T161407Z
DTSTART;TZID=Europe/Berlin:20170224T200000
DTEND;TZID=Europe/Berlin:20170224T230000
SUMMARY:Bezirksklasse Gr. 4 Tuspo 1912 Rengershausen vs SV Kaufungen (25)
UID:600e4e5c-733e-3ce1-e053-1fc7a80a6bb5
STATUS:CONFIRMED
LAST-MODIFIED:20170227T105607Z
DESCRIPTION:Herren Bezirksklasse Gr. 4\nBegegnungs-Nr: 25\nHeim: Tuspo 1912 Rengershausen\nGast: SV Kaufungen\n\nAdresse: Am Waldsportplatz\, 34225 Baunatal\n
LOCATION:Am Waldsportplatz\, 34225 Baunatal
CATEGORIES:Saison 2016/17
END:VEVENT
BEGIN:VEVENT
DTSTAMP:20260424T161407Z
DTSTART;TZID=Europe/Berlin:20170421T201500
DTEND;TZID=Europe/Berlin:20170421T231500
SUMMARY:Bezirksklasse Gr. 4 TSG 1887 Kassel vs SV Kaufungen (53)
UID:600e4e5c-92d6-3ce1-e053-1fc7a80a6bb5
STATUS:CONFIRMED
LAST-MODIFIED:20170423T214404Z
DESCRIPTION:Herren Bezirksklasse Gr. 4\nBegegnungs-Nr: 53\nHeim: TSG 1887 Kassel\nGast: SV Kaufungen\n\nAdresse: Dittershäuser Str. 17\, 34134 Kassel\n
LOCATION:Dittershäuser Str. 17\, 34134 Kassel
CATEGORIES:Saison 2016/17
END:VEVENT
BEGIN:VEVENT
DTSTAMP:20260424T161407Z
DTSTART;TZID=Europe/Berlin:20170324T194500
DTEND;TZID=Europe/Berlin:20170324T224500
SUMMARY:Bezirksklasse Gr. 4 Kasseler Spvgg. Auedamm II vs SV Kaufungen (43)
UID:600e4e5b-3fb8-3ce1-e053-1fc7a80a6bb5
STATUS:CONFIRMED
LAST-MODIFIED:20170327T130909Z
DESCRIPTION:Herren Bezirksklasse Gr. 4\nBegegnungs-Nr: 43\nHeim: Kasseler Spvgg. Auedamm II\nGast: SV Kaufungen\n\nAdresse: Wilhelmshöher Allee 35\, 34117 Kassel\n
LOCATION:Wilhelmshöher Allee 35\, 34117 Kassel
CATEGORIES:Saison 2016/17
END:VEVENT
BEGIN:VEVENT
DTSTAMP:20260424T161407Z
DTSTART;TZID=Europe/Berlin:20170203T193000
DTEND;TZID=Europe/Berlin:20170203T223000
SUMMARY:Bezirksklasse Gr. 4 KSV Baunatal vs SV Kaufungen (9)
UID:600e4e5a-1380-3ce1-e053-1fc7a80a6bb5
STATUS:CONFIRMED
LAST-MODIFIED:20170206T163516Z
DESCRIPTION:Herren Bezirksklasse Gr. 4\nBegegnungs-Nr: 9\nHeim: KSV Baunatal\nGast: SV Kaufungen\n\nAdresse: Altenritter Str. 37\, 34225 Baunatal\n
LOCATION:Altenritter Str. 37\, 34225 Baunatal
CATEGORIES:Saison 2016/17
END:VEVENT
END:VCALENDAR
