BEGIN:VCALENDAR
PRODID:-//nuDatenautomaten//framework iCal4j //DE
VERSION:2.0
CALSCALE:GREGORIAN
BEGIN:VTIMEZONE
TZID:Europe/Berlin
LAST-MODIFIED:20260306T231828Z
TZURL:https://www.tzurl.org/zoneinfo/Europe/Berlin
X-LIC-LOCATION:Europe/Berlin
X-PROLEPTIC-TZNAME:LMT
BEGIN:STANDARD
TZNAME:CET
TZOFFSETFROM:+005328
TZOFFSETTO:+0100
DTSTART:18930401T000000
END:STANDARD
BEGIN:DAYLIGHT
TZNAME:CEST
TZOFFSETFROM:+0100
TZOFFSETTO:+0200
DTSTART:19160430T230000
RDATE:19400401T020000
RDATE:19430329T020000
RDATE:19460414T020000
RDATE:19470406T030000
RDATE:19480418T020000
RDATE:19490410T020000
RDATE:19800406T020000
END:DAYLIGHT
BEGIN:STANDARD
TZNAME:CET
TZOFFSETFROM:+0200
TZOFFSETTO:+0100
DTSTART:19161001T010000
RDATE:19421102T030000
RDATE:19431004T030000
RDATE:19441002T030000
RDATE:19451118T030000
RDATE:19461007T030000
END:STANDARD
BEGIN:DAYLIGHT
TZNAME:CEST
TZOFFSETFROM:+0100
TZOFFSETTO:+0200
DTSTART:19170416T020000
RRULE:FREQ=YEARLY;UNTIL=19180415T010000Z;BYMONTH=4;BYDAY=3MO
END:DAYLIGHT
BEGIN:STANDARD
TZNAME:CET
TZOFFSETFROM:+0200
TZOFFSETTO:+0100
DTSTART:19170917T030000
RRULE:FREQ=YEARLY;UNTIL=19180916T010000Z;BYMONTH=9;BYDAY=3MO
END:STANDARD
BEGIN:DAYLIGHT
TZNAME:CEST
TZOFFSETFROM:+0100
TZOFFSETTO:+0200
DTSTART:19440403T020000
RRULE:FREQ=YEARLY;UNTIL=19450402T010000Z;BYMONTH=4;BYDAY=1MO
END:DAYLIGHT
BEGIN:DAYLIGHT
TZNAME:CEMT
TZOFFSETFROM:+0200
TZOFFSETTO:+0300
DTSTART:19450524T020000
RDATE:19470511T030000
END:DAYLIGHT
BEGIN:DAYLIGHT
TZNAME:CEST
TZOFFSETFROM:+0300
TZOFFSETTO:+0200
DTSTART:19450924T030000
RDATE:19470629T030000
END:DAYLIGHT
BEGIN:STANDARD
TZNAME:CET
TZOFFSETFROM:+0100
TZOFFSETTO:+0100
DTSTART:19460101T000000
RDATE:19800101T000000
END:STANDARD
BEGIN:STANDARD
TZNAME:CET
TZOFFSETFROM:+0200
TZOFFSETTO:+0100
DTSTART:19471005T030000
RRULE:FREQ=YEARLY;UNTIL=19491002T010000Z;BYMONTH=10;BYDAY=1SU
END:STANDARD
BEGIN:STANDARD
TZNAME:CET
TZOFFSETFROM:+0200
TZOFFSETTO:+0100
DTSTART:19800928T030000
RRULE:FREQ=YEARLY;UNTIL=19950924T010000Z;BYMONTH=9;BYDAY=-1SU
END:STANDARD
BEGIN:DAYLIGHT
TZNAME:CEST
TZOFFSETFROM:+0100
TZOFFSETTO:+0200
DTSTART:19810329T020000
RRULE:FREQ=YEARLY;BYMONTH=3;BYDAY=-1SU
END:DAYLIGHT
BEGIN:STANDARD
TZNAME:CET
TZOFFSETFROM:+0200
TZOFFSETTO:+0100
DTSTART:19961027T030000
RRULE:FREQ=YEARLY;BYMONTH=10;BYDAY=-1SU
END:STANDARD
END:VTIMEZONE
BEGIN:VEVENT
DTSTAMP:20260424T225504Z
DTSTART;TZID=Europe/Berlin:20121207T200000
DTEND;TZID=Europe/Berlin:20121207T230000
SUMMARY:Landesliga Nord TTC Ramsharde  vs TSV Langenhorn  (106)
UID:83382ecf-f7ab-598e-e053-1fc7a80a5d7a
STATUS:CONFIRMED
LAST-MODIFIED:20190303T212510Z
DESCRIPTION:Herren - Landesliga Nord - TTVSH\nBegegnungs-Nr: 106\nHeim: TTC Ramsharde \nGast: TSV Langenhorn \n
LOCATION:
CATEGORIES:Saison 2012/13
END:VEVENT
BEGIN:VEVENT
DTSTAMP:20260424T225504Z
DTSTART;TZID=Europe/Berlin:20120831T200000
DTEND;TZID=Europe/Berlin:20120831T230000
SUMMARY:Landesliga Nord TTC Ramsharde  vs SV Friedrichsort III (59)
UID:83382ecf-f87d-598e-e053-1fc7a80a5d7a
STATUS:CONFIRMED
LAST-MODIFIED:20190303T212510Z
DESCRIPTION:Herren - Landesliga Nord - TTVSH\nBegegnungs-Nr: 59\nHeim: TTC Ramsharde \nGast: SV Friedrichsort III\n
LOCATION:
CATEGORIES:Saison 2012/13
END:VEVENT
BEGIN:VEVENT
DTSTAMP:20260424T225504Z
DTSTART;TZID=Europe/Berlin:20120921T200000
DTEND;TZID=Europe/Berlin:20120921T230000
SUMMARY:Landesliga Nord TTC Ramsharde  vs TSV Aukrug  (71)
UID:83382ecf-f9b0-598e-e053-1fc7a80a5d7a
STATUS:CONFIRMED
LAST-MODIFIED:20190303T212510Z
DESCRIPTION:Herren - Landesliga Nord - TTVSH\nBegegnungs-Nr: 71\nHeim: TTC Ramsharde \nGast: TSV Aukrug \n
LOCATION:
CATEGORIES:Saison 2012/13
END:VEVENT
BEGIN:VEVENT
DTSTAMP:20260424T225504Z
DTSTART;TZID=Europe/Berlin:20121026T200000
DTEND;TZID=Europe/Berlin:20121026T230000
SUMMARY:Landesliga Nord TTC Ramsharde  vs SV Boostedt  (82)
UID:83382ecf-facf-598e-e053-1fc7a80a5d7a
STATUS:CONFIRMED
LAST-MODIFIED:20190303T212511Z
DESCRIPTION:Herren - Landesliga Nord - TTVSH\nBegegnungs-Nr: 82\nHeim: TTC Ramsharde \nGast: SV Boostedt \n
LOCATION:
CATEGORIES:Saison 2012/13
END:VEVENT
BEGIN:VEVENT
DTSTAMP:20260424T225504Z
DTSTART;TZID=Europe/Berlin:20121109T200000
DTEND;TZID=Europe/Berlin:20121109T230000
SUMMARY:Landesliga Nord TTC Ramsharde  vs TuS Hasseldieksdamm/Mettenhof  (90)
UID:83382ecf-fba5-598e-e053-1fc7a80a5d7a
STATUS:CONFIRMED
LAST-MODIFIED:20190303T212511Z
DESCRIPTION:Herren - Landesliga Nord - TTVSH\nBegegnungs-Nr: 90\nHeim: TTC Ramsharde \nGast: TuS Hasseldieksdamm/Mettenhof \n
LOCATION:
CATEGORIES:Saison 2012/13
END:VEVENT
BEGIN:VEVENT
DTSTAMP:20260424T225504Z
DTSTART;TZID=Europe/Berlin:20130322T200000
DTEND;TZID=Europe/Berlin:20130322T230000
SUMMARY:Landesliga Nord TTC Ramsharde  vs TSG Concordia Schönkirchen  (104)
UID:83382ecf-fd20-598e-e053-1fc7a80a5d7a
STATUS:CONFIRMED
LAST-MODIFIED:20190303T212511Z
DESCRIPTION:Herren - Landesliga Nord - TTVSH\nBegegnungs-Nr: 104\nHeim: TTC Ramsharde \nGast: TSG Concordia Schönkirchen \n
LOCATION:
CATEGORIES:Saison 2012/13
END:VEVENT
BEGIN:VEVENT
DTSTAMP:20260424T225504Z
DTSTART;TZID=Europe/Berlin:20130118T200000
DTEND;TZID=Europe/Berlin:20130118T230000
SUMMARY:Landesliga Nord TTC Ramsharde  vs FT Preetz  (61)
UID:83382ecf-fe24-598e-e053-1fc7a80a5d7a
STATUS:CONFIRMED
LAST-MODIFIED:20190303T212511Z
DESCRIPTION:Herren - Landesliga Nord - TTVSH\nBegegnungs-Nr: 61\nHeim: TTC Ramsharde \nGast: FT Preetz \n
LOCATION:
CATEGORIES:Saison 2012/13
END:VEVENT
BEGIN:VEVENT
DTSTAMP:20260424T225504Z
DTSTART;TZID=Europe/Berlin:20130208T200000
DTEND;TZID=Europe/Berlin:20130208T230000
SUMMARY:Landesliga Nord TTC Ramsharde  vs SV Probsteierhagen  (76)
UID:83382ecf-ff9f-598e-e053-1fc7a80a5d7a
STATUS:CONFIRMED
LAST-MODIFIED:20190303T212512Z
DESCRIPTION:Herren - Landesliga Nord - TTVSH\nBegegnungs-Nr: 76\nHeim: TTC Ramsharde \nGast: SV Probsteierhagen \n
LOCATION:
CATEGORIES:Saison 2012/13
END:VEVENT
BEGIN:VEVENT
DTSTAMP:20260424T225504Z
DTSTART;TZID=Europe/Berlin:20130215T200000
DTEND;TZID=Europe/Berlin:20130215T230000
SUMMARY:Landesliga Nord TTC Ramsharde  vs Kieler TTK Grün-Weiß II (82)
UID:83382ed0-003e-598e-e053-1fc7a80a5d7a
STATUS:CONFIRMED
LAST-MODIFIED:20190303T212512Z
DESCRIPTION:Herren - Landesliga Nord - TTVSH\nBegegnungs-Nr: 82\nHeim: TTC Ramsharde \nGast: Kieler TTK Grün-Weiß II\n
LOCATION:
CATEGORIES:Saison 2012/13
END:VEVENT
BEGIN:VEVENT
DTSTAMP:20260424T225504Z
DTSTART;TZID=Europe/Berlin:20130301T200000
DTEND;TZID=Europe/Berlin:20130301T230000
SUMMARY:Landesliga Nord TTC Ramsharde  vs TTC Stadtfeld  (90)
UID:83382ed0-0116-598e-e053-1fc7a80a5d7a
STATUS:CONFIRMED
LAST-MODIFIED:20190303T212512Z
DESCRIPTION:Herren - Landesliga Nord - TTVSH\nBegegnungs-Nr: 90\nHeim: TTC Ramsharde \nGast: TTC Stadtfeld \n
LOCATION:
CATEGORIES:Saison 2012/13
END:VEVENT
BEGIN:VEVENT
DTSTAMP:20260424T225504Z
DTSTART;TZID=Europe/Berlin:20121124T183000
DTEND;TZID=Europe/Berlin:20121124T213000
SUMMARY:Landesliga Nord TSG Concordia Schönkirchen  vs TTC Ramsharde  (102)
UID:83382ecf-f749-598e-e053-1fc7a80a5d7a
STATUS:CONFIRMED
LAST-MODIFIED:20190303T212510Z
DESCRIPTION:Herren - Landesliga Nord - TTVSH\nBegegnungs-Nr: 102\nHeim: TSG Concordia Schönkirchen \nGast: TTC Ramsharde \n
LOCATION:
CATEGORIES:Saison 2012/13
END:VEVENT
BEGIN:VEVENT
DTSTAMP:20260424T225504Z
DTSTART;TZID=Europe/Berlin:20120907T200000
DTEND;TZID=Europe/Berlin:20120907T230000
SUMMARY:Landesliga Nord Kieler TTK Grün-Weiß II vs TTC Ramsharde  (63)
UID:83382ecf-f8e6-598e-e053-1fc7a80a5d7a
STATUS:CONFIRMED
LAST-MODIFIED:20190303T212510Z
DESCRIPTION:Herren - Landesliga Nord - TTVSH\nBegegnungs-Nr: 63\nHeim: Kieler TTK Grün-Weiß II\nGast: TTC Ramsharde \n
LOCATION:
CATEGORIES:Saison 2012/13
END:VEVENT
BEGIN:VEVENT
DTSTAMP:20260424T225504Z
DTSTART;TZID=Europe/Berlin:20120928T201500
DTEND;TZID=Europe/Berlin:20120928T231500
SUMMARY:Landesliga Nord SV Probsteierhagen  vs TTC Ramsharde  (77)
UID:83382ecf-fa51-598e-e053-1fc7a80a5d7a
STATUS:CONFIRMED
LAST-MODIFIED:20190303T212511Z
DESCRIPTION:Herren - Landesliga Nord - TTVSH\nBegegnungs-Nr: 77\nHeim: SV Probsteierhagen \nGast: TTC Ramsharde \n
LOCATION:
CATEGORIES:Saison 2012/13
END:VEVENT
BEGIN:VEVENT
DTSTAMP:20260424T225504Z
DTSTART;TZID=Europe/Berlin:20121103T180000
DTEND;TZID=Europe/Berlin:20121103T210000
SUMMARY:Landesliga Nord FT Preetz  vs TTC Ramsharde  (86)
UID:83382ecf-fb38-598e-e053-1fc7a80a5d7a
STATUS:CONFIRMED
LAST-MODIFIED:20190303T212511Z
DESCRIPTION:Herren - Landesliga Nord - TTVSH\nBegegnungs-Nr: 86\nHeim: FT Preetz \nGast: TTC Ramsharde \n
LOCATION:
CATEGORIES:Saison 2012/13
END:VEVENT
BEGIN:VEVENT
DTSTAMP:20260424T225504Z
DTSTART;TZID=Europe/Berlin:20121116T200000
DTEND;TZID=Europe/Berlin:20121116T230000
SUMMARY:Landesliga Nord TTC Stadtfeld  vs TTC Ramsharde  (93)
UID:83382ecf-fbf6-598e-e053-1fc7a80a5d7a
STATUS:CONFIRMED
LAST-MODIFIED:20190303T212511Z
DESCRIPTION:Herren - Landesliga Nord - TTVSH\nBegegnungs-Nr: 93\nHeim: TTC Stadtfeld \nGast: TTC Ramsharde \n
LOCATION:
CATEGORIES:Saison 2012/13
END:VEVENT
BEGIN:VEVENT
DTSTAMP:20260424T225504Z
DTSTART;TZID=Europe/Berlin:20130222T202000
DTEND;TZID=Europe/Berlin:20130222T232000
SUMMARY:Landesliga Nord TSV Langenhorn  vs TTC Ramsharde  (107)
UID:83382ecf-fd4f-598e-e053-1fc7a80a5d7a
STATUS:CONFIRMED
LAST-MODIFIED:20190303T212511Z
DESCRIPTION:Herren - Landesliga Nord - TTVSH\nBegegnungs-Nr: 107\nHeim: TSV Langenhorn \nGast: TTC Ramsharde \n
LOCATION:
CATEGORIES:Saison 2012/13
END:VEVENT
BEGIN:VEVENT
DTSTAMP:20260424T225504Z
DTSTART;TZID=Europe/Berlin:20130111T193000
DTEND;TZID=Europe/Berlin:20130111T223000
SUMMARY:Landesliga Nord SV Friedrichsort III vs TTC Ramsharde  (56)
UID:83382ecf-fdbb-598e-e053-1fc7a80a5d7a
STATUS:CONFIRMED
LAST-MODIFIED:20190303T212511Z
DESCRIPTION:Herren - Landesliga Nord - TTVSH\nBegegnungs-Nr: 56\nHeim: SV Friedrichsort III\nGast: TTC Ramsharde \n
LOCATION:
CATEGORIES:Saison 2012/13
END:VEVENT
BEGIN:VEVENT
DTSTAMP:20260424T225504Z
DTSTART;TZID=Europe/Berlin:20130125T200000
DTEND;TZID=Europe/Berlin:20130125T230000
SUMMARY:Landesliga Nord TuS Hasseldieksdamm/Mettenhof  vs TTC Ramsharde  (68)
UID:83382ecf-fed1-598e-e053-1fc7a80a5d7a
STATUS:CONFIRMED
LAST-MODIFIED:20190303T212511Z
DESCRIPTION:Herren - Landesliga Nord - TTVSH\nBegegnungs-Nr: 68\nHeim: TuS Hasseldieksdamm/Mettenhof \nGast: TTC Ramsharde \n
LOCATION:
CATEGORIES:Saison 2012/13
END:VEVENT
BEGIN:VEVENT
DTSTAMP:20260424T225504Z
DTSTART;TZID=Europe/Berlin:20130201T200000
DTEND;TZID=Europe/Berlin:20130201T230000
SUMMARY:Landesliga Nord TSV Aukrug  vs TTC Ramsharde  (71)
UID:83382ecf-ff1e-598e-e053-1fc7a80a5d7a
STATUS:CONFIRMED
LAST-MODIFIED:20190303T212511Z
DESCRIPTION:Herren - Landesliga Nord - TTVSH\nBegegnungs-Nr: 71\nHeim: TSV Aukrug \nGast: TTC Ramsharde \n
LOCATION:
CATEGORIES:Saison 2012/13
END:VEVENT
BEGIN:VEVENT
DTSTAMP:20260424T225504Z
DTSTART;TZID=Europe/Berlin:20130310T110000
DTEND;TZID=Europe/Berlin:20130310T140000
SUMMARY:Landesliga Nord SV Boostedt  vs TTC Ramsharde  (99)
UID:83382ed0-01fd-598e-e053-1fc7a80a5d7a
STATUS:CONFIRMED
LAST-MODIFIED:20190303T212512Z
DESCRIPTION:Herren - Landesliga Nord - TTVSH\nBegegnungs-Nr: 99\nHeim: SV Boostedt \nGast: TTC Ramsharde \n
LOCATION:
CATEGORIES:Saison 2012/13
END:VEVENT
END:VCALENDAR
