BEGIN:VCALENDAR
PRODID:-//nuDatenautomaten//framework iCal4j //DE
VERSION:2.0
CALSCALE:GREGORIAN
BEGIN:VTIMEZONE
TZID:Europe/Berlin
LAST-MODIFIED:20260306T231828Z
TZURL:https://www.tzurl.org/zoneinfo/Europe/Berlin
X-LIC-LOCATION:Europe/Berlin
X-PROLEPTIC-TZNAME:LMT
BEGIN:STANDARD
TZNAME:CET
TZOFFSETFROM:+005328
TZOFFSETTO:+0100
DTSTART:18930401T000000
END:STANDARD
BEGIN:DAYLIGHT
TZNAME:CEST
TZOFFSETFROM:+0100
TZOFFSETTO:+0200
DTSTART:19160430T230000
RDATE:19400401T020000
RDATE:19430329T020000
RDATE:19460414T020000
RDATE:19470406T030000
RDATE:19480418T020000
RDATE:19490410T020000
RDATE:19800406T020000
END:DAYLIGHT
BEGIN:STANDARD
TZNAME:CET
TZOFFSETFROM:+0200
TZOFFSETTO:+0100
DTSTART:19161001T010000
RDATE:19421102T030000
RDATE:19431004T030000
RDATE:19441002T030000
RDATE:19451118T030000
RDATE:19461007T030000
END:STANDARD
BEGIN:DAYLIGHT
TZNAME:CEST
TZOFFSETFROM:+0100
TZOFFSETTO:+0200
DTSTART:19170416T020000
RRULE:FREQ=YEARLY;UNTIL=19180415T010000Z;BYMONTH=4;BYDAY=3MO
END:DAYLIGHT
BEGIN:STANDARD
TZNAME:CET
TZOFFSETFROM:+0200
TZOFFSETTO:+0100
DTSTART:19170917T030000
RRULE:FREQ=YEARLY;UNTIL=19180916T010000Z;BYMONTH=9;BYDAY=3MO
END:STANDARD
BEGIN:DAYLIGHT
TZNAME:CEST
TZOFFSETFROM:+0100
TZOFFSETTO:+0200
DTSTART:19440403T020000
RRULE:FREQ=YEARLY;UNTIL=19450402T010000Z;BYMONTH=4;BYDAY=1MO
END:DAYLIGHT
BEGIN:DAYLIGHT
TZNAME:CEMT
TZOFFSETFROM:+0200
TZOFFSETTO:+0300
DTSTART:19450524T020000
RDATE:19470511T030000
END:DAYLIGHT
BEGIN:DAYLIGHT
TZNAME:CEST
TZOFFSETFROM:+0300
TZOFFSETTO:+0200
DTSTART:19450924T030000
RDATE:19470629T030000
END:DAYLIGHT
BEGIN:STANDARD
TZNAME:CET
TZOFFSETFROM:+0100
TZOFFSETTO:+0100
DTSTART:19460101T000000
RDATE:19800101T000000
END:STANDARD
BEGIN:STANDARD
TZNAME:CET
TZOFFSETFROM:+0200
TZOFFSETTO:+0100
DTSTART:19471005T030000
RRULE:FREQ=YEARLY;UNTIL=19491002T010000Z;BYMONTH=10;BYDAY=1SU
END:STANDARD
BEGIN:STANDARD
TZNAME:CET
TZOFFSETFROM:+0200
TZOFFSETTO:+0100
DTSTART:19800928T030000
RRULE:FREQ=YEARLY;UNTIL=19950924T010000Z;BYMONTH=9;BYDAY=-1SU
END:STANDARD
BEGIN:DAYLIGHT
TZNAME:CEST
TZOFFSETFROM:+0100
TZOFFSETTO:+0200
DTSTART:19810329T020000
RRULE:FREQ=YEARLY;BYMONTH=3;BYDAY=-1SU
END:DAYLIGHT
BEGIN:STANDARD
TZNAME:CET
TZOFFSETFROM:+0200
TZOFFSETTO:+0100
DTSTART:19961027T030000
RRULE:FREQ=YEARLY;BYMONTH=10;BYDAY=-1SU
END:STANDARD
END:VTIMEZONE
BEGIN:VEVENT
DTSTAMP:20260420T031107Z
DTSTART;TZID=Europe/Berlin:20120907T200000
DTEND;TZID=Europe/Berlin:20120907T230000
SUMMARY:Verbandsliga TTC Seeth-Ekholt  vs Bargfelder SV  (4)
UID:83382ed0-0cfd-598e-e053-1fc7a80a5d7a
STATUS:CONFIRMED
LAST-MODIFIED:20190303T212514Z
DESCRIPTION:Damen - Verbandsliga - TTVSH\nBegegnungs-Nr: 4\nHeim: TTC Seeth-Ekholt \nGast: Bargfelder SV \n
LOCATION:
CATEGORIES:Saison 2012/13
END:VEVENT
BEGIN:VEVENT
DTSTAMP:20260420T031107Z
DTSTART;TZID=Europe/Berlin:20121026T200000
DTEND;TZID=Europe/Berlin:20121026T230000
SUMMARY:Verbandsliga TTC Seeth-Ekholt  vs TSB Flensburg (52)
UID:83382ed0-0e05-598e-e053-1fc7a80a5d7a
STATUS:CONFIRMED
LAST-MODIFIED:20190303T212514Z
DESCRIPTION:Damen - Verbandsliga - TTVSH\nBegegnungs-Nr: 52\nHeim: TTC Seeth-Ekholt \nGast: TSB Flensburg\n
LOCATION:
CATEGORIES:Saison 2012/13
END:VEVENT
BEGIN:VEVENT
DTSTAMP:20260420T031107Z
DTSTART;TZID=Europe/Berlin:20130118T200000
DTEND;TZID=Europe/Berlin:20130118T230000
SUMMARY:Verbandsliga TTC Seeth-Ekholt  vs Osdorfer SV  (104)
UID:83382ed0-0ed7-598e-e053-1fc7a80a5d7a
STATUS:CONFIRMED
LAST-MODIFIED:20190303T212515Z
DESCRIPTION:Damen - Verbandsliga - TTVSH\nBegegnungs-Nr: 104\nHeim: TTC Seeth-Ekholt \nGast: Osdorfer SV \n
LOCATION:
CATEGORIES:Saison 2012/13
END:VEVENT
BEGIN:VEVENT
DTSTAMP:20260420T031107Z
DTSTART;TZID=Europe/Berlin:20130208T200000
DTEND;TZID=Europe/Berlin:20130208T230000
SUMMARY:Verbandsliga TTC Seeth-Ekholt  vs WSG Kellinghusen/Wrist II (111)
UID:83382ed0-0f53-598e-e053-1fc7a80a5d7a
STATUS:CONFIRMED
LAST-MODIFIED:20190303T212515Z
DESCRIPTION:Damen - Verbandsliga - TTVSH\nBegegnungs-Nr: 111\nHeim: TTC Seeth-Ekholt \nGast: WSG Kellinghusen/Wrist II\n
LOCATION:
CATEGORIES:Saison 2012/13
END:VEVENT
BEGIN:VEVENT
DTSTAMP:20260420T031107Z
DTSTART;TZID=Europe/Berlin:20130301T200000
DTEND;TZID=Europe/Berlin:20130301T230000
SUMMARY:Verbandsliga TTC Seeth-Ekholt  vs SV Fockbek  (127)
UID:83382ed0-103b-598e-e053-1fc7a80a5d7a
STATUS:CONFIRMED
LAST-MODIFIED:20190303T212515Z
DESCRIPTION:Damen - Verbandsliga - TTVSH\nBegegnungs-Nr: 127\nHeim: TTC Seeth-Ekholt \nGast: SV Fockbek \n
LOCATION:
CATEGORIES:Saison 2012/13
END:VEVENT
BEGIN:VEVENT
DTSTAMP:20260420T031107Z
DTSTART;TZID=Europe/Berlin:20130316T140000
DTEND;TZID=Europe/Berlin:20130316T170000
SUMMARY:Verbandsliga TTC Seeth-Ekholt  vs ESV Neustadt  (137)
UID:83382ed0-10d0-598e-e053-1fc7a80a5d7a
STATUS:CONFIRMED
LAST-MODIFIED:20190303T212515Z
DESCRIPTION:Damen - Verbandsliga - TTVSH\nBegegnungs-Nr: 137\nHeim: TTC Seeth-Ekholt \nGast: ESV Neustadt \n
LOCATION:
CATEGORIES:Saison 2012/13
END:VEVENT
BEGIN:VEVENT
DTSTAMP:20260420T031107Z
DTSTART;TZID=Europe/Berlin:20130415T200000
DTEND;TZID=Europe/Berlin:20130415T230000
SUMMARY:Verbandsliga TTC Seeth-Ekholt  vs TSV Schwarzenbek III (142)
UID:83382ed0-1111-598e-e053-1fc7a80a5d7a
STATUS:CONFIRMED
LAST-MODIFIED:20190303T212515Z
DESCRIPTION:Damen - Verbandsliga - TTVSH\nBegegnungs-Nr: 142\nHeim: TTC Seeth-Ekholt \nGast: TSV Schwarzenbek III\n
LOCATION:
CATEGORIES:Saison 2012/13
END:VEVENT
BEGIN:VEVENT
DTSTAMP:20260420T031107Z
DTSTART;TZID=Europe/Berlin:20130412T200000
DTEND;TZID=Europe/Berlin:20130412T230000
SUMMARY:Verbandsliga TTC Seeth-Ekholt  vs SC Mittelpunkt Nortorf  (147)
UID:83382ed0-1161-598e-e053-1fc7a80a5d7a
STATUS:CONFIRMED
LAST-MODIFIED:20190303T212515Z
DESCRIPTION:Damen - Verbandsliga - TTVSH\nBegegnungs-Nr: 147\nHeim: TTC Seeth-Ekholt \nGast: SC Mittelpunkt Nortorf \n
LOCATION:
CATEGORIES:Saison 2012/13
END:VEVENT
BEGIN:VEVENT
DTSTAMP:20260420T031107Z
DTSTART;TZID=Europe/Berlin:20121207T200000
DTEND;TZID=Europe/Berlin:20121207T230000
SUMMARY:Verbandsliga TTC Seeth-Ekholt  vs TSB Flensburg II (21)
UID:83382ed0-0b59-598e-e053-1fc7a80a5d7a
STATUS:CONFIRMED
LAST-MODIFIED:20190303T212514Z
DESCRIPTION:Damen - Verbandsliga - TTVSH\nBegegnungs-Nr: 21\nHeim: TTC Seeth-Ekholt \nGast: TSB Flensburg II\n
LOCATION:
CATEGORIES:Saison 2012/13
END:VEVENT
BEGIN:VEVENT
DTSTAMP:20260420T031107Z
DTSTART;TZID=Europe/Berlin:20121109T200000
DTEND;TZID=Europe/Berlin:20121109T230000
SUMMARY:Verbandsliga TTC Seeth-Ekholt  vs FT Preetz  (31)
UID:83382ed0-0c40-598e-e053-1fc7a80a5d7a
STATUS:CONFIRMED
LAST-MODIFIED:20190303T212514Z
DESCRIPTION:Damen - Verbandsliga - TTVSH\nBegegnungs-Nr: 31\nHeim: TTC Seeth-Ekholt \nGast: FT Preetz \n
LOCATION:
CATEGORIES:Saison 2012/13
END:VEVENT
BEGIN:VEVENT
DTSTAMP:20260420T031107Z
DTSTART;TZID=Europe/Berlin:20121117T130000
DTEND;TZID=Europe/Berlin:20121117T160000
SUMMARY:Verbandsliga ESV Neustadt  vs TTC Seeth-Ekholt  (39)
UID:83382ed0-0cea-598e-e053-1fc7a80a5d7a
STATUS:CONFIRMED
LAST-MODIFIED:20190303T212514Z
DESCRIPTION:Damen - Verbandsliga - TTVSH\nBegegnungs-Nr: 39\nHeim: ESV Neustadt \nGast: TTC Seeth-Ekholt \n
LOCATION:
CATEGORIES:Saison 2012/13
END:VEVENT
BEGIN:VEVENT
DTSTAMP:20260420T031107Z
DTSTART;TZID=Europe/Berlin:20121130T200000
DTEND;TZID=Europe/Berlin:20121130T230000
SUMMARY:Verbandsliga SC Mittelpunkt Nortorf  vs TTC Seeth-Ekholt  (48)
UID:83382ed0-0d9f-598e-e053-1fc7a80a5d7a
STATUS:CONFIRMED
LAST-MODIFIED:20190303T212514Z
DESCRIPTION:Damen - Verbandsliga - TTVSH\nBegegnungs-Nr: 48\nHeim: SC Mittelpunkt Nortorf \nGast: TTC Seeth-Ekholt \n
LOCATION:
CATEGORIES:Saison 2012/13
END:VEVENT
BEGIN:VEVENT
DTSTAMP:20260420T031107Z
DTSTART;TZID=Europe/Berlin:20121028T160000
DTEND;TZID=Europe/Berlin:20121028T190000
SUMMARY:Verbandsliga Osdorfer SV  vs TTC Seeth-Ekholt  (9)
UID:83382ed0-0e85-598e-e053-1fc7a80a5d7a
STATUS:CONFIRMED
LAST-MODIFIED:20190303T212514Z
DESCRIPTION:Damen - Verbandsliga - TTVSH\nBegegnungs-Nr: 9\nHeim: Osdorfer SV \nGast: TTC Seeth-Ekholt \n
LOCATION:
CATEGORIES:Saison 2012/13
END:VEVENT
BEGIN:VEVENT
DTSTAMP:20260420T031107Z
DTSTART;TZID=Europe/Berlin:20130222T200000
DTEND;TZID=Europe/Berlin:20130222T230000
SUMMARY:Verbandsliga Bargfelder SV  vs TTC Seeth-Ekholt  (109)
UID:83382ed0-0f29-598e-e053-1fc7a80a5d7a
STATUS:CONFIRMED
LAST-MODIFIED:20190303T212515Z
DESCRIPTION:Damen - Verbandsliga - TTVSH\nBegegnungs-Nr: 109\nHeim: Bargfelder SV \nGast: TTC Seeth-Ekholt \n
LOCATION:
CATEGORIES:Saison 2012/13
END:VEVENT
BEGIN:VEVENT
DTSTAMP:20260420T031107Z
DTSTART;TZID=Europe/Berlin:20130217T110000
DTEND;TZID=Europe/Berlin:20130217T140000
SUMMARY:Verbandsliga TSB Flensburg vs TTC Seeth-Ekholt  (121)
UID:83382ed0-0fda-598e-e053-1fc7a80a5d7a
STATUS:CONFIRMED
LAST-MODIFIED:20190303T212515Z
DESCRIPTION:Damen - Verbandsliga - TTVSH\nBegegnungs-Nr: 121\nHeim: TSB Flensburg\nGast: TTC Seeth-Ekholt \n
LOCATION:
CATEGORIES:Saison 2012/13
END:VEVENT
BEGIN:VEVENT
DTSTAMP:20260420T031107Z
DTSTART;TZID=Europe/Berlin:20130217T133000
DTEND;TZID=Europe/Berlin:20130217T163000
SUMMARY:Verbandsliga TSB Flensburg II vs TTC Seeth-Ekholt  (122)
UID:83382ed0-0feb-598e-e053-1fc7a80a5d7a
STATUS:CONFIRMED
LAST-MODIFIED:20190303T212515Z
DESCRIPTION:Damen - Verbandsliga - TTVSH\nBegegnungs-Nr: 122\nHeim: TSB Flensburg II\nGast: TTC Seeth-Ekholt \n
LOCATION:
CATEGORIES:Saison 2012/13
END:VEVENT
BEGIN:VEVENT
DTSTAMP:20260420T031107Z
DTSTART;TZID=Europe/Berlin:20120928T201500
DTEND;TZID=Europe/Berlin:20120928T231500
SUMMARY:Verbandsliga WSG Kellinghusen/Wrist II vs TTC Seeth-Ekholt  (12)
UID:83382ed0-0aa6-598e-e053-1fc7a80a5d7a
STATUS:CONFIRMED
LAST-MODIFIED:20190303T212514Z
DESCRIPTION:Damen - Verbandsliga - TTVSH\nBegegnungs-Nr: 12\nHeim: WSG Kellinghusen/Wrist II\nGast: TTC Seeth-Ekholt \n
LOCATION:
CATEGORIES:Saison 2012/13
END:VEVENT
BEGIN:VEVENT
DTSTAMP:20260420T031107Z
DTSTART;TZID=Europe/Berlin:20121102T193000
DTEND;TZID=Europe/Berlin:20121102T223000
SUMMARY:Verbandsliga SV Fockbek  vs TTC Seeth-Ekholt  (27)
UID:83382ed0-0bda-598e-e053-1fc7a80a5d7a
STATUS:CONFIRMED
LAST-MODIFIED:20190303T212514Z
DESCRIPTION:Damen - Verbandsliga - TTVSH\nBegegnungs-Nr: 27\nHeim: SV Fockbek \nGast: TTC Seeth-Ekholt \n
LOCATION:
CATEGORIES:Saison 2012/13
END:VEVENT
END:VCALENDAR
