BEGIN:VCALENDAR
PRODID:-//nuDatenautomaten//framework iCal4j //DE
VERSION:2.0
CALSCALE:GREGORIAN
BEGIN:VTIMEZONE
TZID:Europe/Berlin
LAST-MODIFIED:20260306T231828Z
TZURL:https://www.tzurl.org/zoneinfo/Europe/Berlin
X-LIC-LOCATION:Europe/Berlin
X-PROLEPTIC-TZNAME:LMT
BEGIN:STANDARD
TZNAME:CET
TZOFFSETFROM:+005328
TZOFFSETTO:+0100
DTSTART:18930401T000000
END:STANDARD
BEGIN:DAYLIGHT
TZNAME:CEST
TZOFFSETFROM:+0100
TZOFFSETTO:+0200
DTSTART:19160430T230000
RDATE:19400401T020000
RDATE:19430329T020000
RDATE:19460414T020000
RDATE:19470406T030000
RDATE:19480418T020000
RDATE:19490410T020000
RDATE:19800406T020000
END:DAYLIGHT
BEGIN:STANDARD
TZNAME:CET
TZOFFSETFROM:+0200
TZOFFSETTO:+0100
DTSTART:19161001T010000
RDATE:19421102T030000
RDATE:19431004T030000
RDATE:19441002T030000
RDATE:19451118T030000
RDATE:19461007T030000
END:STANDARD
BEGIN:DAYLIGHT
TZNAME:CEST
TZOFFSETFROM:+0100
TZOFFSETTO:+0200
DTSTART:19170416T020000
RRULE:FREQ=YEARLY;UNTIL=19180415T010000Z;BYMONTH=4;BYDAY=3MO
END:DAYLIGHT
BEGIN:STANDARD
TZNAME:CET
TZOFFSETFROM:+0200
TZOFFSETTO:+0100
DTSTART:19170917T030000
RRULE:FREQ=YEARLY;UNTIL=19180916T010000Z;BYMONTH=9;BYDAY=3MO
END:STANDARD
BEGIN:DAYLIGHT
TZNAME:CEST
TZOFFSETFROM:+0100
TZOFFSETTO:+0200
DTSTART:19440403T020000
RRULE:FREQ=YEARLY;UNTIL=19450402T010000Z;BYMONTH=4;BYDAY=1MO
END:DAYLIGHT
BEGIN:DAYLIGHT
TZNAME:CEMT
TZOFFSETFROM:+0200
TZOFFSETTO:+0300
DTSTART:19450524T020000
RDATE:19470511T030000
END:DAYLIGHT
BEGIN:DAYLIGHT
TZNAME:CEST
TZOFFSETFROM:+0300
TZOFFSETTO:+0200
DTSTART:19450924T030000
RDATE:19470629T030000
END:DAYLIGHT
BEGIN:STANDARD
TZNAME:CET
TZOFFSETFROM:+0100
TZOFFSETTO:+0100
DTSTART:19460101T000000
RDATE:19800101T000000
END:STANDARD
BEGIN:STANDARD
TZNAME:CET
TZOFFSETFROM:+0200
TZOFFSETTO:+0100
DTSTART:19471005T030000
RRULE:FREQ=YEARLY;UNTIL=19491002T010000Z;BYMONTH=10;BYDAY=1SU
END:STANDARD
BEGIN:STANDARD
TZNAME:CET
TZOFFSETFROM:+0200
TZOFFSETTO:+0100
DTSTART:19800928T030000
RRULE:FREQ=YEARLY;UNTIL=19950924T010000Z;BYMONTH=9;BYDAY=-1SU
END:STANDARD
BEGIN:DAYLIGHT
TZNAME:CEST
TZOFFSETFROM:+0100
TZOFFSETTO:+0200
DTSTART:19810329T020000
RRULE:FREQ=YEARLY;BYMONTH=3;BYDAY=-1SU
END:DAYLIGHT
BEGIN:STANDARD
TZNAME:CET
TZOFFSETFROM:+0200
TZOFFSETTO:+0100
DTSTART:19961027T030000
RRULE:FREQ=YEARLY;BYMONTH=10;BYDAY=-1SU
END:STANDARD
END:VTIMEZONE
BEGIN:VEVENT
DTSTAMP:20260423T054510Z
DTSTART;TZID=Europe/Berlin:20231128T200000
DTEND;TZID=Europe/Berlin:20231128T230000
SUMMARY:3. Kreisklasse Sportfreunde Grande-Kuddewörde  vs SV Meddewade II (7)
UID:1f3f700f-d9aa-5b33-e063-1fc7a80a4d3b
STATUS:CONFIRMED
LAST-MODIFIED:20240809T113215Z
DESCRIPTION:3. Kreisklasse Herren\nBegegnungs-Nr: 7\nHeim: Sportfreunde Grande-Kuddewörde \nGast: SV Meddewade II\n
LOCATION:
CATEGORIES:Saison 2023/24
END:VEVENT
BEGIN:VEVENT
DTSTAMP:20260423T054510Z
DTSTART;TZID=Europe/Berlin:20231024T200000
DTEND;TZID=Europe/Berlin:20231024T230000
SUMMARY:3. Kreisklasse Sportfreunde Grande-Kuddewörde  vs Tralauer SV III (15)
UID:1f3f700f-da3f-5b33-e063-1fc7a80a4d3b
STATUS:CONFIRMED
LAST-MODIFIED:20240809T113215Z
DESCRIPTION:3. Kreisklasse Herren\nBegegnungs-Nr: 15\nHeim: Sportfreunde Grande-Kuddewörde \nGast: Tralauer SV III\n
LOCATION:
CATEGORIES:Saison 2023/24
END:VEVENT
BEGIN:VEVENT
DTSTAMP:20260423T054510Z
DTSTART;TZID=Europe/Berlin:20231117T200000
DTEND;TZID=Europe/Berlin:20231117T230000
SUMMARY:3. Kreisklasse Sportfreunde Grande-Kuddewörde  vs TSV Lütjensee III (23)
UID:1f3f700f-dad9-5b33-e063-1fc7a80a4d3b
STATUS:CONFIRMED
LAST-MODIFIED:20240809T113215Z
DESCRIPTION:3. Kreisklasse Herren\nBegegnungs-Nr: 23\nHeim: Sportfreunde Grande-Kuddewörde \nGast: TSV Lütjensee III\n
LOCATION:
CATEGORIES:Saison 2023/24
END:VEVENT
BEGIN:VEVENT
DTSTAMP:20260423T054510Z
DTSTART;TZID=Europe/Berlin:20231121T200000
DTEND;TZID=Europe/Berlin:20231121T230000
SUMMARY:3. Kreisklasse Sportfreunde Grande-Kuddewörde  vs TTG Elmenh./Fischbek IV (34)
UID:1f3f700f-db9b-5b33-e063-1fc7a80a4d3b
STATUS:CONFIRMED
LAST-MODIFIED:20240809T113215Z
DESCRIPTION:3. Kreisklasse Herren\nBegegnungs-Nr: 34\nHeim: Sportfreunde Grande-Kuddewörde \nGast: TTG Elmenh./Fischbek IV\n
LOCATION:
CATEGORIES:Saison 2023/24
END:VEVENT
BEGIN:VEVENT
DTSTAMP:20260423T054510Z
DTSTART;TZID=Europe/Berlin:20240227T200000
DTEND;TZID=Europe/Berlin:20240227T230000
SUMMARY:3. Kreisklasse Sportfreunde Grande-Kuddewörde  vs TSV Grabau  (39)
UID:1f3f700f-dbeb-5b33-e063-1fc7a80a4d3b
STATUS:CONFIRMED
LAST-MODIFIED:20240809T113215Z
DESCRIPTION:3. Kreisklasse Herren\nBegegnungs-Nr: 39\nHeim: Sportfreunde Grande-Kuddewörde \nGast: TSV Grabau \n
LOCATION:
CATEGORIES:Saison 2023/24
END:VEVENT
BEGIN:VEVENT
DTSTAMP:20260423T054510Z
DTSTART;TZID=Europe/Berlin:20240130T200000
DTEND;TZID=Europe/Berlin:20240130T230000
SUMMARY:3. Kreisklasse Sportfreunde Grande-Kuddewörde  vs Bargfelder SV II (47)
UID:1f3f700f-dc85-5b33-e063-1fc7a80a4d3b
STATUS:CONFIRMED
LAST-MODIFIED:20240809T113215Z
DESCRIPTION:3. Kreisklasse Herren\nBegegnungs-Nr: 47\nHeim: Sportfreunde Grande-Kuddewörde \nGast: Bargfelder SV II\n
LOCATION:
CATEGORIES:Saison 2023/24
END:VEVENT
BEGIN:VEVENT
DTSTAMP:20260423T054510Z
DTSTART;TZID=Europe/Berlin:20240213T200000
DTEND;TZID=Europe/Berlin:20240213T230000
SUMMARY:3. Kreisklasse Sportfreunde Grande-Kuddewörde  vs VfL Oldesloe  (55)
UID:1f3f700f-dd17-5b33-e063-1fc7a80a4d3b
STATUS:CONFIRMED
LAST-MODIFIED:20240809T113215Z
DESCRIPTION:3. Kreisklasse Herren\nBegegnungs-Nr: 55\nHeim: Sportfreunde Grande-Kuddewörde \nGast: VfL Oldesloe \n
LOCATION:
CATEGORIES:Saison 2023/24
END:VEVENT
BEGIN:VEVENT
DTSTAMP:20260423T054510Z
DTSTART;TZID=Europe/Berlin:20240305T200000
DTEND;TZID=Europe/Berlin:20240305T230000
SUMMARY:3. Kreisklasse Sportfreunde Grande-Kuddewörde  vs VfL Tremsbüttel III (66)
UID:1f3f700f-dde9-5b33-e063-1fc7a80a4d3b
STATUS:CONFIRMED
LAST-MODIFIED:20240809T113215Z
DESCRIPTION:3. Kreisklasse Herren\nBegegnungs-Nr: 66\nHeim: Sportfreunde Grande-Kuddewörde \nGast: VfL Tremsbüttel III\n
LOCATION:
CATEGORIES:Saison 2023/24
END:VEVENT
BEGIN:VEVENT
DTSTAMP:20260423T054510Z
DTSTART;TZID=Europe/Berlin:20231204T200000
DTEND;TZID=Europe/Berlin:20231204T230000
SUMMARY:3. Kreisklasse Bargfelder SV II vs Sportfreunde Grande-Kuddewörde  (12)
UID:1f3f700f-da06-5b33-e063-1fc7a80a4d3b
STATUS:CONFIRMED
LAST-MODIFIED:20240809T113215Z
DESCRIPTION:3. Kreisklasse Herren\nBegegnungs-Nr: 12\nHeim: Bargfelder SV II\nGast: Sportfreunde Grande-Kuddewörde \n
LOCATION:
CATEGORIES:Saison 2023/24
END:VEVENT
BEGIN:VEVENT
DTSTAMP:20260423T054510Z
DTSTART;TZID=Europe/Berlin:20231205T193000
DTEND;TZID=Europe/Berlin:20231205T223000
SUMMARY:3. Kreisklasse VfL Oldesloe  vs Sportfreunde Grande-Kuddewörde  (18)
UID:1f3f700f-da7b-5b33-e063-1fc7a80a4d3b
STATUS:CONFIRMED
LAST-MODIFIED:20240809T113215Z
DESCRIPTION:3. Kreisklasse Herren\nBegegnungs-Nr: 18\nHeim: VfL Oldesloe \nGast: Sportfreunde Grande-Kuddewörde \n
LOCATION:
CATEGORIES:Saison 2023/24
END:VEVENT
BEGIN:VEVENT
DTSTAMP:20260423T054510Z
DTSTART;TZID=Europe/Berlin:20230914T200000
DTEND;TZID=Europe/Berlin:20230914T230000
SUMMARY:3. Kreisklasse TSV Grabau  vs Sportfreunde Grande-Kuddewörde  (3)
UID:1f3f700f-d962-5b33-e063-1fc7a80a4d3b
STATUS:CONFIRMED
LAST-MODIFIED:20240809T113215Z
DESCRIPTION:3. Kreisklasse Herren\nBegegnungs-Nr: 3\nHeim: TSV Grabau \nGast: Sportfreunde Grande-Kuddewörde \n
LOCATION:
CATEGORIES:Saison 2023/24
END:VEVENT
BEGIN:VEVENT
DTSTAMP:20260423T054510Z
DTSTART;TZID=Europe/Berlin:20231113T201500
DTEND;TZID=Europe/Berlin:20231113T231500
SUMMARY:3. Kreisklasse VfL Tremsbüttel III vs Sportfreunde Grande-Kuddewörde  (31)
UID:1f3f700f-db63-5b33-e063-1fc7a80a4d3b
STATUS:CONFIRMED
LAST-MODIFIED:20240809T113215Z
DESCRIPTION:3. Kreisklasse Herren\nBegegnungs-Nr: 31\nHeim: VfL Tremsbüttel III\nGast: Sportfreunde Grande-Kuddewörde \n
LOCATION:
CATEGORIES:Saison 2023/24
END:VEVENT
BEGIN:VEVENT
DTSTAMP:20260423T054510Z
DTSTART;TZID=Europe/Berlin:20240122T193000
DTEND;TZID=Europe/Berlin:20240122T223000
SUMMARY:3. Kreisklasse SV Meddewade II vs Sportfreunde Grande-Kuddewörde  (41)
UID:1f3f700f-dc13-5b33-e063-1fc7a80a4d3b
STATUS:CONFIRMED
LAST-MODIFIED:20240809T113215Z
DESCRIPTION:3. Kreisklasse Herren\nBegegnungs-Nr: 41\nHeim: SV Meddewade II\nGast: Sportfreunde Grande-Kuddewörde \n
LOCATION:
CATEGORIES:Saison 2023/24
END:VEVENT
BEGIN:VEVENT
DTSTAMP:20260423T054510Z
DTSTART;TZID=Europe/Berlin:20240205T200000
DTEND;TZID=Europe/Berlin:20240205T230000
SUMMARY:3. Kreisklasse Tralauer SV III vs Sportfreunde Grande-Kuddewörde  (51)
UID:1f3f700f-dcce-5b33-e063-1fc7a80a4d3b
STATUS:CONFIRMED
LAST-MODIFIED:20240809T113215Z
DESCRIPTION:3. Kreisklasse Herren\nBegegnungs-Nr: 51\nHeim: Tralauer SV III\nGast: Sportfreunde Grande-Kuddewörde \n
LOCATION:
CATEGORIES:Saison 2023/24
END:VEVENT
BEGIN:VEVENT
DTSTAMP:20260423T054510Z
DTSTART;TZID=Europe/Berlin:20240223T201000
DTEND;TZID=Europe/Berlin:20240223T231000
SUMMARY:3. Kreisklasse TSV Lütjensee III vs Sportfreunde Grande-Kuddewörde  (60)
UID:1f3f700f-dd71-5b33-e063-1fc7a80a4d3b
STATUS:CONFIRMED
LAST-MODIFIED:20240809T113215Z
DESCRIPTION:3. Kreisklasse Herren\nBegegnungs-Nr: 60\nHeim: TSV Lütjensee III\nGast: Sportfreunde Grande-Kuddewörde \n
LOCATION:
CATEGORIES:Saison 2023/24
END:VEVENT
BEGIN:VEVENT
DTSTAMP:20260423T054510Z
DTSTART;TZID=Europe/Berlin:20240325T200000
DTEND;TZID=Europe/Berlin:20240325T230000
SUMMARY:3. Kreisklasse TTG Elmenh./Fischbek IV vs Sportfreunde Grande-Kuddewörde  (70)
UID:1f3f700f-de34-5b33-e063-1fc7a80a4d3b
STATUS:CONFIRMED
LAST-MODIFIED:20240809T113215Z
DESCRIPTION:3. Kreisklasse Herren\nBegegnungs-Nr: 70\nHeim: TTG Elmenh./Fischbek IV\nGast: Sportfreunde Grande-Kuddewörde \n
LOCATION:
CATEGORIES:Saison 2023/24
END:VEVENT
END:VCALENDAR
