BEGIN:VCALENDAR
PRODID:-//nuDatenautomaten//framework iCal4j //DE
VERSION:2.0
CALSCALE:GREGORIAN
BEGIN:VTIMEZONE
TZID:Europe/Berlin
LAST-MODIFIED:20260306T231828Z
TZURL:https://www.tzurl.org/zoneinfo/Europe/Berlin
X-LIC-LOCATION:Europe/Berlin
X-PROLEPTIC-TZNAME:LMT
BEGIN:STANDARD
TZNAME:CET
TZOFFSETFROM:+005328
TZOFFSETTO:+0100
DTSTART:18930401T000000
END:STANDARD
BEGIN:DAYLIGHT
TZNAME:CEST
TZOFFSETFROM:+0100
TZOFFSETTO:+0200
DTSTART:19160430T230000
RDATE:19400401T020000
RDATE:19430329T020000
RDATE:19460414T020000
RDATE:19470406T030000
RDATE:19480418T020000
RDATE:19490410T020000
RDATE:19800406T020000
END:DAYLIGHT
BEGIN:STANDARD
TZNAME:CET
TZOFFSETFROM:+0200
TZOFFSETTO:+0100
DTSTART:19161001T010000
RDATE:19421102T030000
RDATE:19431004T030000
RDATE:19441002T030000
RDATE:19451118T030000
RDATE:19461007T030000
END:STANDARD
BEGIN:DAYLIGHT
TZNAME:CEST
TZOFFSETFROM:+0100
TZOFFSETTO:+0200
DTSTART:19170416T020000
RRULE:FREQ=YEARLY;UNTIL=19180415T010000Z;BYMONTH=4;BYDAY=3MO
END:DAYLIGHT
BEGIN:STANDARD
TZNAME:CET
TZOFFSETFROM:+0200
TZOFFSETTO:+0100
DTSTART:19170917T030000
RRULE:FREQ=YEARLY;UNTIL=19180916T010000Z;BYMONTH=9;BYDAY=3MO
END:STANDARD
BEGIN:DAYLIGHT
TZNAME:CEST
TZOFFSETFROM:+0100
TZOFFSETTO:+0200
DTSTART:19440403T020000
RRULE:FREQ=YEARLY;UNTIL=19450402T010000Z;BYMONTH=4;BYDAY=1MO
END:DAYLIGHT
BEGIN:DAYLIGHT
TZNAME:CEMT
TZOFFSETFROM:+0200
TZOFFSETTO:+0300
DTSTART:19450524T020000
RDATE:19470511T030000
END:DAYLIGHT
BEGIN:DAYLIGHT
TZNAME:CEST
TZOFFSETFROM:+0300
TZOFFSETTO:+0200
DTSTART:19450924T030000
RDATE:19470629T030000
END:DAYLIGHT
BEGIN:STANDARD
TZNAME:CET
TZOFFSETFROM:+0100
TZOFFSETTO:+0100
DTSTART:19460101T000000
RDATE:19800101T000000
END:STANDARD
BEGIN:STANDARD
TZNAME:CET
TZOFFSETFROM:+0200
TZOFFSETTO:+0100
DTSTART:19471005T030000
RRULE:FREQ=YEARLY;UNTIL=19491002T010000Z;BYMONTH=10;BYDAY=1SU
END:STANDARD
BEGIN:STANDARD
TZNAME:CET
TZOFFSETFROM:+0200
TZOFFSETTO:+0100
DTSTART:19800928T030000
RRULE:FREQ=YEARLY;UNTIL=19950924T010000Z;BYMONTH=9;BYDAY=-1SU
END:STANDARD
BEGIN:DAYLIGHT
TZNAME:CEST
TZOFFSETFROM:+0100
TZOFFSETTO:+0200
DTSTART:19810329T020000
RRULE:FREQ=YEARLY;BYMONTH=3;BYDAY=-1SU
END:DAYLIGHT
BEGIN:STANDARD
TZNAME:CET
TZOFFSETFROM:+0200
TZOFFSETTO:+0100
DTSTART:19961027T030000
RRULE:FREQ=YEARLY;BYMONTH=10;BYDAY=-1SU
END:STANDARD
END:VTIMEZONE
BEGIN:VEVENT
DTSTAMP:20260424T062131Z
DTSTART;TZID=Europe/Berlin:20231208T200000
DTEND;TZID=Europe/Berlin:20231208T230000
SUMMARY:6. Kreisklasse SV Siek VIII vs VfL Oldesloe III (4)
UID:1f3f700f-ea21-5b33-e063-1fc7a80a4d3b
STATUS:CONFIRMED
LAST-MODIFIED:20240809T113217Z
DESCRIPTION:6. Kreisklasse Herren\nBegegnungs-Nr: 4\nHeim: SV Siek VIII\nGast: VfL Oldesloe III\n
LOCATION:
CATEGORIES:Saison 2023/24
END:VEVENT
BEGIN:VEVENT
DTSTAMP:20260424T062131Z
DTSTART;TZID=Europe/Berlin:20231122T200000
DTEND;TZID=Europe/Berlin:20231122T230000
SUMMARY:6. Kreisklasse SV Siek VIII vs TSV Mollhagen II (9)
UID:1f3f700f-ea78-5b33-e063-1fc7a80a4d3b
STATUS:CONFIRMED
LAST-MODIFIED:20240809T113217Z
DESCRIPTION:6. Kreisklasse Herren\nBegegnungs-Nr: 9\nHeim: SV Siek VIII\nGast: TSV Mollhagen II\n
LOCATION:
CATEGORIES:Saison 2023/24
END:VEVENT
BEGIN:VEVENT
DTSTAMP:20260424T062131Z
DTSTART;TZID=Europe/Berlin:20231201T200000
DTEND;TZID=Europe/Berlin:20231201T230000
SUMMARY:6. Kreisklasse SV Siek VIII vs TSV Trittau II (14)
UID:1f3f700f-eac5-5b33-e063-1fc7a80a4d3b
STATUS:CONFIRMED
LAST-MODIFIED:20240809T113217Z
DESCRIPTION:6. Kreisklasse Herren\nBegegnungs-Nr: 14\nHeim: SV Siek VIII\nGast: TSV Trittau II\n
LOCATION:
CATEGORIES:Saison 2023/24
END:VEVENT
BEGIN:VEVENT
DTSTAMP:20260424T062131Z
DTSTART;TZID=Europe/Berlin:20231006T200000
DTEND;TZID=Europe/Berlin:20231006T230000
SUMMARY:6. Kreisklasse SV Siek VIII vs Sportfreunde Grande-Kuddewörde II (25)
UID:1f3f700f-eb97-5b33-e063-1fc7a80a4d3b
STATUS:CONFIRMED
LAST-MODIFIED:20240809T113217Z
DESCRIPTION:6. Kreisklasse Herren\nBegegnungs-Nr: 25\nHeim: SV Siek VIII\nGast: Sportfreunde Grande-Kuddewörde II\n
LOCATION:
CATEGORIES:Saison 2023/24
END:VEVENT
BEGIN:VEVENT
DTSTAMP:20260424T062131Z
DTSTART;TZID=Europe/Berlin:20231103T200000
DTEND;TZID=Europe/Berlin:20231103T230000
SUMMARY:6. Kreisklasse SV Siek VIII vs TSV Grabau III (34)
UID:1f3f700f-ec2f-5b33-e063-1fc7a80a4d3b
STATUS:CONFIRMED
LAST-MODIFIED:20240809T113217Z
DESCRIPTION:6. Kreisklasse Herren\nBegegnungs-Nr: 34\nHeim: SV Siek VIII\nGast: TSV Grabau III\n
LOCATION:
CATEGORIES:Saison 2023/24
END:VEVENT
BEGIN:VEVENT
DTSTAMP:20260424T062131Z
DTSTART;TZID=Europe/Berlin:20231110T200000
DTEND;TZID=Europe/Berlin:20231110T230000
SUMMARY:6. Kreisklasse SV Siek VIII vs VfL Tremsbüttel V (39)
UID:1f3f700f-ec89-5b33-e063-1fc7a80a4d3b
STATUS:CONFIRMED
LAST-MODIFIED:20240809T113217Z
DESCRIPTION:6. Kreisklasse Herren\nBegegnungs-Nr: 39\nHeim: SV Siek VIII\nGast: VfL Tremsbüttel V\n
LOCATION:
CATEGORIES:Saison 2023/24
END:VEVENT
BEGIN:VEVENT
DTSTAMP:20260424T062131Z
DTSTART;TZID=Europe/Berlin:20240209T200000
DTEND;TZID=Europe/Berlin:20240209T230000
SUMMARY:6. Kreisklasse SV Siek VIII vs SV Hamberge II (65)
UID:1f3f700f-ee12-5b33-e063-1fc7a80a4d3b
STATUS:CONFIRMED
LAST-MODIFIED:20240809T113217Z
DESCRIPTION:6. Kreisklasse Herren\nBegegnungs-Nr: 65\nHeim: SV Siek VIII\nGast: SV Hamberge II\n
LOCATION:
CATEGORIES:Saison 2023/24
END:VEVENT
BEGIN:VEVENT
DTSTAMP:20260424T062131Z
DTSTART;TZID=Europe/Berlin:20240315T200000
DTEND;TZID=Europe/Berlin:20240315T230000
SUMMARY:6. Kreisklasse SV Siek VIII vs TSV Lütjensee IV (89)
UID:1f3f700f-ef81-5b33-e063-1fc7a80a4d3b
STATUS:CONFIRMED
LAST-MODIFIED:20240809T113217Z
DESCRIPTION:6. Kreisklasse Herren\nBegegnungs-Nr: 89\nHeim: SV Siek VIII\nGast: TSV Lütjensee IV\n
LOCATION:
CATEGORIES:Saison 2023/24
END:VEVENT
BEGIN:VEVENT
DTSTAMP:20260424T062131Z
DTSTART;TZID=Europe/Berlin:20240223T200000
DTEND;TZID=Europe/Berlin:20240223T230000
SUMMARY:6. Kreisklasse SV Siek VIII vs TSV Bargteheide X (75)
UID:1f3f700f-eea9-5b33-e063-1fc7a80a4d3b
STATUS:CONFIRMED
LAST-MODIFIED:20240809T113217Z
DESCRIPTION:6. Kreisklasse Herren\nBegegnungs-Nr: 75\nHeim: SV Siek VIII\nGast: TSV Bargteheide X\n
LOCATION:
CATEGORIES:Saison 2023/24
END:VEVENT
BEGIN:VEVENT
DTSTAMP:20260424T062131Z
DTSTART;TZID=Europe/Berlin:20230925T200000
DTEND;TZID=Europe/Berlin:20230925T230000
SUMMARY:6. Kreisklasse SV Hamberge II vs SV Siek VIII (16)
UID:1f3f700f-eae6-5b33-e063-1fc7a80a4d3b
STATUS:CONFIRMED
LAST-MODIFIED:20240809T113217Z
DESCRIPTION:6. Kreisklasse Herren\nBegegnungs-Nr: 16\nHeim: SV Hamberge II\nGast: SV Siek VIII\n
LOCATION:
CATEGORIES:Saison 2023/24
END:VEVENT
BEGIN:VEVENT
DTSTAMP:20260424T062131Z
DTSTART;TZID=Europe/Berlin:20231013T201500
DTEND;TZID=Europe/Berlin:20231013T231500
SUMMARY:6. Kreisklasse TSV Bargteheide X vs SV Siek VIII (29)
UID:1f3f700f-ebe5-5b33-e063-1fc7a80a4d3b
STATUS:CONFIRMED
LAST-MODIFIED:20240809T113217Z
DESCRIPTION:6. Kreisklasse Herren\nBegegnungs-Nr: 29\nHeim: TSV Bargteheide X\nGast: SV Siek VIII\n
LOCATION:
CATEGORIES:Saison 2023/24
END:VEVENT
BEGIN:VEVENT
DTSTAMP:20260424T062131Z
DTSTART;TZID=Europe/Berlin:20231115T200000
DTEND;TZID=Europe/Berlin:20231115T230000
SUMMARY:6. Kreisklasse TSV Lütjensee IV vs SV Siek VIII (41)
UID:1f3f700f-ecaa-5b33-e063-1fc7a80a4d3b
STATUS:CONFIRMED
LAST-MODIFIED:20240809T113217Z
DESCRIPTION:6. Kreisklasse Herren\nBegegnungs-Nr: 41\nHeim: TSV Lütjensee IV\nGast: SV Siek VIII\n
LOCATION:
CATEGORIES:Saison 2023/24
END:VEVENT
BEGIN:VEVENT
DTSTAMP:20260424T062131Z
DTSTART;TZID=Europe/Berlin:20240119T193000
DTEND;TZID=Europe/Berlin:20240119T223000
SUMMARY:6. Kreisklasse VfL Oldesloe III vs SV Siek VIII (48)
UID:1f3f700f-ed20-5b33-e063-1fc7a80a4d3b
STATUS:CONFIRMED
LAST-MODIFIED:20240809T113217Z
DESCRIPTION:6. Kreisklasse Herren\nBegegnungs-Nr: 48\nHeim: VfL Oldesloe III\nGast: SV Siek VIII\n
LOCATION:
CATEGORIES:Saison 2023/24
END:VEVENT
BEGIN:VEVENT
DTSTAMP:20260424T062131Z
DTSTART;TZID=Europe/Berlin:20240202T201500
DTEND;TZID=Europe/Berlin:20240202T231500
SUMMARY:6. Kreisklasse TSV Trittau II vs SV Siek VIII (60)
UID:1f3f700f-edc6-5b33-e063-1fc7a80a4d3b
STATUS:CONFIRMED
LAST-MODIFIED:20240809T113217Z
DESCRIPTION:6. Kreisklasse Herren\nBegegnungs-Nr: 60\nHeim: TSV Trittau II\nGast: SV Siek VIII\n
LOCATION:
CATEGORIES:Saison 2023/24
END:VEVENT
BEGIN:VEVENT
DTSTAMP:20260424T062131Z
DTSTART;TZID=Europe/Berlin:20240326T200000
DTEND;TZID=Europe/Berlin:20240326T230000
SUMMARY:6. Kreisklasse Sportfreunde Grande-Kuddewörde II vs SV Siek VIII (67)
UID:1f3f700f-ee3a-5b33-e063-1fc7a80a4d3b
STATUS:CONFIRMED
LAST-MODIFIED:20240809T113217Z
DESCRIPTION:6. Kreisklasse Herren\nBegegnungs-Nr: 67\nHeim: Sportfreunde Grande-Kuddewörde II\nGast: SV Siek VIII\n
LOCATION:
CATEGORIES:Saison 2023/24
END:VEVENT
BEGIN:VEVENT
DTSTAMP:20260424T062131Z
DTSTART;TZID=Europe/Berlin:20240229T200000
DTEND;TZID=Europe/Berlin:20240229T230000
SUMMARY:6. Kreisklasse TSV Grabau III vs SV Siek VIII (78)
UID:1f3f700f-eec9-5b33-e063-1fc7a80a4d3b
STATUS:CONFIRMED
LAST-MODIFIED:20240809T113217Z
DESCRIPTION:6. Kreisklasse Herren\nBegegnungs-Nr: 78\nHeim: TSV Grabau III\nGast: SV Siek VIII\n
LOCATION:
CATEGORIES:Saison 2023/24
END:VEVENT
BEGIN:VEVENT
DTSTAMP:20260424T062131Z
DTSTART;TZID=Europe/Berlin:20240307T201500
DTEND;TZID=Europe/Berlin:20240307T231500
SUMMARY:6. Kreisklasse VfL Tremsbüttel V vs SV Siek VIII (82)
UID:1f3f700f-ef14-5b33-e063-1fc7a80a4d3b
STATUS:CONFIRMED
LAST-MODIFIED:20240809T113217Z
DESCRIPTION:6. Kreisklasse Herren\nBegegnungs-Nr: 82\nHeim: VfL Tremsbüttel V\nGast: SV Siek VIII\n
LOCATION:
CATEGORIES:Saison 2023/24
END:VEVENT
END:VCALENDAR
