BEGIN:VCALENDAR
PRODID:-//nuDatenautomaten//framework iCal4j //DE
VERSION:2.0
CALSCALE:GREGORIAN
BEGIN:VTIMEZONE
TZID:Europe/Berlin
LAST-MODIFIED:20260306T231828Z
TZURL:https://www.tzurl.org/zoneinfo/Europe/Berlin
X-LIC-LOCATION:Europe/Berlin
X-PROLEPTIC-TZNAME:LMT
BEGIN:STANDARD
TZNAME:CET
TZOFFSETFROM:+005328
TZOFFSETTO:+0100
DTSTART:18930401T000000
END:STANDARD
BEGIN:DAYLIGHT
TZNAME:CEST
TZOFFSETFROM:+0100
TZOFFSETTO:+0200
DTSTART:19160430T230000
RDATE:19400401T020000
RDATE:19430329T020000
RDATE:19460414T020000
RDATE:19470406T030000
RDATE:19480418T020000
RDATE:19490410T020000
RDATE:19800406T020000
END:DAYLIGHT
BEGIN:STANDARD
TZNAME:CET
TZOFFSETFROM:+0200
TZOFFSETTO:+0100
DTSTART:19161001T010000
RDATE:19421102T030000
RDATE:19431004T030000
RDATE:19441002T030000
RDATE:19451118T030000
RDATE:19461007T030000
END:STANDARD
BEGIN:DAYLIGHT
TZNAME:CEST
TZOFFSETFROM:+0100
TZOFFSETTO:+0200
DTSTART:19170416T020000
RRULE:FREQ=YEARLY;UNTIL=19180415T010000Z;BYMONTH=4;BYDAY=3MO
END:DAYLIGHT
BEGIN:STANDARD
TZNAME:CET
TZOFFSETFROM:+0200
TZOFFSETTO:+0100
DTSTART:19170917T030000
RRULE:FREQ=YEARLY;UNTIL=19180916T010000Z;BYMONTH=9;BYDAY=3MO
END:STANDARD
BEGIN:DAYLIGHT
TZNAME:CEST
TZOFFSETFROM:+0100
TZOFFSETTO:+0200
DTSTART:19440403T020000
RRULE:FREQ=YEARLY;UNTIL=19450402T010000Z;BYMONTH=4;BYDAY=1MO
END:DAYLIGHT
BEGIN:DAYLIGHT
TZNAME:CEMT
TZOFFSETFROM:+0200
TZOFFSETTO:+0300
DTSTART:19450524T020000
RDATE:19470511T030000
END:DAYLIGHT
BEGIN:DAYLIGHT
TZNAME:CEST
TZOFFSETFROM:+0300
TZOFFSETTO:+0200
DTSTART:19450924T030000
RDATE:19470629T030000
END:DAYLIGHT
BEGIN:STANDARD
TZNAME:CET
TZOFFSETFROM:+0100
TZOFFSETTO:+0100
DTSTART:19460101T000000
RDATE:19800101T000000
END:STANDARD
BEGIN:STANDARD
TZNAME:CET
TZOFFSETFROM:+0200
TZOFFSETTO:+0100
DTSTART:19471005T030000
RRULE:FREQ=YEARLY;UNTIL=19491002T010000Z;BYMONTH=10;BYDAY=1SU
END:STANDARD
BEGIN:STANDARD
TZNAME:CET
TZOFFSETFROM:+0200
TZOFFSETTO:+0100
DTSTART:19800928T030000
RRULE:FREQ=YEARLY;UNTIL=19950924T010000Z;BYMONTH=9;BYDAY=-1SU
END:STANDARD
BEGIN:DAYLIGHT
TZNAME:CEST
TZOFFSETFROM:+0100
TZOFFSETTO:+0200
DTSTART:19810329T020000
RRULE:FREQ=YEARLY;BYMONTH=3;BYDAY=-1SU
END:DAYLIGHT
BEGIN:STANDARD
TZNAME:CET
TZOFFSETFROM:+0200
TZOFFSETTO:+0100
DTSTART:19961027T030000
RRULE:FREQ=YEARLY;BYMONTH=10;BYDAY=-1SU
END:STANDARD
END:VTIMEZONE
BEGIN:VEVENT
DTSTAMP:20260422T083505Z
DTSTART;TZID=Europe/Berlin:20230906T200000
DTEND;TZID=Europe/Berlin:20230906T230000
SUMMARY:6. Kreisklasse TSV Lütjensee IV vs VfL Tremsbüttel V (2)
UID:1f3f700f-e9f8-5b33-e063-1fc7a80a4d3b
STATUS:CONFIRMED
LAST-MODIFIED:20240809T113217Z
DESCRIPTION:6. Kreisklasse Herren\nBegegnungs-Nr: 2\nHeim: TSV Lütjensee IV\nGast: VfL Tremsbüttel V\n
LOCATION:
CATEGORIES:Saison 2023/24
END:VEVENT
BEGIN:VEVENT
DTSTAMP:20260422T083505Z
DTSTART;TZID=Europe/Berlin:20231122T200000
DTEND;TZID=Europe/Berlin:20231122T230000
SUMMARY:6. Kreisklasse TSV Lütjensee IV vs SV Hamberge II (21)
UID:1f3f700f-eb48-5b33-e063-1fc7a80a4d3b
STATUS:CONFIRMED
LAST-MODIFIED:20240809T113217Z
DESCRIPTION:6. Kreisklasse Herren\nBegegnungs-Nr: 21\nHeim: TSV Lütjensee IV\nGast: SV Hamberge II\n
LOCATION:
CATEGORIES:Saison 2023/24
END:VEVENT
BEGIN:VEVENT
DTSTAMP:20260422T083505Z
DTSTART;TZID=Europe/Berlin:20231101T200000
DTEND;TZID=Europe/Berlin:20231101T230000
SUMMARY:6. Kreisklasse TSV Lütjensee IV vs TSV Bargteheide X (31)
UID:1f3f700f-ebf8-5b33-e063-1fc7a80a4d3b
STATUS:CONFIRMED
LAST-MODIFIED:20240809T113217Z
DESCRIPTION:6. Kreisklasse Herren\nBegegnungs-Nr: 31\nHeim: TSV Lütjensee IV\nGast: TSV Bargteheide X\n
LOCATION:
CATEGORIES:Saison 2023/24
END:VEVENT
BEGIN:VEVENT
DTSTAMP:20260422T083505Z
DTSTART;TZID=Europe/Berlin:20231115T200000
DTEND;TZID=Europe/Berlin:20231115T230000
SUMMARY:6. Kreisklasse TSV Lütjensee IV vs SV Siek VIII (41)
UID:1f3f700f-ecaa-5b33-e063-1fc7a80a4d3b
STATUS:CONFIRMED
LAST-MODIFIED:20240809T113217Z
DESCRIPTION:6. Kreisklasse Herren\nBegegnungs-Nr: 41\nHeim: TSV Lütjensee IV\nGast: SV Siek VIII\n
LOCATION:
CATEGORIES:Saison 2023/24
END:VEVENT
BEGIN:VEVENT
DTSTAMP:20260422T083505Z
DTSTART;TZID=Europe/Berlin:20240124T200000
DTEND;TZID=Europe/Berlin:20240124T230000
SUMMARY:6. Kreisklasse TSV Lütjensee IV vs VfL Oldesloe III (52)
UID:1f3f700f-ed54-5b33-e063-1fc7a80a4d3b
STATUS:CONFIRMED
LAST-MODIFIED:20240809T113217Z
DESCRIPTION:6. Kreisklasse Herren\nBegegnungs-Nr: 52\nHeim: TSV Lütjensee IV\nGast: VfL Oldesloe III\n
LOCATION:
CATEGORIES:Saison 2023/24
END:VEVENT
BEGIN:VEVENT
DTSTAMP:20260422T083505Z
DTSTART;TZID=Europe/Berlin:20240207T200000
DTEND;TZID=Europe/Berlin:20240207T230000
SUMMARY:6. Kreisklasse TSV Lütjensee IV vs TSV Trittau II (61)
UID:1f3f700f-edd8-5b33-e063-1fc7a80a4d3b
STATUS:CONFIRMED
LAST-MODIFIED:20240809T113217Z
DESCRIPTION:6. Kreisklasse Herren\nBegegnungs-Nr: 61\nHeim: TSV Lütjensee IV\nGast: TSV Trittau II\n
LOCATION:
CATEGORIES:Saison 2023/24
END:VEVENT
BEGIN:VEVENT
DTSTAMP:20260422T083505Z
DTSTART;TZID=Europe/Berlin:20240221T200000
DTEND;TZID=Europe/Berlin:20240221T230000
SUMMARY:6. Kreisklasse TSV Lütjensee IV vs Sportfreunde Grande-Kuddewörde II (71)
UID:1f3f700f-ee70-5b33-e063-1fc7a80a4d3b
STATUS:CONFIRMED
LAST-MODIFIED:20240809T113217Z
DESCRIPTION:6. Kreisklasse Herren\nBegegnungs-Nr: 71\nHeim: TSV Lütjensee IV\nGast: Sportfreunde Grande-Kuddewörde II\n
LOCATION:
CATEGORIES:Saison 2023/24
END:VEVENT
BEGIN:VEVENT
DTSTAMP:20260422T083505Z
DTSTART;TZID=Europe/Berlin:20240306T200000
DTEND;TZID=Europe/Berlin:20240306T230000
SUMMARY:6. Kreisklasse TSV Lütjensee IV vs TSV Grabau III (81)
UID:1f3f700f-eeff-5b33-e063-1fc7a80a4d3b
STATUS:CONFIRMED
LAST-MODIFIED:20240809T113217Z
DESCRIPTION:6. Kreisklasse Herren\nBegegnungs-Nr: 81\nHeim: TSV Lütjensee IV\nGast: TSV Grabau III\n
LOCATION:
CATEGORIES:Saison 2023/24
END:VEVENT
BEGIN:VEVENT
DTSTAMP:20260422T083505Z
DTSTART;TZID=Europe/Berlin:20230915T193000
DTEND;TZID=Europe/Berlin:20230915T223000
SUMMARY:6. Kreisklasse VfL Oldesloe III vs TSV Lütjensee IV (8)
UID:1f3f700f-ea64-5b33-e063-1fc7a80a4d3b
STATUS:CONFIRMED
LAST-MODIFIED:20240809T113217Z
DESCRIPTION:6. Kreisklasse Herren\nBegegnungs-Nr: 8\nHeim: VfL Oldesloe III\nGast: TSV Lütjensee IV\n
LOCATION:
CATEGORIES:Saison 2023/24
END:VEVENT
BEGIN:VEVENT
DTSTAMP:20260422T083505Z
DTSTART;TZID=Europe/Berlin:20230929T201500
DTEND;TZID=Europe/Berlin:20230929T231500
SUMMARY:6. Kreisklasse TSV Trittau II vs TSV Lütjensee IV (20)
UID:1f3f700f-eb35-5b33-e063-1fc7a80a4d3b
STATUS:CONFIRMED
LAST-MODIFIED:20240809T113217Z
DESCRIPTION:6. Kreisklasse Herren\nBegegnungs-Nr: 20\nHeim: TSV Trittau II\nGast: TSV Lütjensee IV\n
LOCATION:
CATEGORIES:Saison 2023/24
END:VEVENT
BEGIN:VEVENT
DTSTAMP:20260422T083505Z
DTSTART;TZID=Europe/Berlin:20231010T200000
DTEND;TZID=Europe/Berlin:20231010T230000
SUMMARY:6. Kreisklasse Sportfreunde Grande-Kuddewörde II vs TSV Lütjensee IV (27)
UID:1f3f700f-ebbd-5b33-e063-1fc7a80a4d3b
STATUS:CONFIRMED
LAST-MODIFIED:20240809T113217Z
DESCRIPTION:6. Kreisklasse Herren\nBegegnungs-Nr: 27\nHeim: Sportfreunde Grande-Kuddewörde II\nGast: TSV Lütjensee IV\n
LOCATION:
CATEGORIES:Saison 2023/24
END:VEVENT
BEGIN:VEVENT
DTSTAMP:20260422T083505Z
DTSTART;TZID=Europe/Berlin:20231109T200000
DTEND;TZID=Europe/Berlin:20231109T230000
SUMMARY:6. Kreisklasse TSV Grabau III vs TSV Lütjensee IV (38)
UID:1f3f700f-ec75-5b33-e063-1fc7a80a4d3b
STATUS:CONFIRMED
LAST-MODIFIED:20240809T113217Z
DESCRIPTION:6. Kreisklasse Herren\nBegegnungs-Nr: 38\nHeim: TSV Grabau III\nGast: TSV Lütjensee IV\n
LOCATION:
CATEGORIES:Saison 2023/24
END:VEVENT
BEGIN:VEVENT
DTSTAMP:20260422T083505Z
DTSTART;TZID=Europe/Berlin:20240212T200000
DTEND;TZID=Europe/Berlin:20240212T230000
SUMMARY:6. Kreisklasse SV Hamberge II vs TSV Lütjensee IV (66)
UID:1f3f700f-ee27-5b33-e063-1fc7a80a4d3b
STATUS:CONFIRMED
LAST-MODIFIED:20240809T113217Z
DESCRIPTION:6. Kreisklasse Herren\nBegegnungs-Nr: 66\nHeim: SV Hamberge II\nGast: TSV Lütjensee IV\n
LOCATION:
CATEGORIES:Saison 2023/24
END:VEVENT
BEGIN:VEVENT
DTSTAMP:20260422T083505Z
DTSTART;TZID=Europe/Berlin:20240118T201500
DTEND;TZID=Europe/Berlin:20240118T231500
SUMMARY:6. Kreisklasse VfL Tremsbüttel V vs TSV Lütjensee IV (47)
UID:1f3f700f-ed0b-5b33-e063-1fc7a80a4d3b
STATUS:CONFIRMED
LAST-MODIFIED:20240809T113217Z
DESCRIPTION:6. Kreisklasse Herren\nBegegnungs-Nr: 47\nHeim: VfL Tremsbüttel V\nGast: TSV Lütjensee IV\n
LOCATION:
CATEGORIES:Saison 2023/24
END:VEVENT
BEGIN:VEVENT
DTSTAMP:20260422T083505Z
DTSTART;TZID=Europe/Berlin:20240315T200000
DTEND;TZID=Europe/Berlin:20240315T230000
SUMMARY:6. Kreisklasse SV Siek VIII vs TSV Lütjensee IV (89)
UID:1f3f700f-ef81-5b33-e063-1fc7a80a4d3b
STATUS:CONFIRMED
LAST-MODIFIED:20240809T113217Z
DESCRIPTION:6. Kreisklasse Herren\nBegegnungs-Nr: 89\nHeim: SV Siek VIII\nGast: TSV Lütjensee IV\n
LOCATION:
CATEGORIES:Saison 2023/24
END:VEVENT
BEGIN:VEVENT
DTSTAMP:20260422T083505Z
DTSTART;TZID=Europe/Berlin:20240301T201500
DTEND;TZID=Europe/Berlin:20240301T231500
SUMMARY:6. Kreisklasse TSV Bargteheide X vs TSV Lütjensee IV (80)
UID:1f3f700f-eeee-5b33-e063-1fc7a80a4d3b
STATUS:CONFIRMED
LAST-MODIFIED:20240809T113217Z
DESCRIPTION:6. Kreisklasse Herren\nBegegnungs-Nr: 80\nHeim: TSV Bargteheide X\nGast: TSV Lütjensee IV\n
LOCATION:
CATEGORIES:Saison 2023/24
END:VEVENT
END:VCALENDAR
