BEGIN:VCALENDAR
PRODID:-//nuDatenautomaten//framework iCal4j //DE
VERSION:2.0
CALSCALE:GREGORIAN
BEGIN:VTIMEZONE
TZID:Europe/Berlin
LAST-MODIFIED:20260306T231828Z
TZURL:https://www.tzurl.org/zoneinfo/Europe/Berlin
X-LIC-LOCATION:Europe/Berlin
X-PROLEPTIC-TZNAME:LMT
BEGIN:STANDARD
TZNAME:CET
TZOFFSETFROM:+005328
TZOFFSETTO:+0100
DTSTART:18930401T000000
END:STANDARD
BEGIN:DAYLIGHT
TZNAME:CEST
TZOFFSETFROM:+0100
TZOFFSETTO:+0200
DTSTART:19160430T230000
RDATE:19400401T020000
RDATE:19430329T020000
RDATE:19460414T020000
RDATE:19470406T030000
RDATE:19480418T020000
RDATE:19490410T020000
RDATE:19800406T020000
END:DAYLIGHT
BEGIN:STANDARD
TZNAME:CET
TZOFFSETFROM:+0200
TZOFFSETTO:+0100
DTSTART:19161001T010000
RDATE:19421102T030000
RDATE:19431004T030000
RDATE:19441002T030000
RDATE:19451118T030000
RDATE:19461007T030000
END:STANDARD
BEGIN:DAYLIGHT
TZNAME:CEST
TZOFFSETFROM:+0100
TZOFFSETTO:+0200
DTSTART:19170416T020000
RRULE:FREQ=YEARLY;UNTIL=19180415T010000Z;BYMONTH=4;BYDAY=3MO
END:DAYLIGHT
BEGIN:STANDARD
TZNAME:CET
TZOFFSETFROM:+0200
TZOFFSETTO:+0100
DTSTART:19170917T030000
RRULE:FREQ=YEARLY;UNTIL=19180916T010000Z;BYMONTH=9;BYDAY=3MO
END:STANDARD
BEGIN:DAYLIGHT
TZNAME:CEST
TZOFFSETFROM:+0100
TZOFFSETTO:+0200
DTSTART:19440403T020000
RRULE:FREQ=YEARLY;UNTIL=19450402T010000Z;BYMONTH=4;BYDAY=1MO
END:DAYLIGHT
BEGIN:DAYLIGHT
TZNAME:CEMT
TZOFFSETFROM:+0200
TZOFFSETTO:+0300
DTSTART:19450524T020000
RDATE:19470511T030000
END:DAYLIGHT
BEGIN:DAYLIGHT
TZNAME:CEST
TZOFFSETFROM:+0300
TZOFFSETTO:+0200
DTSTART:19450924T030000
RDATE:19470629T030000
END:DAYLIGHT
BEGIN:STANDARD
TZNAME:CET
TZOFFSETFROM:+0100
TZOFFSETTO:+0100
DTSTART:19460101T000000
RDATE:19800101T000000
END:STANDARD
BEGIN:STANDARD
TZNAME:CET
TZOFFSETFROM:+0200
TZOFFSETTO:+0100
DTSTART:19471005T030000
RRULE:FREQ=YEARLY;UNTIL=19491002T010000Z;BYMONTH=10;BYDAY=1SU
END:STANDARD
BEGIN:STANDARD
TZNAME:CET
TZOFFSETFROM:+0200
TZOFFSETTO:+0100
DTSTART:19800928T030000
RRULE:FREQ=YEARLY;UNTIL=19950924T010000Z;BYMONTH=9;BYDAY=-1SU
END:STANDARD
BEGIN:DAYLIGHT
TZNAME:CEST
TZOFFSETFROM:+0100
TZOFFSETTO:+0200
DTSTART:19810329T020000
RRULE:FREQ=YEARLY;BYMONTH=3;BYDAY=-1SU
END:DAYLIGHT
BEGIN:STANDARD
TZNAME:CET
TZOFFSETFROM:+0200
TZOFFSETTO:+0100
DTSTART:19961027T030000
RRULE:FREQ=YEARLY;BYMONTH=10;BYDAY=-1SU
END:STANDARD
END:VTIMEZONE
BEGIN:VEVENT
DTSTAMP:20260421T210809Z
DTSTART;TZID=Europe/Berlin:20230929T200000
DTEND;TZID=Europe/Berlin:20230929T230000
SUMMARY:6. Kreisklasse TSV Mollhagen II vs VfL Oldesloe III (18)
UID:1f3f700f-eb0f-5b33-e063-1fc7a80a4d3b
STATUS:CONFIRMED
LAST-MODIFIED:20240809T113217Z
DESCRIPTION:6. Kreisklasse Herren\nBegegnungs-Nr: 18\nHeim: TSV Mollhagen II\nGast: VfL Oldesloe III\n
LOCATION:
CATEGORIES:Saison 2023/24
END:VEVENT
BEGIN:VEVENT
DTSTAMP:20260421T210809Z
DTSTART;TZID=Europe/Berlin:20231103T200000
DTEND;TZID=Europe/Berlin:20231103T230000
SUMMARY:6. Kreisklasse TSV Mollhagen II vs SV Hamberge II (35)
UID:1f3f700f-ec3f-5b33-e063-1fc7a80a4d3b
STATUS:CONFIRMED
LAST-MODIFIED:20240809T113217Z
DESCRIPTION:6. Kreisklasse Herren\nBegegnungs-Nr: 35\nHeim: TSV Mollhagen II\nGast: SV Hamberge II\n
LOCATION:
CATEGORIES:Saison 2023/24
END:VEVENT
BEGIN:VEVENT
DTSTAMP:20260421T210809Z
DTSTART;TZID=Europe/Berlin:20230921T200000
DTEND;TZID=Europe/Berlin:20230921T230000
SUMMARY:6. Kreisklasse TSV Grabau III vs TSV Mollhagen II (3)
UID:1f3f700f-ea0c-5b33-e063-1fc7a80a4d3b
STATUS:CONFIRMED
LAST-MODIFIED:20240809T113217Z
DESCRIPTION:6. Kreisklasse Herren\nBegegnungs-Nr: 3\nHeim: TSV Grabau III\nGast: TSV Mollhagen II\n
LOCATION:
CATEGORIES:Saison 2023/24
END:VEVENT
BEGIN:VEVENT
DTSTAMP:20260421T210809Z
DTSTART;TZID=Europe/Berlin:20231122T200000
DTEND;TZID=Europe/Berlin:20231122T230000
SUMMARY:6. Kreisklasse SV Siek VIII vs TSV Mollhagen II (9)
UID:1f3f700f-ea78-5b33-e063-1fc7a80a4d3b
STATUS:CONFIRMED
LAST-MODIFIED:20240809T113217Z
DESCRIPTION:6. Kreisklasse Herren\nBegegnungs-Nr: 9\nHeim: SV Siek VIII\nGast: TSV Mollhagen II\n
LOCATION:
CATEGORIES:Saison 2023/24
END:VEVENT
BEGIN:VEVENT
DTSTAMP:20260421T210809Z
DTSTART;TZID=Europe/Berlin:20231005T201500
DTEND;TZID=Europe/Berlin:20231005T231500
SUMMARY:6. Kreisklasse VfL Tremsbüttel V vs TSV Mollhagen II (23)
UID:1f3f700f-eb6f-5b33-e063-1fc7a80a4d3b
STATUS:CONFIRMED
LAST-MODIFIED:20240809T113217Z
DESCRIPTION:6. Kreisklasse Herren\nBegegnungs-Nr: 23\nHeim: VfL Tremsbüttel V\nGast: TSV Mollhagen II\n
LOCATION:
CATEGORIES:Saison 2023/24
END:VEVENT
BEGIN:VEVENT
DTSTAMP:20260421T210809Z
DTSTART;TZID=Europe/Berlin:20231107T200000
DTEND;TZID=Europe/Berlin:20231107T230000
SUMMARY:6. Kreisklasse Sportfreunde Grande-Kuddewörde II vs TSV Mollhagen II (37)
UID:1f3f700f-ec63-5b33-e063-1fc7a80a4d3b
STATUS:CONFIRMED
LAST-MODIFIED:20240809T113217Z
DESCRIPTION:6. Kreisklasse Herren\nBegegnungs-Nr: 37\nHeim: Sportfreunde Grande-Kuddewörde II\nGast: TSV Mollhagen II\n
LOCATION:
CATEGORIES:Saison 2023/24
END:VEVENT
END:VCALENDAR
