BEGIN:VCALENDAR
PRODID:-//nuDatenautomaten//framework iCal4j //DE
VERSION:2.0
CALSCALE:GREGORIAN
BEGIN:VTIMEZONE
TZID:Europe/Berlin
LAST-MODIFIED:20260306T231828Z
TZURL:https://www.tzurl.org/zoneinfo/Europe/Berlin
X-LIC-LOCATION:Europe/Berlin
X-PROLEPTIC-TZNAME:LMT
BEGIN:STANDARD
TZNAME:CET
TZOFFSETFROM:+005328
TZOFFSETTO:+0100
DTSTART:18930401T000000
END:STANDARD
BEGIN:DAYLIGHT
TZNAME:CEST
TZOFFSETFROM:+0100
TZOFFSETTO:+0200
DTSTART:19160430T230000
RDATE:19400401T020000
RDATE:19430329T020000
RDATE:19460414T020000
RDATE:19470406T030000
RDATE:19480418T020000
RDATE:19490410T020000
RDATE:19800406T020000
END:DAYLIGHT
BEGIN:STANDARD
TZNAME:CET
TZOFFSETFROM:+0200
TZOFFSETTO:+0100
DTSTART:19161001T010000
RDATE:19421102T030000
RDATE:19431004T030000
RDATE:19441002T030000
RDATE:19451118T030000
RDATE:19461007T030000
END:STANDARD
BEGIN:DAYLIGHT
TZNAME:CEST
TZOFFSETFROM:+0100
TZOFFSETTO:+0200
DTSTART:19170416T020000
RRULE:FREQ=YEARLY;UNTIL=19180415T010000Z;BYMONTH=4;BYDAY=3MO
END:DAYLIGHT
BEGIN:STANDARD
TZNAME:CET
TZOFFSETFROM:+0200
TZOFFSETTO:+0100
DTSTART:19170917T030000
RRULE:FREQ=YEARLY;UNTIL=19180916T010000Z;BYMONTH=9;BYDAY=3MO
END:STANDARD
BEGIN:DAYLIGHT
TZNAME:CEST
TZOFFSETFROM:+0100
TZOFFSETTO:+0200
DTSTART:19440403T020000
RRULE:FREQ=YEARLY;UNTIL=19450402T010000Z;BYMONTH=4;BYDAY=1MO
END:DAYLIGHT
BEGIN:DAYLIGHT
TZNAME:CEMT
TZOFFSETFROM:+0200
TZOFFSETTO:+0300
DTSTART:19450524T020000
RDATE:19470511T030000
END:DAYLIGHT
BEGIN:DAYLIGHT
TZNAME:CEST
TZOFFSETFROM:+0300
TZOFFSETTO:+0200
DTSTART:19450924T030000
RDATE:19470629T030000
END:DAYLIGHT
BEGIN:STANDARD
TZNAME:CET
TZOFFSETFROM:+0100
TZOFFSETTO:+0100
DTSTART:19460101T000000
RDATE:19800101T000000
END:STANDARD
BEGIN:STANDARD
TZNAME:CET
TZOFFSETFROM:+0200
TZOFFSETTO:+0100
DTSTART:19471005T030000
RRULE:FREQ=YEARLY;UNTIL=19491002T010000Z;BYMONTH=10;BYDAY=1SU
END:STANDARD
BEGIN:STANDARD
TZNAME:CET
TZOFFSETFROM:+0200
TZOFFSETTO:+0100
DTSTART:19800928T030000
RRULE:FREQ=YEARLY;UNTIL=19950924T010000Z;BYMONTH=9;BYDAY=-1SU
END:STANDARD
BEGIN:DAYLIGHT
TZNAME:CEST
TZOFFSETFROM:+0100
TZOFFSETTO:+0200
DTSTART:19810329T020000
RRULE:FREQ=YEARLY;BYMONTH=3;BYDAY=-1SU
END:DAYLIGHT
BEGIN:STANDARD
TZNAME:CET
TZOFFSETFROM:+0200
TZOFFSETTO:+0100
DTSTART:19961027T030000
RRULE:FREQ=YEARLY;BYMONTH=10;BYDAY=-1SU
END:STANDARD
END:VTIMEZONE
BEGIN:VEVENT
DTSTAMP:20260424T181508Z
DTSTART;TZID=Europe/Berlin:20231030T200000
DTEND;TZID=Europe/Berlin:20231030T230000
SUMMARY:7. Kreisklasse TTG Elmenh./Fischbek VII vs SV Meddewade III (44)
UID:1f3f700f-f2b2-5b33-e063-1fc7a80a4d3b
STATUS:CONFIRMED
LAST-MODIFIED:20240809T113218Z
DESCRIPTION:7. Kreisklasse Herren\nBegegnungs-Nr: 44\nHeim: TTG Elmenh./Fischbek VII\nGast: SV Meddewade III\n
LOCATION:
CATEGORIES:Saison 2023/24
END:VEVENT
BEGIN:VEVENT
DTSTAMP:20260424T181508Z
DTSTART;TZID=Europe/Berlin:20231113T200000
DTEND;TZID=Europe/Berlin:20231113T230000
SUMMARY:7. Kreisklasse TTG Elmenh./Fischbek VII vs SV Preußen Reinfeld IV (58)
UID:1f3f700f-f3b3-5b33-e063-1fc7a80a4d3b
STATUS:CONFIRMED
LAST-MODIFIED:20240809T113218Z
DESCRIPTION:7. Kreisklasse Herren\nBegegnungs-Nr: 58\nHeim: TTG Elmenh./Fischbek VII\nGast: SV Preußen Reinfeld IV\n
LOCATION:
CATEGORIES:Saison 2023/24
END:VEVENT
BEGIN:VEVENT
DTSTAMP:20260424T181508Z
DTSTART;TZID=Europe/Berlin:20240129T200000
DTEND;TZID=Europe/Berlin:20240129T230000
SUMMARY:7. Kreisklasse TTG Elmenh./Fischbek VII vs TSV Bargteheide XI (107)
UID:1f3f700f-f646-5b33-e063-1fc7a80a4d3b
STATUS:CONFIRMED
LAST-MODIFIED:20240809T113218Z
DESCRIPTION:7. Kreisklasse Herren\nBegegnungs-Nr: 107\nHeim: TTG Elmenh./Fischbek VII\nGast: TSV Bargteheide XI\n
LOCATION:
CATEGORIES:Saison 2023/24
END:VEVENT
BEGIN:VEVENT
DTSTAMP:20260424T181508Z
DTSTART;TZID=Europe/Berlin:20240205T200000
DTEND;TZID=Europe/Berlin:20240205T230000
SUMMARY:7. Kreisklasse TTG Elmenh./Fischbek VII vs TSV Bargteheide XII (113)
UID:1f3f700f-f6b6-5b33-e063-1fc7a80a4d3b
STATUS:CONFIRMED
LAST-MODIFIED:20240809T113218Z
DESCRIPTION:7. Kreisklasse Herren\nBegegnungs-Nr: 113\nHeim: TTG Elmenh./Fischbek VII\nGast: TSV Bargteheide XII\n
LOCATION:
CATEGORIES:Saison 2023/24
END:VEVENT
BEGIN:VEVENT
DTSTAMP:20260424T181508Z
DTSTART;TZID=Europe/Berlin:20230911T200000
DTEND;TZID=Europe/Berlin:20230911T230000
SUMMARY:7. Kreisklasse TTG Elmenh./Fischbek VII vs SV Hamberge III (9)
UID:1f3f700f-f020-5b33-e063-1fc7a80a4d3b
STATUS:CONFIRMED
LAST-MODIFIED:20240809T113218Z
DESCRIPTION:7. Kreisklasse Herren\nBegegnungs-Nr: 9\nHeim: TTG Elmenh./Fischbek VII\nGast: SV Hamberge III\n
LOCATION:
CATEGORIES:Saison 2023/24
END:VEVENT
BEGIN:VEVENT
DTSTAMP:20260424T181508Z
DTSTART;TZID=Europe/Berlin:20231016T200000
DTEND;TZID=Europe/Berlin:20231016T230000
SUMMARY:7. Kreisklasse TTG Elmenh./Fischbek VII vs TSV Mollhagen III (30)
UID:1f3f700f-f1a4-5b33-e063-1fc7a80a4d3b
STATUS:CONFIRMED
LAST-MODIFIED:20240809T113218Z
DESCRIPTION:7. Kreisklasse Herren\nBegegnungs-Nr: 30\nHeim: TTG Elmenh./Fischbek VII\nGast: TSV Mollhagen III\n
LOCATION:
CATEGORIES:Saison 2023/24
END:VEVENT
BEGIN:VEVENT
DTSTAMP:20260424T181508Z
DTSTART;TZID=Europe/Berlin:20231127T200000
DTEND;TZID=Europe/Berlin:20231127T230000
SUMMARY:7. Kreisklasse TTG Elmenh./Fischbek VII vs TSV Lütjensee V (73)
UID:1f3f700f-f4bf-5b33-e063-1fc7a80a4d3b
STATUS:CONFIRMED
LAST-MODIFIED:20240809T113218Z
DESCRIPTION:7. Kreisklasse Herren\nBegegnungs-Nr: 73\nHeim: TTG Elmenh./Fischbek VII\nGast: TSV Lütjensee V\n
LOCATION:
CATEGORIES:Saison 2023/24
END:VEVENT
BEGIN:VEVENT
DTSTAMP:20260424T181508Z
DTSTART;TZID=Europe/Berlin:20231211T200000
DTEND;TZID=Europe/Berlin:20231211T230000
SUMMARY:7. Kreisklasse TTG Elmenh./Fischbek VII vs Sportfreunde Grande-Kuddewörde III (86)
UID:1f3f700f-f595-5b33-e063-1fc7a80a4d3b
STATUS:CONFIRMED
LAST-MODIFIED:20240809T113218Z
DESCRIPTION:7. Kreisklasse Herren\nBegegnungs-Nr: 86\nHeim: TTG Elmenh./Fischbek VII\nGast: Sportfreunde Grande-Kuddewörde III\n
LOCATION:
CATEGORIES:Saison 2023/24
END:VEVENT
BEGIN:VEVENT
DTSTAMP:20260424T181508Z
DTSTART;TZID=Europe/Berlin:20240405T200000
DTEND;TZID=Europe/Berlin:20240405T230000
SUMMARY:7. Kreisklasse TTG Elmenh./Fischbek VII vs SSC Hagen Ahrensburg VIII (171)
UID:1f3f700f-faff-5b33-e063-1fc7a80a4d3b
STATUS:CONFIRMED
LAST-MODIFIED:20240809T113219Z
DESCRIPTION:7. Kreisklasse Herren\nBegegnungs-Nr: 171\nHeim: TTG Elmenh./Fischbek VII\nGast: SSC Hagen Ahrensburg VIII\n
LOCATION:
CATEGORIES:Saison 2023/24
END:VEVENT
BEGIN:VEVENT
DTSTAMP:20260424T181508Z
DTSTART;TZID=Europe/Berlin:20240115T200000
DTEND;TZID=Europe/Berlin:20240115T230000
SUMMARY:7. Kreisklasse TTG Elmenh./Fischbek VII vs Bargfelder SV IV (93)
UID:1f3f700f-fbf4-5b33-e063-1fc7a80a4d3b
STATUS:CONFIRMED
LAST-MODIFIED:20240809T113219Z
DESCRIPTION:7. Kreisklasse Herren\nBegegnungs-Nr: 93\nHeim: TTG Elmenh./Fischbek VII\nGast: Bargfelder SV IV\n
LOCATION:
CATEGORIES:Saison 2023/24
END:VEVENT
BEGIN:VEVENT
DTSTAMP:20260424T181508Z
DTSTART;TZID=Europe/Berlin:20240219T200000
DTEND;TZID=Europe/Berlin:20240219T230000
SUMMARY:7. Kreisklasse TTG Elmenh./Fischbek VII vs SV Grün-Weiß Neritz  (128)
UID:1f3f700f-f7cb-5b33-e063-1fc7a80a4d3b
STATUS:CONFIRMED
LAST-MODIFIED:20240809T113218Z
DESCRIPTION:7. Kreisklasse Herren\nBegegnungs-Nr: 128\nHeim: TTG Elmenh./Fischbek VII\nGast: SV Grün-Weiß Neritz \n
LOCATION:
CATEGORIES:Saison 2023/24
END:VEVENT
BEGIN:VEVENT
DTSTAMP:20260424T181508Z
DTSTART;TZID=Europe/Berlin:20240304T200000
DTEND;TZID=Europe/Berlin:20240304T230000
SUMMARY:7. Kreisklasse TTG Elmenh./Fischbek VII vs Delingsdorfer SV III (141)
UID:1f3f700f-f8c5-5b33-e063-1fc7a80a4d3b
STATUS:CONFIRMED
LAST-MODIFIED:20240809T113218Z
DESCRIPTION:7. Kreisklasse Herren\nBegegnungs-Nr: 141\nHeim: TTG Elmenh./Fischbek VII\nGast: Delingsdorfer SV III\n
LOCATION:
CATEGORIES:Saison 2023/24
END:VEVENT
BEGIN:VEVENT
DTSTAMP:20260424T181508Z
DTSTART;TZID=Europe/Berlin:20240318T200000
DTEND;TZID=Europe/Berlin:20240318T230000
SUMMARY:7. Kreisklasse TTG Elmenh./Fischbek VII vs TSV Trittau III (156)
UID:1f3f700f-f9de-5b33-e063-1fc7a80a4d3b
STATUS:CONFIRMED
LAST-MODIFIED:20240809T113218Z
DESCRIPTION:7. Kreisklasse Herren\nBegegnungs-Nr: 156\nHeim: TTG Elmenh./Fischbek VII\nGast: TSV Trittau III\n
LOCATION:
CATEGORIES:Saison 2023/24
END:VEVENT
BEGIN:VEVENT
DTSTAMP:20260424T181508Z
DTSTART;TZID=Europe/Berlin:20231012T200000
DTEND;TZID=Europe/Berlin:20231012T230000
SUMMARY:7. Kreisklasse SV Grün-Weiß Neritz  vs TTG Elmenh./Fischbek VII (39)
UID:1f3f700f-f257-5b33-e063-1fc7a80a4d3b
STATUS:CONFIRMED
LAST-MODIFIED:20240809T113218Z
DESCRIPTION:7. Kreisklasse Herren\nBegegnungs-Nr: 39\nHeim: SV Grün-Weiß Neritz \nGast: TTG Elmenh./Fischbek VII\n
LOCATION:
CATEGORIES:Saison 2023/24
END:VEVENT
BEGIN:VEVENT
DTSTAMP:20260424T181508Z
DTSTART;TZID=Europe/Berlin:20231110T200000
DTEND;TZID=Europe/Berlin:20231110T230000
SUMMARY:7. Kreisklasse Delingsdorfer SV III vs TTG Elmenh./Fischbek VII (56)
UID:1f3f700f-f391-5b33-e063-1fc7a80a4d3b
STATUS:CONFIRMED
LAST-MODIFIED:20240809T113218Z
DESCRIPTION:7. Kreisklasse Herren\nBegegnungs-Nr: 56\nHeim: Delingsdorfer SV III\nGast: TTG Elmenh./Fischbek VII\n
LOCATION:
CATEGORIES:Saison 2023/24
END:VEVENT
BEGIN:VEVENT
DTSTAMP:20260424T181508Z
DTSTART;TZID=Europe/Berlin:20230908T200000
DTEND;TZID=Europe/Berlin:20230908T230000
SUMMARY:7. Kreisklasse Bargfelder SV IV vs TTG Elmenh./Fischbek VII (7)
UID:1f3f700f-effc-5b33-e063-1fc7a80a4d3b
STATUS:CONFIRMED
LAST-MODIFIED:20240809T113217Z
DESCRIPTION:7. Kreisklasse Herren\nBegegnungs-Nr: 7\nHeim: Bargfelder SV IV\nGast: TTG Elmenh./Fischbek VII\n
LOCATION:
CATEGORIES:Saison 2023/24
END:VEVENT
BEGIN:VEVENT
DTSTAMP:20260424T181508Z
DTSTART;TZID=Europe/Berlin:20230921T201500
DTEND;TZID=Europe/Berlin:20230921T231500
SUMMARY:7. Kreisklasse TSV Bargteheide XI vs TTG Elmenh./Fischbek VII (19)
UID:1f3f700f-f0db-5b33-e063-1fc7a80a4d3b
STATUS:CONFIRMED
LAST-MODIFIED:20240809T113218Z
DESCRIPTION:7. Kreisklasse Herren\nBegegnungs-Nr: 19\nHeim: TSV Bargteheide XI\nGast: TTG Elmenh./Fischbek VII\n
LOCATION:
CATEGORIES:Saison 2023/24
END:VEVENT
BEGIN:VEVENT
DTSTAMP:20260424T181508Z
DTSTART;TZID=Europe/Berlin:20230928T201500
DTEND;TZID=Europe/Berlin:20230928T231500
SUMMARY:7. Kreisklasse TSV Bargteheide XII vs TTG Elmenh./Fischbek VII (25)
UID:1f3f700f-f148-5b33-e063-1fc7a80a4d3b
STATUS:CONFIRMED
LAST-MODIFIED:20240809T113218Z
DESCRIPTION:7. Kreisklasse Herren\nBegegnungs-Nr: 25\nHeim: TSV Bargteheide XII\nGast: TTG Elmenh./Fischbek VII\n
LOCATION:
CATEGORIES:Saison 2023/24
END:VEVENT
BEGIN:VEVENT
DTSTAMP:20260424T181508Z
DTSTART;TZID=Europe/Berlin:20240423T200000
DTEND;TZID=Europe/Berlin:20240423T230000
SUMMARY:7. Kreisklasse Sportfreunde Grande-Kuddewörde III vs TTG Elmenh./Fischbek VII (176)
UID:1f3f700f-fb5c-5b33-e063-1fc7a80a4d3b
STATUS:CONFIRMED
LAST-MODIFIED:20240809T113219Z
DESCRIPTION:7. Kreisklasse Herren\nBegegnungs-Nr: 176\nHeim: Sportfreunde Grande-Kuddewörde III\nGast: TTG Elmenh./Fischbek VII\n
LOCATION:
CATEGORIES:Saison 2023/24
END:VEVENT
BEGIN:VEVENT
DTSTAMP:20260424T181508Z
DTSTART;TZID=Europe/Berlin:20240216T200000
DTEND;TZID=Europe/Berlin:20240216T230000
SUMMARY:7. Kreisklasse TSV Mollhagen III vs TTG Elmenh./Fischbek VII (124)
UID:1f3f700f-f782-5b33-e063-1fc7a80a4d3b
STATUS:CONFIRMED
LAST-MODIFIED:20240809T113218Z
DESCRIPTION:7. Kreisklasse Herren\nBegegnungs-Nr: 124\nHeim: TSV Mollhagen III\nGast: TTG Elmenh./Fischbek VII\n
LOCATION:
CATEGORIES:Saison 2023/24
END:VEVENT
BEGIN:VEVENT
DTSTAMP:20260424T181508Z
DTSTART;TZID=Europe/Berlin:20240226T193000
DTEND;TZID=Europe/Berlin:20240226T223000
SUMMARY:7. Kreisklasse SV Meddewade III vs TTG Elmenh./Fischbek VII (134)
UID:1f3f700f-f83e-5b33-e063-1fc7a80a4d3b
STATUS:CONFIRMED
LAST-MODIFIED:20240809T113218Z
DESCRIPTION:7. Kreisklasse Herren\nBegegnungs-Nr: 134\nHeim: SV Meddewade III\nGast: TTG Elmenh./Fischbek VII\n
LOCATION:
CATEGORIES:Saison 2023/24
END:VEVENT
BEGIN:VEVENT
DTSTAMP:20260424T181508Z
DTSTART;TZID=Europe/Berlin:20240315T200000
DTEND;TZID=Europe/Berlin:20240315T230000
SUMMARY:7. Kreisklasse SV Preußen Reinfeld IV vs TTG Elmenh./Fischbek VII (153)
UID:1f3f700f-f9a3-5b33-e063-1fc7a80a4d3b
STATUS:CONFIRMED
LAST-MODIFIED:20240809T113218Z
DESCRIPTION:7. Kreisklasse Herren\nBegegnungs-Nr: 153\nHeim: SV Preußen Reinfeld IV\nGast: TTG Elmenh./Fischbek VII\n
LOCATION:
CATEGORIES:Saison 2023/24
END:VEVENT
BEGIN:VEVENT
DTSTAMP:20260424T181508Z
DTSTART;TZID=Europe/Berlin:20240410T200000
DTEND;TZID=Europe/Berlin:20240410T230000
SUMMARY:7. Kreisklasse TSV Lütjensee V vs TTG Elmenh./Fischbek VII (164)
UID:1f3f700f-fa78-5b33-e063-1fc7a80a4d3b
STATUS:CONFIRMED
LAST-MODIFIED:20240809T113219Z
DESCRIPTION:7. Kreisklasse Herren\nBegegnungs-Nr: 164\nHeim: TSV Lütjensee V\nGast: TTG Elmenh./Fischbek VII\n
LOCATION:
CATEGORIES:Saison 2023/24
END:VEVENT
END:VCALENDAR
