BEGIN:VCALENDAR
PRODID:-//nuDatenautomaten//framework iCal4j //DE
VERSION:2.0
CALSCALE:GREGORIAN
BEGIN:VTIMEZONE
TZID:Europe/Berlin
LAST-MODIFIED:20260306T231828Z
TZURL:https://www.tzurl.org/zoneinfo/Europe/Berlin
X-LIC-LOCATION:Europe/Berlin
X-PROLEPTIC-TZNAME:LMT
BEGIN:STANDARD
TZNAME:CET
TZOFFSETFROM:+005328
TZOFFSETTO:+0100
DTSTART:18930401T000000
END:STANDARD
BEGIN:DAYLIGHT
TZNAME:CEST
TZOFFSETFROM:+0100
TZOFFSETTO:+0200
DTSTART:19160430T230000
RDATE:19400401T020000
RDATE:19430329T020000
RDATE:19460414T020000
RDATE:19470406T030000
RDATE:19480418T020000
RDATE:19490410T020000
RDATE:19800406T020000
END:DAYLIGHT
BEGIN:STANDARD
TZNAME:CET
TZOFFSETFROM:+0200
TZOFFSETTO:+0100
DTSTART:19161001T010000
RDATE:19421102T030000
RDATE:19431004T030000
RDATE:19441002T030000
RDATE:19451118T030000
RDATE:19461007T030000
END:STANDARD
BEGIN:DAYLIGHT
TZNAME:CEST
TZOFFSETFROM:+0100
TZOFFSETTO:+0200
DTSTART:19170416T020000
RRULE:FREQ=YEARLY;UNTIL=19180415T010000Z;BYMONTH=4;BYDAY=3MO
END:DAYLIGHT
BEGIN:STANDARD
TZNAME:CET
TZOFFSETFROM:+0200
TZOFFSETTO:+0100
DTSTART:19170917T030000
RRULE:FREQ=YEARLY;UNTIL=19180916T010000Z;BYMONTH=9;BYDAY=3MO
END:STANDARD
BEGIN:DAYLIGHT
TZNAME:CEST
TZOFFSETFROM:+0100
TZOFFSETTO:+0200
DTSTART:19440403T020000
RRULE:FREQ=YEARLY;UNTIL=19450402T010000Z;BYMONTH=4;BYDAY=1MO
END:DAYLIGHT
BEGIN:DAYLIGHT
TZNAME:CEMT
TZOFFSETFROM:+0200
TZOFFSETTO:+0300
DTSTART:19450524T020000
RDATE:19470511T030000
END:DAYLIGHT
BEGIN:DAYLIGHT
TZNAME:CEST
TZOFFSETFROM:+0300
TZOFFSETTO:+0200
DTSTART:19450924T030000
RDATE:19470629T030000
END:DAYLIGHT
BEGIN:STANDARD
TZNAME:CET
TZOFFSETFROM:+0100
TZOFFSETTO:+0100
DTSTART:19460101T000000
RDATE:19800101T000000
END:STANDARD
BEGIN:STANDARD
TZNAME:CET
TZOFFSETFROM:+0200
TZOFFSETTO:+0100
DTSTART:19471005T030000
RRULE:FREQ=YEARLY;UNTIL=19491002T010000Z;BYMONTH=10;BYDAY=1SU
END:STANDARD
BEGIN:STANDARD
TZNAME:CET
TZOFFSETFROM:+0200
TZOFFSETTO:+0100
DTSTART:19800928T030000
RRULE:FREQ=YEARLY;UNTIL=19950924T010000Z;BYMONTH=9;BYDAY=-1SU
END:STANDARD
BEGIN:DAYLIGHT
TZNAME:CEST
TZOFFSETFROM:+0100
TZOFFSETTO:+0200
DTSTART:19810329T020000
RRULE:FREQ=YEARLY;BYMONTH=3;BYDAY=-1SU
END:DAYLIGHT
BEGIN:STANDARD
TZNAME:CET
TZOFFSETFROM:+0200
TZOFFSETTO:+0100
DTSTART:19961027T030000
RRULE:FREQ=YEARLY;BYMONTH=10;BYDAY=-1SU
END:STANDARD
END:VTIMEZONE
BEGIN:VEVENT
DTSTAMP:20260419T182547Z
DTSTART;TZID=Europe/Berlin:20231110T203000
DTEND;TZID=Europe/Berlin:20231110T233000
SUMMARY:Kreisliga TuS Esingen III vs FTSV Fortuna Elmshorn II (36)
UID:1f3f700e-dd8b-5b33-e063-1fc7a80a4d3b
STATUS:CONFIRMED
LAST-MODIFIED:20240809T113147Z
DESCRIPTION:Kreisliga Herren\nBegegnungs-Nr: 36\nHeim: TuS Esingen III\nGast: FTSV Fortuna Elmshorn II\n
LOCATION:
CATEGORIES:Saison 2023/24
END:VEVENT
BEGIN:VEVENT
DTSTAMP:20260419T182547Z
DTSTART;TZID=Europe/Berlin:20231124T203000
DTEND;TZID=Europe/Berlin:20231124T233000
SUMMARY:Kreisliga TuS Esingen III vs SG Kölln-Reisiek III (48)
UID:1f3f700e-de6a-5b33-e063-1fc7a80a4d3b
STATUS:CONFIRMED
LAST-MODIFIED:20240809T113147Z
DESCRIPTION:Kreisliga Herren\nBegegnungs-Nr: 48\nHeim: TuS Esingen III\nGast: SG Kölln-Reisiek III\n
LOCATION:
CATEGORIES:Saison 2023/24
END:VEVENT
BEGIN:VEVENT
DTSTAMP:20260419T182547Z
DTSTART;TZID=Europe/Berlin:20231201T203000
DTEND;TZID=Europe/Berlin:20231201T233000
SUMMARY:Kreisliga TuS Esingen III vs SuS Waldenau  (60)
UID:1f3f700e-df3b-5b33-e063-1fc7a80a4d3b
STATUS:CONFIRMED
LAST-MODIFIED:20240809T113147Z
DESCRIPTION:Kreisliga Herren\nBegegnungs-Nr: 60\nHeim: TuS Esingen III\nGast: SuS Waldenau \n
LOCATION:
CATEGORIES:Saison 2023/24
END:VEVENT
BEGIN:VEVENT
DTSTAMP:20260419T182547Z
DTSTART;TZID=Europe/Berlin:20230908T203000
DTEND;TZID=Europe/Berlin:20230908T233000
SUMMARY:Kreisliga TuS Esingen III vs TSV Prisdorf  (6)
UID:1f3f700e-db5c-5b33-e063-1fc7a80a4d3b
STATUS:CONFIRMED
LAST-MODIFIED:20240809T113146Z
DESCRIPTION:Kreisliga Herren\nBegegnungs-Nr: 6\nHeim: TuS Esingen III\nGast: TSV Prisdorf \n
LOCATION:
CATEGORIES:Saison 2023/24
END:VEVENT
BEGIN:VEVENT
DTSTAMP:20260419T182547Z
DTSTART;TZID=Europe/Berlin:20240412T203000
DTEND;TZID=Europe/Berlin:20240412T233000
SUMMARY:Kreisliga TuS Esingen III vs TTC Seeth-Ekholt II (112)
UID:1f3f700e-e079-5b33-e063-1fc7a80a4d3b
STATUS:CONFIRMED
LAST-MODIFIED:20240809T113147Z
DESCRIPTION:Kreisliga Herren\nBegegnungs-Nr: 112\nHeim: TuS Esingen III\nGast: TTC Seeth-Ekholt II\n
LOCATION:
CATEGORIES:Saison 2023/24
END:VEVENT
BEGIN:VEVENT
DTSTAMP:20260419T182547Z
DTSTART;TZID=Europe/Berlin:20240202T203000
DTEND;TZID=Europe/Berlin:20240202T233000
SUMMARY:Kreisliga TuS Esingen III vs SC Cosmos Wedel  (118)
UID:1f3f700e-e0eb-5b33-e063-1fc7a80a4d3b
STATUS:CONFIRMED
LAST-MODIFIED:20240809T113147Z
DESCRIPTION:Kreisliga Herren\nBegegnungs-Nr: 118\nHeim: TuS Esingen III\nGast: SC Cosmos Wedel \n
LOCATION:
CATEGORIES:Saison 2023/24
END:VEVENT
BEGIN:VEVENT
DTSTAMP:20260419T182547Z
DTSTART;TZID=Europe/Berlin:20240216T203000
DTEND;TZID=Europe/Berlin:20240216T233000
SUMMARY:Kreisliga TuS Esingen III vs Barmstedter MTV  (130)
UID:1f3f700e-e1c6-5b33-e063-1fc7a80a4d3b
STATUS:CONFIRMED
LAST-MODIFIED:20240809T113147Z
DESCRIPTION:Kreisliga Herren\nBegegnungs-Nr: 130\nHeim: TuS Esingen III\nGast: Barmstedter MTV \n
LOCATION:
CATEGORIES:Saison 2023/24
END:VEVENT
BEGIN:VEVENT
DTSTAMP:20260419T182547Z
DTSTART;TZID=Europe/Berlin:20240301T203000
DTEND;TZID=Europe/Berlin:20240301T233000
SUMMARY:Kreisliga TuS Esingen III vs TSV Gut-Heil Heist  (142)
UID:1f3f700e-e292-5b33-e063-1fc7a80a4d3b
STATUS:CONFIRMED
LAST-MODIFIED:20240809T113147Z
DESCRIPTION:Kreisliga Herren\nBegegnungs-Nr: 142\nHeim: TuS Esingen III\nGast: TSV Gut-Heil Heist \n
LOCATION:
CATEGORIES:Saison 2023/24
END:VEVENT
BEGIN:VEVENT
DTSTAMP:20260419T182547Z
DTSTART;TZID=Europe/Berlin:20240315T203000
DTEND;TZID=Europe/Berlin:20240315T233000
SUMMARY:Kreisliga TuS Esingen III vs TTC Die Sterne Elmshorn II (154)
UID:1f3f700e-e358-5b33-e063-1fc7a80a4d3b
STATUS:CONFIRMED
LAST-MODIFIED:20240809T113147Z
DESCRIPTION:Kreisliga Herren\nBegegnungs-Nr: 154\nHeim: TuS Esingen III\nGast: TTC Die Sterne Elmshorn II\n
LOCATION:
CATEGORIES:Saison 2023/24
END:VEVENT
BEGIN:VEVENT
DTSTAMP:20260419T182547Z
DTSTART;TZID=Europe/Berlin:20240112T203000
DTEND;TZID=Europe/Berlin:20240112T233000
SUMMARY:Kreisliga TuS Esingen III vs TuS Appen  (166)
UID:1f3f700e-e43e-5b33-e063-1fc7a80a4d3b
STATUS:CONFIRMED
LAST-MODIFIED:20240809T113147Z
DESCRIPTION:Kreisliga Herren\nBegegnungs-Nr: 166\nHeim: TuS Esingen III\nGast: TuS Appen \n
LOCATION:
CATEGORIES:Saison 2023/24
END:VEVENT
BEGIN:VEVENT
DTSTAMP:20260419T182547Z
DTSTART;TZID=Europe/Berlin:20231006T203000
DTEND;TZID=Europe/Berlin:20231006T233000
SUMMARY:Kreisliga TuS Esingen III vs TSV Uetersen II (24)
UID:1f3f700e-dcaf-5b33-e063-1fc7a80a4d3b
STATUS:CONFIRMED
LAST-MODIFIED:20240809T113146Z
DESCRIPTION:Kreisliga Herren\nBegegnungs-Nr: 24\nHeim: TuS Esingen III\nGast: TSV Uetersen II\n
LOCATION:
CATEGORIES:Saison 2023/24
END:VEVENT
BEGIN:VEVENT
DTSTAMP:20260419T182547Z
DTSTART;TZID=Europe/Berlin:20231206T201500
DTEND;TZID=Europe/Berlin:20231206T231500
SUMMARY:Kreisliga TSV Gut-Heil Heist  vs TuS Esingen III (42)
UID:1f3f700e-ddfd-5b33-e063-1fc7a80a4d3b
STATUS:CONFIRMED
LAST-MODIFIED:20240809T113147Z
DESCRIPTION:Kreisliga Herren\nBegegnungs-Nr: 42\nHeim: TSV Gut-Heil Heist \nGast: TuS Esingen III\n
LOCATION:
CATEGORIES:Saison 2023/24
END:VEVENT
BEGIN:VEVENT
DTSTAMP:20260419T182547Z
DTSTART;TZID=Europe/Berlin:20231129T201400
DTEND;TZID=Europe/Berlin:20231129T231400
SUMMARY:Kreisliga TTC Die Sterne Elmshorn II vs TuS Esingen III (53)
UID:1f3f700e-deca-5b33-e063-1fc7a80a4d3b
STATUS:CONFIRMED
LAST-MODIFIED:20240809T113147Z
DESCRIPTION:Kreisliga Herren\nBegegnungs-Nr: 53\nHeim: TTC Die Sterne Elmshorn II\nGast: TuS Esingen III\n
LOCATION:
CATEGORIES:Saison 2023/24
END:VEVENT
BEGIN:VEVENT
DTSTAMP:20260419T182547Z
DTSTART;TZID=Europe/Berlin:20231212T201500
DTEND;TZID=Europe/Berlin:20231212T231500
SUMMARY:Kreisliga TuS Appen  vs TuS Esingen III (62)
UID:1f3f700e-df63-5b33-e063-1fc7a80a4d3b
STATUS:CONFIRMED
LAST-MODIFIED:20240809T113147Z
DESCRIPTION:Kreisliga Herren\nBegegnungs-Nr: 62\nHeim: TuS Appen \nGast: TuS Esingen III\n
LOCATION:
CATEGORIES:Saison 2023/24
END:VEVENT
BEGIN:VEVENT
DTSTAMP:20260419T182547Z
DTSTART;TZID=Europe/Berlin:20240314T201500
DTEND;TZID=Europe/Berlin:20240314T231500
SUMMARY:Kreisliga TSV Prisdorf  vs TuS Esingen III (104)
UID:1f3f700e-dff5-5b33-e063-1fc7a80a4d3b
STATUS:CONFIRMED
LAST-MODIFIED:20240809T113147Z
DESCRIPTION:Kreisliga Herren\nBegegnungs-Nr: 104\nHeim: TSV Prisdorf \nGast: TuS Esingen III\n
LOCATION:
CATEGORIES:Saison 2023/24
END:VEVENT
BEGIN:VEVENT
DTSTAMP:20260419T182547Z
DTSTART;TZID=Europe/Berlin:20240209T201500
DTEND;TZID=Europe/Berlin:20240209T231500
SUMMARY:Kreisliga TSV Uetersen II vs TuS Esingen III (123)
UID:1f3f700e-e145-5b33-e063-1fc7a80a4d3b
STATUS:CONFIRMED
LAST-MODIFIED:20240809T113147Z
DESCRIPTION:Kreisliga Herren\nBegegnungs-Nr: 123\nHeim: TSV Uetersen II\nGast: TuS Esingen III\n
LOCATION:
CATEGORIES:Saison 2023/24
END:VEVENT
BEGIN:VEVENT
DTSTAMP:20260419T182547Z
DTSTART;TZID=Europe/Berlin:20240223T200000
DTEND;TZID=Europe/Berlin:20240223T230000
SUMMARY:Kreisliga FTSV Fortuna Elmshorn II vs TuS Esingen III (132)
UID:1f3f700e-e1e8-5b33-e063-1fc7a80a4d3b
STATUS:CONFIRMED
LAST-MODIFIED:20240809T113147Z
DESCRIPTION:Kreisliga Herren\nBegegnungs-Nr: 132\nHeim: FTSV Fortuna Elmshorn II\nGast: TuS Esingen III\n
LOCATION:
CATEGORIES:Saison 2023/24
END:VEVENT
BEGIN:VEVENT
DTSTAMP:20260419T182547Z
DTSTART;TZID=Europe/Berlin:20240322T201500
DTEND;TZID=Europe/Berlin:20240322T231500
SUMMARY:Kreisliga SG Kölln-Reisiek III vs TuS Esingen III (144)
UID:1f3f700e-e2b3-5b33-e063-1fc7a80a4d3b
STATUS:CONFIRMED
LAST-MODIFIED:20240809T113147Z
DESCRIPTION:Kreisliga Herren\nBegegnungs-Nr: 144\nHeim: SG Kölln-Reisiek III\nGast: TuS Esingen III\n
LOCATION:
CATEGORIES:Saison 2023/24
END:VEVENT
BEGIN:VEVENT
DTSTAMP:20260419T182547Z
DTSTART;TZID=Europe/Berlin:20240326T201500
DTEND;TZID=Europe/Berlin:20240326T231500
SUMMARY:Kreisliga SuS Waldenau  vs TuS Esingen III (155)
UID:1f3f700e-e36d-5b33-e063-1fc7a80a4d3b
STATUS:CONFIRMED
LAST-MODIFIED:20240809T113147Z
DESCRIPTION:Kreisliga Herren\nBegegnungs-Nr: 155\nHeim: SuS Waldenau \nGast: TuS Esingen III\n
LOCATION:
CATEGORIES:Saison 2023/24
END:VEVENT
BEGIN:VEVENT
DTSTAMP:20260419T182547Z
DTSTART;TZID=Europe/Berlin:20230922T201500
DTEND;TZID=Europe/Berlin:20230922T231500
SUMMARY:Kreisliga TTC Seeth-Ekholt II vs TuS Esingen III (12)
UID:1f3f700e-dbce-5b33-e063-1fc7a80a4d3b
STATUS:CONFIRMED
LAST-MODIFIED:20240809T113146Z
DESCRIPTION:Kreisliga Herren\nBegegnungs-Nr: 12\nHeim: TTC Seeth-Ekholt II\nGast: TuS Esingen III\n
LOCATION:
CATEGORIES:Saison 2023/24
END:VEVENT
BEGIN:VEVENT
DTSTAMP:20260419T182547Z
DTSTART;TZID=Europe/Berlin:20230928T203000
DTEND;TZID=Europe/Berlin:20230928T233000
SUMMARY:Kreisliga SC Cosmos Wedel  vs TuS Esingen III (14)
UID:1f3f700e-dbf4-5b33-e063-1fc7a80a4d3b
STATUS:CONFIRMED
LAST-MODIFIED:20240809T113146Z
DESCRIPTION:Kreisliga Herren\nBegegnungs-Nr: 14\nHeim: SC Cosmos Wedel \nGast: TuS Esingen III\n
LOCATION:
CATEGORIES:Saison 2023/24
END:VEVENT
BEGIN:VEVENT
DTSTAMP:20260419T182547Z
DTSTART;TZID=Europe/Berlin:20231013T200000
DTEND;TZID=Europe/Berlin:20231013T230000
SUMMARY:Kreisliga Barmstedter MTV  vs TuS Esingen III (27)
UID:1f3f700e-dce5-5b33-e063-1fc7a80a4d3b
STATUS:CONFIRMED
LAST-MODIFIED:20240809T113146Z
DESCRIPTION:Kreisliga Herren\nBegegnungs-Nr: 27\nHeim: Barmstedter MTV \nGast: TuS Esingen III\n
LOCATION:
CATEGORIES:Saison 2023/24
END:VEVENT
END:VCALENDAR
