BEGIN:VCALENDAR
PRODID:-//nuDatenautomaten//framework iCal4j //DE
VERSION:2.0
CALSCALE:GREGORIAN
BEGIN:VTIMEZONE
TZID:Europe/Berlin
LAST-MODIFIED:20260306T231828Z
TZURL:https://www.tzurl.org/zoneinfo/Europe/Berlin
X-LIC-LOCATION:Europe/Berlin
X-PROLEPTIC-TZNAME:LMT
BEGIN:STANDARD
TZNAME:CET
TZOFFSETFROM:+005328
TZOFFSETTO:+0100
DTSTART:18930401T000000
END:STANDARD
BEGIN:DAYLIGHT
TZNAME:CEST
TZOFFSETFROM:+0100
TZOFFSETTO:+0200
DTSTART:19160430T230000
RDATE:19400401T020000
RDATE:19430329T020000
RDATE:19460414T020000
RDATE:19470406T030000
RDATE:19480418T020000
RDATE:19490410T020000
RDATE:19800406T020000
END:DAYLIGHT
BEGIN:STANDARD
TZNAME:CET
TZOFFSETFROM:+0200
TZOFFSETTO:+0100
DTSTART:19161001T010000
RDATE:19421102T030000
RDATE:19431004T030000
RDATE:19441002T030000
RDATE:19451118T030000
RDATE:19461007T030000
END:STANDARD
BEGIN:DAYLIGHT
TZNAME:CEST
TZOFFSETFROM:+0100
TZOFFSETTO:+0200
DTSTART:19170416T020000
RRULE:FREQ=YEARLY;UNTIL=19180415T010000Z;BYMONTH=4;BYDAY=3MO
END:DAYLIGHT
BEGIN:STANDARD
TZNAME:CET
TZOFFSETFROM:+0200
TZOFFSETTO:+0100
DTSTART:19170917T030000
RRULE:FREQ=YEARLY;UNTIL=19180916T010000Z;BYMONTH=9;BYDAY=3MO
END:STANDARD
BEGIN:DAYLIGHT
TZNAME:CEST
TZOFFSETFROM:+0100
TZOFFSETTO:+0200
DTSTART:19440403T020000
RRULE:FREQ=YEARLY;UNTIL=19450402T010000Z;BYMONTH=4;BYDAY=1MO
END:DAYLIGHT
BEGIN:DAYLIGHT
TZNAME:CEMT
TZOFFSETFROM:+0200
TZOFFSETTO:+0300
DTSTART:19450524T020000
RDATE:19470511T030000
END:DAYLIGHT
BEGIN:DAYLIGHT
TZNAME:CEST
TZOFFSETFROM:+0300
TZOFFSETTO:+0200
DTSTART:19450924T030000
RDATE:19470629T030000
END:DAYLIGHT
BEGIN:STANDARD
TZNAME:CET
TZOFFSETFROM:+0100
TZOFFSETTO:+0100
DTSTART:19460101T000000
RDATE:19800101T000000
END:STANDARD
BEGIN:STANDARD
TZNAME:CET
TZOFFSETFROM:+0200
TZOFFSETTO:+0100
DTSTART:19471005T030000
RRULE:FREQ=YEARLY;UNTIL=19491002T010000Z;BYMONTH=10;BYDAY=1SU
END:STANDARD
BEGIN:STANDARD
TZNAME:CET
TZOFFSETFROM:+0200
TZOFFSETTO:+0100
DTSTART:19800928T030000
RRULE:FREQ=YEARLY;UNTIL=19950924T010000Z;BYMONTH=9;BYDAY=-1SU
END:STANDARD
BEGIN:DAYLIGHT
TZNAME:CEST
TZOFFSETFROM:+0100
TZOFFSETTO:+0200
DTSTART:19810329T020000
RRULE:FREQ=YEARLY;BYMONTH=3;BYDAY=-1SU
END:DAYLIGHT
BEGIN:STANDARD
TZNAME:CET
TZOFFSETFROM:+0200
TZOFFSETTO:+0100
DTSTART:19961027T030000
RRULE:FREQ=YEARLY;BYMONTH=10;BYDAY=-1SU
END:STANDARD
END:VTIMEZONE
BEGIN:VEVENT
DTSTAMP:20260423T193640Z
DTSTART;TZID=Europe/Berlin:20240328T200000
DTEND;TZID=Europe/Berlin:20240328T230000
SUMMARY:1. Kreisklasse Gruppe B MTV Ellerhoop II vs Voßlocher SV  (144)
UID:1f3f700e-f171-5b33-e063-1fc7a80a4d3b
STATUS:CONFIRMED
LAST-MODIFIED:20240809T113149Z
DESCRIPTION:1. Kreisklasse Herren Gruppe B\nBegegnungs-Nr: 144\nHeim: MTV Ellerhoop II\nGast: Voßlocher SV \n
LOCATION:
CATEGORIES:Saison 2023/24
END:VEVENT
BEGIN:VEVENT
DTSTAMP:20260423T193640Z
DTSTART;TZID=Europe/Berlin:20230914T200000
DTEND;TZID=Europe/Berlin:20230914T230000
SUMMARY:1. Kreisklasse Gruppe B MTV Ellerhoop II vs Halstenbeker TS  (3)
UID:1f3f700e-eb1c-5b33-e063-1fc7a80a4d3b
STATUS:CONFIRMED
LAST-MODIFIED:20240809T113148Z
DESCRIPTION:1. Kreisklasse Herren Gruppe B\nBegegnungs-Nr: 3\nHeim: MTV Ellerhoop II\nGast: Halstenbeker TS \n
LOCATION:
CATEGORIES:Saison 2023/24
END:VEVENT
BEGIN:VEVENT
DTSTAMP:20260423T193640Z
DTSTART;TZID=Europe/Berlin:20231005T200000
DTEND;TZID=Europe/Berlin:20231005T230000
SUMMARY:1. Kreisklasse Gruppe B MTV Ellerhoop II vs TTC Die Sterne Elmshorn III (13)
UID:1f3f700e-ebe0-5b33-e063-1fc7a80a4d3b
STATUS:CONFIRMED
LAST-MODIFIED:20240809T113148Z
DESCRIPTION:1. Kreisklasse Herren Gruppe B\nBegegnungs-Nr: 13\nHeim: MTV Ellerhoop II\nGast: TTC Die Sterne Elmshorn III\n
LOCATION:
CATEGORIES:Saison 2023/24
END:VEVENT
BEGIN:VEVENT
DTSTAMP:20260423T193640Z
DTSTART;TZID=Europe/Berlin:20231109T200000
DTEND;TZID=Europe/Berlin:20231109T230000
SUMMARY:1. Kreisklasse Gruppe B MTV Ellerhoop II vs Post SV Elmshorn  (22)
UID:1f3f700e-ec89-5b33-e063-1fc7a80a4d3b
STATUS:CONFIRMED
LAST-MODIFIED:20240809T113148Z
DESCRIPTION:1. Kreisklasse Herren Gruppe B\nBegegnungs-Nr: 22\nHeim: MTV Ellerhoop II\nGast: Post SV Elmshorn \n
LOCATION:
CATEGORIES:Saison 2023/24
END:VEVENT
BEGIN:VEVENT
DTSTAMP:20260423T193640Z
DTSTART;TZID=Europe/Berlin:20240111T200000
DTEND;TZID=Europe/Berlin:20240111T230000
SUMMARY:1. Kreisklasse Gruppe B MTV Ellerhoop II vs TSV Gut-Heil Heist II (107)
UID:1f3f700e-eec3-5b33-e063-1fc7a80a4d3b
STATUS:CONFIRMED
LAST-MODIFIED:20240809T113149Z
DESCRIPTION:1. Kreisklasse Herren Gruppe B\nBegegnungs-Nr: 107\nHeim: MTV Ellerhoop II\nGast: TSV Gut-Heil Heist II\n
LOCATION:
CATEGORIES:Saison 2023/24
END:VEVENT
BEGIN:VEVENT
DTSTAMP:20260423T193640Z
DTSTART;TZID=Europe/Berlin:20240201T200000
DTEND;TZID=Europe/Berlin:20240201T230000
SUMMARY:1. Kreisklasse Gruppe B MTV Ellerhoop II vs SV Rugenbergen  (109)
UID:1f3f700e-eee8-5b33-e063-1fc7a80a4d3b
STATUS:CONFIRMED
LAST-MODIFIED:20240809T113149Z
DESCRIPTION:1. Kreisklasse Herren Gruppe B\nBegegnungs-Nr: 109\nHeim: MTV Ellerhoop II\nGast: SV Rugenbergen \n
LOCATION:
CATEGORIES:Saison 2023/24
END:VEVENT
BEGIN:VEVENT
DTSTAMP:20260423T193640Z
DTSTART;TZID=Europe/Berlin:20240215T200000
DTEND;TZID=Europe/Berlin:20240215T230000
SUMMARY:1. Kreisklasse Gruppe B MTV Ellerhoop II vs TuS Appen II (117)
UID:1f3f700e-ef88-5b33-e063-1fc7a80a4d3b
STATUS:CONFIRMED
LAST-MODIFIED:20240809T113149Z
DESCRIPTION:1. Kreisklasse Herren Gruppe B\nBegegnungs-Nr: 117\nHeim: MTV Ellerhoop II\nGast: TuS Appen II\n
LOCATION:
CATEGORIES:Saison 2023/24
END:VEVENT
BEGIN:VEVENT
DTSTAMP:20260423T193640Z
DTSTART;TZID=Europe/Berlin:20240229T200000
DTEND;TZID=Europe/Berlin:20240229T230000
SUMMARY:1. Kreisklasse Gruppe B MTV Ellerhoop II vs FTSV Fortuna Elmshorn III (127)
UID:1f3f700e-f02f-5b33-e063-1fc7a80a4d3b
STATUS:CONFIRMED
LAST-MODIFIED:20240809T113149Z
DESCRIPTION:1. Kreisklasse Herren Gruppe B\nBegegnungs-Nr: 127\nHeim: MTV Ellerhoop II\nGast: FTSV Fortuna Elmshorn III\n
LOCATION:
CATEGORIES:Saison 2023/24
END:VEVENT
BEGIN:VEVENT
DTSTAMP:20260423T193640Z
DTSTART;TZID=Europe/Berlin:20240318T203000
DTEND;TZID=Europe/Berlin:20240318T233000
SUMMARY:1. Kreisklasse Gruppe B MTV Ellerhoop II vs SC Cosmos Wedel III (136)
UID:1f3f700e-f0d8-5b33-e063-1fc7a80a4d3b
STATUS:CONFIRMED
LAST-MODIFIED:20240809T113149Z
DESCRIPTION:1. Kreisklasse Herren Gruppe B\nBegegnungs-Nr: 136\nHeim: MTV Ellerhoop II\nGast: SC Cosmos Wedel III\n
LOCATION:
CATEGORIES:Saison 2023/24
END:VEVENT
BEGIN:VEVENT
DTSTAMP:20260423T193640Z
DTSTART;TZID=Europe/Berlin:20230922T201500
DTEND;TZID=Europe/Berlin:20230922T231500
SUMMARY:1. Kreisklasse Gruppe B TSV Gut-Heil Heist II vs MTV Ellerhoop II (6)
UID:1f3f700e-eb50-5b33-e063-1fc7a80a4d3b
STATUS:CONFIRMED
LAST-MODIFIED:20240809T113148Z
DESCRIPTION:1. Kreisklasse Herren Gruppe B\nBegegnungs-Nr: 6\nHeim: TSV Gut-Heil Heist II\nGast: MTV Ellerhoop II\n
LOCATION:
CATEGORIES:Saison 2023/24
END:VEVENT
BEGIN:VEVENT
DTSTAMP:20260423T193640Z
DTSTART;TZID=Europe/Berlin:20230928T201500
DTEND;TZID=Europe/Berlin:20230928T231500
SUMMARY:1. Kreisklasse Gruppe B SV Rugenbergen  vs MTV Ellerhoop II (12)
UID:1f3f700e-ebcc-5b33-e063-1fc7a80a4d3b
STATUS:CONFIRMED
LAST-MODIFIED:20240809T113148Z
DESCRIPTION:1. Kreisklasse Herren Gruppe B\nBegegnungs-Nr: 12\nHeim: SV Rugenbergen \nGast: MTV Ellerhoop II\n
LOCATION:
CATEGORIES:Saison 2023/24
END:VEVENT
BEGIN:VEVENT
DTSTAMP:20260423T193640Z
DTSTART;TZID=Europe/Berlin:20231017T193000
DTEND;TZID=Europe/Berlin:20231017T223000
SUMMARY:1. Kreisklasse Gruppe B TuS Appen II vs MTV Ellerhoop II (17)
UID:1f3f700e-ec2a-5b33-e063-1fc7a80a4d3b
STATUS:CONFIRMED
LAST-MODIFIED:20240809T113148Z
DESCRIPTION:1. Kreisklasse Herren Gruppe B\nBegegnungs-Nr: 17\nHeim: TuS Appen II\nGast: MTV Ellerhoop II\n
LOCATION:
CATEGORIES:Saison 2023/24
END:VEVENT
BEGIN:VEVENT
DTSTAMP:20260423T193640Z
DTSTART;TZID=Europe/Berlin:20231114T201500
DTEND;TZID=Europe/Berlin:20231114T231500
SUMMARY:1. Kreisklasse Gruppe B FTSV Fortuna Elmshorn III vs MTV Ellerhoop II (27)
UID:1f3f700e-ece4-5b33-e063-1fc7a80a4d3b
STATUS:CONFIRMED
LAST-MODIFIED:20240809T113148Z
DESCRIPTION:1. Kreisklasse Herren Gruppe B\nBegegnungs-Nr: 27\nHeim: FTSV Fortuna Elmshorn III\nGast: MTV Ellerhoop II\n
LOCATION:
CATEGORIES:Saison 2023/24
END:VEVENT
BEGIN:VEVENT
DTSTAMP:20260423T193640Z
DTSTART;TZID=Europe/Berlin:20231201T203000
DTEND;TZID=Europe/Berlin:20231201T233000
SUMMARY:1. Kreisklasse Gruppe B SC Cosmos Wedel III vs MTV Ellerhoop II (37)
UID:1f3f700e-eda7-5b33-e063-1fc7a80a4d3b
STATUS:CONFIRMED
LAST-MODIFIED:20240809T113149Z
DESCRIPTION:1. Kreisklasse Herren Gruppe B\nBegegnungs-Nr: 37\nHeim: SC Cosmos Wedel III\nGast: MTV Ellerhoop II\n
LOCATION:
CATEGORIES:Saison 2023/24
END:VEVENT
BEGIN:VEVENT
DTSTAMP:20260423T193640Z
DTSTART;TZID=Europe/Berlin:20231215T201500
DTEND;TZID=Europe/Berlin:20231215T231500
SUMMARY:1. Kreisklasse Gruppe B Voßlocher SV  vs MTV Ellerhoop II (44)
UID:1f3f700e-ee30-5b33-e063-1fc7a80a4d3b
STATUS:CONFIRMED
LAST-MODIFIED:20240809T113149Z
DESCRIPTION:1. Kreisklasse Herren Gruppe B\nBegegnungs-Nr: 44\nHeim: Voßlocher SV \nGast: MTV Ellerhoop II\n
LOCATION:
CATEGORIES:Saison 2023/24
END:VEVENT
BEGIN:VEVENT
DTSTAMP:20260423T193640Z
DTSTART;TZID=Europe/Berlin:20240119T193000
DTEND;TZID=Europe/Berlin:20240119T223000
SUMMARY:1. Kreisklasse Gruppe B Halstenbeker TS  vs MTV Ellerhoop II (101)
UID:1f3f700e-ee56-5b33-e063-1fc7a80a4d3b
STATUS:CONFIRMED
LAST-MODIFIED:20240809T113149Z
DESCRIPTION:1. Kreisklasse Herren Gruppe B\nBegegnungs-Nr: 101\nHeim: Halstenbeker TS \nGast: MTV Ellerhoop II\n
LOCATION:
CATEGORIES:Saison 2023/24
END:VEVENT
BEGIN:VEVENT
DTSTAMP:20260423T193640Z
DTSTART;TZID=Europe/Berlin:20240424T200400
DTEND;TZID=Europe/Berlin:20240424T230400
SUMMARY:1. Kreisklasse Gruppe B TTC Die Sterne Elmshorn III vs MTV Ellerhoop II (114)
UID:1f3f700e-ef49-5b33-e063-1fc7a80a4d3b
STATUS:CONFIRMED
LAST-MODIFIED:20240809T113149Z
DESCRIPTION:1. Kreisklasse Herren Gruppe B\nBegegnungs-Nr: 114\nHeim: TTC Die Sterne Elmshorn III\nGast: MTV Ellerhoop II\n
LOCATION:
CATEGORIES:Saison 2023/24
END:VEVENT
BEGIN:VEVENT
DTSTAMP:20260423T193640Z
DTSTART;TZID=Europe/Berlin:20240221T201500
DTEND;TZID=Europe/Berlin:20240221T231500
SUMMARY:1. Kreisklasse Gruppe B Post SV Elmshorn  vs MTV Ellerhoop II (125)
UID:1f3f700e-f00a-5b33-e063-1fc7a80a4d3b
STATUS:CONFIRMED
LAST-MODIFIED:20240809T113149Z
DESCRIPTION:1. Kreisklasse Herren Gruppe B\nBegegnungs-Nr: 125\nHeim: Post SV Elmshorn \nGast: MTV Ellerhoop II\n
LOCATION:
CATEGORIES:Saison 2023/24
END:VEVENT
END:VCALENDAR
