BEGIN:VCALENDAR
PRODID:-//nuDatenautomaten//framework iCal4j //DE
VERSION:2.0
CALSCALE:GREGORIAN
BEGIN:VTIMEZONE
TZID:Europe/Berlin
LAST-MODIFIED:20260306T231828Z
TZURL:https://www.tzurl.org/zoneinfo/Europe/Berlin
X-LIC-LOCATION:Europe/Berlin
X-PROLEPTIC-TZNAME:LMT
BEGIN:STANDARD
TZNAME:CET
TZOFFSETFROM:+005328
TZOFFSETTO:+0100
DTSTART:18930401T000000
END:STANDARD
BEGIN:DAYLIGHT
TZNAME:CEST
TZOFFSETFROM:+0100
TZOFFSETTO:+0200
DTSTART:19160430T230000
RDATE:19400401T020000
RDATE:19430329T020000
RDATE:19460414T020000
RDATE:19470406T030000
RDATE:19480418T020000
RDATE:19490410T020000
RDATE:19800406T020000
END:DAYLIGHT
BEGIN:STANDARD
TZNAME:CET
TZOFFSETFROM:+0200
TZOFFSETTO:+0100
DTSTART:19161001T010000
RDATE:19421102T030000
RDATE:19431004T030000
RDATE:19441002T030000
RDATE:19451118T030000
RDATE:19461007T030000
END:STANDARD
BEGIN:DAYLIGHT
TZNAME:CEST
TZOFFSETFROM:+0100
TZOFFSETTO:+0200
DTSTART:19170416T020000
RRULE:FREQ=YEARLY;UNTIL=19180415T010000Z;BYMONTH=4;BYDAY=3MO
END:DAYLIGHT
BEGIN:STANDARD
TZNAME:CET
TZOFFSETFROM:+0200
TZOFFSETTO:+0100
DTSTART:19170917T030000
RRULE:FREQ=YEARLY;UNTIL=19180916T010000Z;BYMONTH=9;BYDAY=3MO
END:STANDARD
BEGIN:DAYLIGHT
TZNAME:CEST
TZOFFSETFROM:+0100
TZOFFSETTO:+0200
DTSTART:19440403T020000
RRULE:FREQ=YEARLY;UNTIL=19450402T010000Z;BYMONTH=4;BYDAY=1MO
END:DAYLIGHT
BEGIN:DAYLIGHT
TZNAME:CEMT
TZOFFSETFROM:+0200
TZOFFSETTO:+0300
DTSTART:19450524T020000
RDATE:19470511T030000
END:DAYLIGHT
BEGIN:DAYLIGHT
TZNAME:CEST
TZOFFSETFROM:+0300
TZOFFSETTO:+0200
DTSTART:19450924T030000
RDATE:19470629T030000
END:DAYLIGHT
BEGIN:STANDARD
TZNAME:CET
TZOFFSETFROM:+0100
TZOFFSETTO:+0100
DTSTART:19460101T000000
RDATE:19800101T000000
END:STANDARD
BEGIN:STANDARD
TZNAME:CET
TZOFFSETFROM:+0200
TZOFFSETTO:+0100
DTSTART:19471005T030000
RRULE:FREQ=YEARLY;UNTIL=19491002T010000Z;BYMONTH=10;BYDAY=1SU
END:STANDARD
BEGIN:STANDARD
TZNAME:CET
TZOFFSETFROM:+0200
TZOFFSETTO:+0100
DTSTART:19800928T030000
RRULE:FREQ=YEARLY;UNTIL=19950924T010000Z;BYMONTH=9;BYDAY=-1SU
END:STANDARD
BEGIN:DAYLIGHT
TZNAME:CEST
TZOFFSETFROM:+0100
TZOFFSETTO:+0200
DTSTART:19810329T020000
RRULE:FREQ=YEARLY;BYMONTH=3;BYDAY=-1SU
END:DAYLIGHT
BEGIN:STANDARD
TZNAME:CET
TZOFFSETFROM:+0200
TZOFFSETTO:+0100
DTSTART:19961027T030000
RRULE:FREQ=YEARLY;BYMONTH=10;BYDAY=-1SU
END:STANDARD
END:VTIMEZONE
BEGIN:VEVENT
DTSTAMP:20260424T020459Z
DTSTART;TZID=Europe/Berlin:20231005T201500
DTEND;TZID=Europe/Berlin:20231005T231500
SUMMARY:2. Kreisklasse Gruppe B TSV Uetersen III vs SV Friedrichsgabe III (15)
UID:1f3f700e-f958-5b33-e063-1fc7a80a4d3b
STATUS:CONFIRMED
LAST-MODIFIED:20240809T113150Z
DESCRIPTION:2. Kreisklasse Herren Gruppe B\nBegegnungs-Nr: 15\nHeim: TSV Uetersen III\nGast: SV Friedrichsgabe III\n
LOCATION:
CATEGORIES:Saison 2023/24
END:VEVENT
BEGIN:VEVENT
DTSTAMP:20260424T020459Z
DTSTART;TZID=Europe/Berlin:20230921T201500
DTEND;TZID=Europe/Berlin:20230921T231500
SUMMARY:2. Kreisklasse Gruppe B TSV Uetersen III vs TuS Holstein Quickborn IV (7)
UID:1f3f700e-f8b7-5b33-e063-1fc7a80a4d3b
STATUS:CONFIRMED
LAST-MODIFIED:20240809T113150Z
DESCRIPTION:2. Kreisklasse Herren Gruppe B\nBegegnungs-Nr: 7\nHeim: TSV Uetersen III\nGast: TuS Holstein Quickborn IV\n
LOCATION:
CATEGORIES:Saison 2023/24
END:VEVENT
BEGIN:VEVENT
DTSTAMP:20260424T020459Z
DTSTART;TZID=Europe/Berlin:20231205T201500
DTEND;TZID=Europe/Berlin:20231205T231500
SUMMARY:2. Kreisklasse Gruppe B TSV Uetersen III vs SG Kölln-Reisiek IV (32)
UID:1f3f700e-fa8e-5b33-e063-1fc7a80a4d3b
STATUS:CONFIRMED
LAST-MODIFIED:20240809T113150Z
DESCRIPTION:2. Kreisklasse Herren Gruppe B\nBegegnungs-Nr: 32\nHeim: TSV Uetersen III\nGast: SG Kölln-Reisiek IV\n
LOCATION:
CATEGORIES:Saison 2023/24
END:VEVENT
BEGIN:VEVENT
DTSTAMP:20260424T020459Z
DTSTART;TZID=Europe/Berlin:20231130T201500
DTEND;TZID=Europe/Berlin:20231130T231500
SUMMARY:2. Kreisklasse Gruppe B TSV Uetersen III vs WSG BorKum II (36)
UID:1f3f700e-fade-5b33-e063-1fc7a80a4d3b
STATUS:CONFIRMED
LAST-MODIFIED:20240809T113150Z
DESCRIPTION:2. Kreisklasse Herren Gruppe B\nBegegnungs-Nr: 36\nHeim: TSV Uetersen III\nGast: WSG BorKum II\n
LOCATION:
CATEGORIES:Saison 2023/24
END:VEVENT
BEGIN:VEVENT
DTSTAMP:20260424T020459Z
DTSTART;TZID=Europe/Berlin:20231207T201500
DTEND;TZID=Europe/Berlin:20231207T231500
SUMMARY:2. Kreisklasse Gruppe B TSV Uetersen III vs Barmstedter MTV III (39)
UID:1f3f700e-fb17-5b33-e063-1fc7a80a4d3b
STATUS:CONFIRMED
LAST-MODIFIED:20240809T113150Z
DESCRIPTION:2. Kreisklasse Herren Gruppe B\nBegegnungs-Nr: 39\nHeim: TSV Uetersen III\nGast: Barmstedter MTV III\n
LOCATION:
CATEGORIES:Saison 2023/24
END:VEVENT
BEGIN:VEVENT
DTSTAMP:20260424T020459Z
DTSTART;TZID=Europe/Berlin:20231109T201500
DTEND;TZID=Europe/Berlin:20231109T231500
SUMMARY:2. Kreisklasse Gruppe B TSV Uetersen III vs Halstenbeker TS III (24)
UID:1f3f700e-f9fd-5b33-e063-1fc7a80a4d3b
STATUS:CONFIRMED
LAST-MODIFIED:20240809T113150Z
DESCRIPTION:2. Kreisklasse Herren Gruppe B\nBegegnungs-Nr: 24\nHeim: TSV Uetersen III\nGast: Halstenbeker TS III\n
LOCATION:
CATEGORIES:Saison 2023/24
END:VEVENT
BEGIN:VEVENT
DTSTAMP:20260424T020459Z
DTSTART;TZID=Europe/Berlin:20240118T201500
DTEND;TZID=Europe/Berlin:20240118T231500
SUMMARY:2. Kreisklasse Gruppe B TSV Uetersen III vs TV Haseldorf  (103)
UID:1f3f700e-fbc2-5b33-e063-1fc7a80a4d3b
STATUS:CONFIRMED
LAST-MODIFIED:20240809T113150Z
DESCRIPTION:2. Kreisklasse Herren Gruppe B\nBegegnungs-Nr: 103\nHeim: TSV Uetersen III\nGast: TV Haseldorf \n
LOCATION:
CATEGORIES:Saison 2023/24
END:VEVENT
BEGIN:VEVENT
DTSTAMP:20260424T020459Z
DTSTART;TZID=Europe/Berlin:20240201T201500
DTEND;TZID=Europe/Berlin:20240201T231500
SUMMARY:2. Kreisklasse Gruppe B TSV Uetersen III vs SC Pinneberg II (111)
UID:1f3f700e-fc3b-5b33-e063-1fc7a80a4d3b
STATUS:CONFIRMED
LAST-MODIFIED:20240809T113150Z
DESCRIPTION:2. Kreisklasse Herren Gruppe B\nBegegnungs-Nr: 111\nHeim: TSV Uetersen III\nGast: SC Pinneberg II\n
LOCATION:
CATEGORIES:Saison 2023/24
END:VEVENT
BEGIN:VEVENT
DTSTAMP:20260424T020459Z
DTSTART;TZID=Europe/Berlin:20240411T201500
DTEND;TZID=Europe/Berlin:20240411T231500
SUMMARY:2. Kreisklasse Gruppe B TSV Uetersen III vs WSG BorKum II (135)
UID:1f3f700e-fdaa-5b33-e063-1fc7a80a4d3b
STATUS:CONFIRMED
LAST-MODIFIED:20240809T113150Z
DESCRIPTION:2. Kreisklasse Herren Gruppe B\nBegegnungs-Nr: 135\nHeim: TSV Uetersen III\nGast: WSG BorKum II\n
LOCATION:
CATEGORIES:Saison 2023/24
END:VEVENT
BEGIN:VEVENT
DTSTAMP:20260424T020459Z
DTSTART;TZID=Europe/Berlin:20240322T194500
DTEND;TZID=Europe/Berlin:20240322T224500
SUMMARY:2. Kreisklasse Gruppe B Barmstedter MTV III vs TSV Uetersen III (141)
UID:1f3f700e-fe10-5b33-e063-1fc7a80a4d3b
STATUS:CONFIRMED
LAST-MODIFIED:20240809T113150Z
DESCRIPTION:2. Kreisklasse Herren Gruppe B\nBegegnungs-Nr: 141\nHeim: Barmstedter MTV III\nGast: TSV Uetersen III\n
LOCATION:
CATEGORIES:Saison 2023/24
END:VEVENT
BEGIN:VEVENT
DTSTAMP:20260424T020459Z
DTSTART;TZID=Europe/Berlin:20231103T200000
DTEND;TZID=Europe/Berlin:20231103T230000
SUMMARY:2. Kreisklasse Gruppe B TV Haseldorf  vs TSV Uetersen III (4)
UID:1f3f700e-f87f-5b33-e063-1fc7a80a4d3b
STATUS:CONFIRMED
LAST-MODIFIED:20240809T113150Z
DESCRIPTION:2. Kreisklasse Herren Gruppe B\nBegegnungs-Nr: 4\nHeim: TV Haseldorf \nGast: TSV Uetersen III\n
LOCATION:
CATEGORIES:Saison 2023/24
END:VEVENT
BEGIN:VEVENT
DTSTAMP:20260424T020459Z
DTSTART;TZID=Europe/Berlin:20230926T200000
DTEND;TZID=Europe/Berlin:20230926T230000
SUMMARY:2. Kreisklasse Gruppe B SC Pinneberg II vs TSV Uetersen III (11)
UID:1f3f700e-f904-5b33-e063-1fc7a80a4d3b
STATUS:CONFIRMED
LAST-MODIFIED:20240809T113150Z
DESCRIPTION:2. Kreisklasse Herren Gruppe B\nBegegnungs-Nr: 11\nHeim: SC Pinneberg II\nGast: TSV Uetersen III\n
LOCATION:
CATEGORIES:Saison 2023/24
END:VEVENT
BEGIN:VEVENT
DTSTAMP:20260424T020459Z
DTSTART;TZID=Europe/Berlin:20231012T201500
DTEND;TZID=Europe/Berlin:20231012T231500
SUMMARY:2. Kreisklasse Gruppe B TSV Prisdorf III vs TSV Uetersen III (20)
UID:1f3f700e-f9b4-5b33-e063-1fc7a80a4d3b
STATUS:CONFIRMED
LAST-MODIFIED:20240809T113150Z
DESCRIPTION:2. Kreisklasse Herren Gruppe B\nBegegnungs-Nr: 20\nHeim: TSV Prisdorf III\nGast: TSV Uetersen III\n
LOCATION:
CATEGORIES:Saison 2023/24
END:VEVENT
BEGIN:VEVENT
DTSTAMP:20260424T020459Z
DTSTART;TZID=Europe/Berlin:20240122T201500
DTEND;TZID=Europe/Berlin:20240122T231500
SUMMARY:2. Kreisklasse Gruppe B TuS Holstein Quickborn IV vs TSV Uetersen III (105)
UID:1f3f700e-fbec-5b33-e063-1fc7a80a4d3b
STATUS:CONFIRMED
LAST-MODIFIED:20240809T113150Z
DESCRIPTION:2. Kreisklasse Herren Gruppe B\nBegegnungs-Nr: 105\nHeim: TuS Holstein Quickborn IV\nGast: TSV Uetersen III\n
LOCATION:
CATEGORIES:Saison 2023/24
END:VEVENT
BEGIN:VEVENT
DTSTAMP:20260424T020459Z
DTSTART;TZID=Europe/Berlin:20240305T201500
DTEND;TZID=Europe/Berlin:20240305T231500
SUMMARY:2. Kreisklasse Gruppe B SG Kölln-Reisiek IV vs TSV Uetersen III (131)
UID:1f3f700e-fd70-5b33-e063-1fc7a80a4d3b
STATUS:CONFIRMED
LAST-MODIFIED:20240809T113150Z
DESCRIPTION:2. Kreisklasse Herren Gruppe B\nBegegnungs-Nr: 131\nHeim: SG Kölln-Reisiek IV\nGast: TSV Uetersen III\n
LOCATION:
CATEGORIES:Saison 2023/24
END:VEVENT
BEGIN:VEVENT
DTSTAMP:20260424T020459Z
DTSTART;TZID=Europe/Berlin:20240213T200000
DTEND;TZID=Europe/Berlin:20240213T230000
SUMMARY:2. Kreisklasse Gruppe B SV Friedrichsgabe III vs TSV Uetersen III (117)
UID:1f3f700e-fc9f-5b33-e063-1fc7a80a4d3b
STATUS:CONFIRMED
LAST-MODIFIED:20240809T113150Z
DESCRIPTION:2. Kreisklasse Herren Gruppe B\nBegegnungs-Nr: 117\nHeim: SV Friedrichsgabe III\nGast: TSV Uetersen III\n
LOCATION:
CATEGORIES:Saison 2023/24
END:VEVENT
BEGIN:VEVENT
DTSTAMP:20260424T020459Z
DTSTART;TZID=Europe/Berlin:20240220T194500
DTEND;TZID=Europe/Berlin:20240220T224500
SUMMARY:2. Kreisklasse Gruppe B Halstenbeker TS III vs TSV Uetersen III (122)
UID:1f3f700e-fceb-5b33-e063-1fc7a80a4d3b
STATUS:CONFIRMED
LAST-MODIFIED:20240809T113150Z
DESCRIPTION:2. Kreisklasse Herren Gruppe B\nBegegnungs-Nr: 122\nHeim: Halstenbeker TS III\nGast: TSV Uetersen III\n
LOCATION:
CATEGORIES:Saison 2023/24
END:VEVENT
END:VCALENDAR
