BEGIN:VCALENDAR
PRODID:-//nuDatenautomaten//framework iCal4j //DE
VERSION:2.0
CALSCALE:GREGORIAN
BEGIN:VTIMEZONE
TZID:Europe/Berlin
LAST-MODIFIED:20260306T231828Z
TZURL:https://www.tzurl.org/zoneinfo/Europe/Berlin
X-LIC-LOCATION:Europe/Berlin
X-PROLEPTIC-TZNAME:LMT
BEGIN:STANDARD
TZNAME:CET
TZOFFSETFROM:+005328
TZOFFSETTO:+0100
DTSTART:18930401T000000
END:STANDARD
BEGIN:DAYLIGHT
TZNAME:CEST
TZOFFSETFROM:+0100
TZOFFSETTO:+0200
DTSTART:19160430T230000
RDATE:19400401T020000
RDATE:19430329T020000
RDATE:19460414T020000
RDATE:19470406T030000
RDATE:19480418T020000
RDATE:19490410T020000
RDATE:19800406T020000
END:DAYLIGHT
BEGIN:STANDARD
TZNAME:CET
TZOFFSETFROM:+0200
TZOFFSETTO:+0100
DTSTART:19161001T010000
RDATE:19421102T030000
RDATE:19431004T030000
RDATE:19441002T030000
RDATE:19451118T030000
RDATE:19461007T030000
END:STANDARD
BEGIN:DAYLIGHT
TZNAME:CEST
TZOFFSETFROM:+0100
TZOFFSETTO:+0200
DTSTART:19170416T020000
RRULE:FREQ=YEARLY;UNTIL=19180415T010000Z;BYMONTH=4;BYDAY=3MO
END:DAYLIGHT
BEGIN:STANDARD
TZNAME:CET
TZOFFSETFROM:+0200
TZOFFSETTO:+0100
DTSTART:19170917T030000
RRULE:FREQ=YEARLY;UNTIL=19180916T010000Z;BYMONTH=9;BYDAY=3MO
END:STANDARD
BEGIN:DAYLIGHT
TZNAME:CEST
TZOFFSETFROM:+0100
TZOFFSETTO:+0200
DTSTART:19440403T020000
RRULE:FREQ=YEARLY;UNTIL=19450402T010000Z;BYMONTH=4;BYDAY=1MO
END:DAYLIGHT
BEGIN:DAYLIGHT
TZNAME:CEMT
TZOFFSETFROM:+0200
TZOFFSETTO:+0300
DTSTART:19450524T020000
RDATE:19470511T030000
END:DAYLIGHT
BEGIN:DAYLIGHT
TZNAME:CEST
TZOFFSETFROM:+0300
TZOFFSETTO:+0200
DTSTART:19450924T030000
RDATE:19470629T030000
END:DAYLIGHT
BEGIN:STANDARD
TZNAME:CET
TZOFFSETFROM:+0100
TZOFFSETTO:+0100
DTSTART:19460101T000000
RDATE:19800101T000000
END:STANDARD
BEGIN:STANDARD
TZNAME:CET
TZOFFSETFROM:+0200
TZOFFSETTO:+0100
DTSTART:19471005T030000
RRULE:FREQ=YEARLY;UNTIL=19491002T010000Z;BYMONTH=10;BYDAY=1SU
END:STANDARD
BEGIN:STANDARD
TZNAME:CET
TZOFFSETFROM:+0200
TZOFFSETTO:+0100
DTSTART:19800928T030000
RRULE:FREQ=YEARLY;UNTIL=19950924T010000Z;BYMONTH=9;BYDAY=-1SU
END:STANDARD
BEGIN:DAYLIGHT
TZNAME:CEST
TZOFFSETFROM:+0100
TZOFFSETTO:+0200
DTSTART:19810329T020000
RRULE:FREQ=YEARLY;BYMONTH=3;BYDAY=-1SU
END:DAYLIGHT
BEGIN:STANDARD
TZNAME:CET
TZOFFSETFROM:+0200
TZOFFSETTO:+0100
DTSTART:19961027T030000
RRULE:FREQ=YEARLY;BYMONTH=10;BYDAY=-1SU
END:STANDARD
END:VTIMEZONE
BEGIN:VEVENT
DTSTAMP:20260424T155555Z
DTSTART;TZID=Europe/Berlin:20230915T201500
DTEND;TZID=Europe/Berlin:20230915T231500
SUMMARY:3. Kreisklasse Gruppe A Voßlocher SV II vs TSV Uetersen V (1)
UID:1f3f700e-fe59-5b33-e063-1fc7a80a4d3b
STATUS:CONFIRMED
LAST-MODIFIED:20240809T113150Z
DESCRIPTION:3. Kreisklasse Herren Gruppe A\nBegegnungs-Nr: 1\nHeim: Voßlocher SV II\nGast: TSV Uetersen V\n
LOCATION:
CATEGORIES:Saison 2023/24
END:VEVENT
BEGIN:VEVENT
DTSTAMP:20260424T155555Z
DTSTART;TZID=Europe/Berlin:20230918T201500
DTEND;TZID=Europe/Berlin:20230918T231500
SUMMARY:3. Kreisklasse Gruppe A Voßlocher SV II vs Barmstedter MTV V (4)
UID:1f3f700e-fe91-5b33-e063-1fc7a80a4d3b
STATUS:CONFIRMED
LAST-MODIFIED:20240809T113150Z
DESCRIPTION:3. Kreisklasse Herren Gruppe A\nBegegnungs-Nr: 4\nHeim: Voßlocher SV II\nGast: Barmstedter MTV V\n
LOCATION:
CATEGORIES:Saison 2023/24
END:VEVENT
BEGIN:VEVENT
DTSTAMP:20260424T155555Z
DTSTART;TZID=Europe/Berlin:20231002T201500
DTEND;TZID=Europe/Berlin:20231002T231500
SUMMARY:3. Kreisklasse Gruppe A Voßlocher SV II vs SV Hörnerkirchen  (10)
UID:1f3f700e-feff-5b33-e063-1fc7a80a4d3b
STATUS:CONFIRMED
LAST-MODIFIED:20240809T113150Z
DESCRIPTION:3. Kreisklasse Herren Gruppe A\nBegegnungs-Nr: 10\nHeim: Voßlocher SV II\nGast: SV Hörnerkirchen \n
LOCATION:
CATEGORIES:Saison 2023/24
END:VEVENT
BEGIN:VEVENT
DTSTAMP:20260424T155555Z
DTSTART;TZID=Europe/Berlin:20231030T201500
DTEND;TZID=Europe/Berlin:20231030T231500
SUMMARY:3. Kreisklasse Gruppe A Voßlocher SV II vs TSV Gut-Heil Heist III (17)
UID:1f3f700e-ff86-5b33-e063-1fc7a80a4d3b
STATUS:CONFIRMED
LAST-MODIFIED:20240809T113150Z
DESCRIPTION:3. Kreisklasse Herren Gruppe A\nBegegnungs-Nr: 17\nHeim: Voßlocher SV II\nGast: TSV Gut-Heil Heist III\n
LOCATION:
CATEGORIES:Saison 2023/24
END:VEVENT
BEGIN:VEVENT
DTSTAMP:20260424T155555Z
DTSTART;TZID=Europe/Berlin:20231211T201500
DTEND;TZID=Europe/Berlin:20231211T231500
SUMMARY:3. Kreisklasse Gruppe A Voßlocher SV II vs FTSV Fortuna Elmshorn IV (34)
UID:1f3f700f-00ba-5b33-e063-1fc7a80a4d3b
STATUS:CONFIRMED
LAST-MODIFIED:20240809T113151Z
DESCRIPTION:3. Kreisklasse Herren Gruppe A\nBegegnungs-Nr: 34\nHeim: Voßlocher SV II\nGast: FTSV Fortuna Elmshorn IV\n
LOCATION:
CATEGORIES:Saison 2023/24
END:VEVENT
BEGIN:VEVENT
DTSTAMP:20260424T155555Z
DTSTART;TZID=Europe/Berlin:20240129T201500
DTEND;TZID=Europe/Berlin:20240129T231500
SUMMARY:3. Kreisklasse Gruppe A Voßlocher SV II vs SV Rugenbergen II (107)
UID:1f3f700f-0160-5b33-e063-1fc7a80a4d3b
STATUS:CONFIRMED
LAST-MODIFIED:20240809T113151Z
DESCRIPTION:3. Kreisklasse Herren Gruppe A\nBegegnungs-Nr: 107\nHeim: Voßlocher SV II\nGast: SV Rugenbergen II\n
LOCATION:
CATEGORIES:Saison 2023/24
END:VEVENT
BEGIN:VEVENT
DTSTAMP:20260424T155555Z
DTSTART;TZID=Europe/Berlin:20240212T201500
DTEND;TZID=Europe/Berlin:20240212T231500
SUMMARY:3. Kreisklasse Gruppe A Voßlocher SV II vs TSV Seestermüher Marsch  (114)
UID:1f3f700f-01e7-5b33-e063-1fc7a80a4d3b
STATUS:CONFIRMED
LAST-MODIFIED:20240809T113151Z
DESCRIPTION:3. Kreisklasse Herren Gruppe A\nBegegnungs-Nr: 114\nHeim: Voßlocher SV II\nGast: TSV Seestermüher Marsch \n
LOCATION:
CATEGORIES:Saison 2023/24
END:VEVENT
BEGIN:VEVENT
DTSTAMP:20260424T155555Z
DTSTART;TZID=Europe/Berlin:20240226T201500
DTEND;TZID=Europe/Berlin:20240226T231500
SUMMARY:3. Kreisklasse Gruppe A Voßlocher SV II vs TuS Esingen V (122)
UID:1f3f700f-0278-5b33-e063-1fc7a80a4d3b
STATUS:CONFIRMED
LAST-MODIFIED:20240809T113151Z
DESCRIPTION:3. Kreisklasse Herren Gruppe A\nBegegnungs-Nr: 122\nHeim: Voßlocher SV II\nGast: TuS Esingen V\n
LOCATION:
CATEGORIES:Saison 2023/24
END:VEVENT
BEGIN:VEVENT
DTSTAMP:20260424T155555Z
DTSTART;TZID=Europe/Berlin:20230925T201500
DTEND;TZID=Europe/Berlin:20230925T231500
SUMMARY:3. Kreisklasse Gruppe A SV Rugenbergen II vs Voßlocher SV II (8)
UID:1f3f700e-fed9-5b33-e063-1fc7a80a4d3b
STATUS:CONFIRMED
LAST-MODIFIED:20240809T113150Z
DESCRIPTION:3. Kreisklasse Herren Gruppe A\nBegegnungs-Nr: 8\nHeim: SV Rugenbergen II\nGast: Voßlocher SV II\n
LOCATION:
CATEGORIES:Saison 2023/24
END:VEVENT
BEGIN:VEVENT
DTSTAMP:20260424T155555Z
DTSTART;TZID=Europe/Berlin:20231009T201500
DTEND;TZID=Europe/Berlin:20231009T231500
SUMMARY:3. Kreisklasse Gruppe A TSV Seestermüher Marsch  vs Voßlocher SV II (14)
UID:1f3f700e-ff4d-5b33-e063-1fc7a80a4d3b
STATUS:CONFIRMED
LAST-MODIFIED:20240809T113150Z
DESCRIPTION:3. Kreisklasse Herren Gruppe A\nBegegnungs-Nr: 14\nHeim: TSV Seestermüher Marsch \nGast: Voßlocher SV II\n
LOCATION:
CATEGORIES:Saison 2023/24
END:VEVENT
BEGIN:VEVENT
DTSTAMP:20260424T155555Z
DTSTART;TZID=Europe/Berlin:20231124T201500
DTEND;TZID=Europe/Berlin:20231124T231500
SUMMARY:3. Kreisklasse Gruppe A TuS Esingen V vs Voßlocher SV II (23)
UID:1f3f700e-fff0-5b33-e063-1fc7a80a4d3b
STATUS:CONFIRMED
LAST-MODIFIED:20240809T113151Z
DESCRIPTION:3. Kreisklasse Herren Gruppe A\nBegegnungs-Nr: 23\nHeim: TuS Esingen V\nGast: Voßlocher SV II\n
LOCATION:
CATEGORIES:Saison 2023/24
END:VEVENT
BEGIN:VEVENT
DTSTAMP:20260424T155555Z
DTSTART;TZID=Europe/Berlin:20240313T201500
DTEND;TZID=Europe/Berlin:20240313T231500
SUMMARY:3. Kreisklasse Gruppe A TSV Uetersen V vs Voßlocher SV II (101)
UID:1f3f700f-00f4-5b33-e063-1fc7a80a4d3b
STATUS:CONFIRMED
LAST-MODIFIED:20240809T113151Z
DESCRIPTION:3. Kreisklasse Herren Gruppe A\nBegegnungs-Nr: 101\nHeim: TSV Uetersen V\nGast: Voßlocher SV II\n
LOCATION:
CATEGORIES:Saison 2023/24
END:VEVENT
BEGIN:VEVENT
DTSTAMP:20260424T155555Z
DTSTART;TZID=Europe/Berlin:20240122T200000
DTEND;TZID=Europe/Berlin:20240122T230000
SUMMARY:3. Kreisklasse Gruppe A Barmstedter MTV V vs Voßlocher SV II (104)
UID:1f3f700f-012c-5b33-e063-1fc7a80a4d3b
STATUS:CONFIRMED
LAST-MODIFIED:20240809T113151Z
DESCRIPTION:3. Kreisklasse Herren Gruppe A\nBegegnungs-Nr: 104\nHeim: Barmstedter MTV V\nGast: Voßlocher SV II\n
LOCATION:
CATEGORIES:Saison 2023/24
END:VEVENT
BEGIN:VEVENT
DTSTAMP:20260424T155555Z
DTSTART;TZID=Europe/Berlin:20240209T201500
DTEND;TZID=Europe/Berlin:20240209T231500
SUMMARY:3. Kreisklasse Gruppe A SV Hörnerkirchen  vs Voßlocher SV II (112)
UID:1f3f700f-01bf-5b33-e063-1fc7a80a4d3b
STATUS:CONFIRMED
LAST-MODIFIED:20240809T113151Z
DESCRIPTION:3. Kreisklasse Herren Gruppe A\nBegegnungs-Nr: 112\nHeim: SV Hörnerkirchen \nGast: Voßlocher SV II\n
LOCATION:
CATEGORIES:Saison 2023/24
END:VEVENT
BEGIN:VEVENT
DTSTAMP:20260424T155555Z
DTSTART;TZID=Europe/Berlin:20240223T201500
DTEND;TZID=Europe/Berlin:20240223T231500
SUMMARY:3. Kreisklasse Gruppe A TSV Gut-Heil Heist III vs Voßlocher SV II (117)
UID:1f3f700f-0220-5b33-e063-1fc7a80a4d3b
STATUS:CONFIRMED
LAST-MODIFIED:20240809T113151Z
DESCRIPTION:3. Kreisklasse Herren Gruppe A\nBegegnungs-Nr: 117\nHeim: TSV Gut-Heil Heist III\nGast: Voßlocher SV II\n
LOCATION:
CATEGORIES:Saison 2023/24
END:VEVENT
BEGIN:VEVENT
DTSTAMP:20260424T155555Z
DTSTART;TZID=Europe/Berlin:20240326T200000
DTEND;TZID=Europe/Berlin:20240326T230000
SUMMARY:3. Kreisklasse Gruppe A FTSV Fortuna Elmshorn IV vs Voßlocher SV II (134)
UID:1f3f700f-0351-5b33-e063-1fc7a80a4d3b
STATUS:CONFIRMED
LAST-MODIFIED:20240809T113151Z
DESCRIPTION:3. Kreisklasse Herren Gruppe A\nBegegnungs-Nr: 134\nHeim: FTSV Fortuna Elmshorn IV\nGast: Voßlocher SV II\n
LOCATION:
CATEGORIES:Saison 2023/24
END:VEVENT
END:VCALENDAR
