BEGIN:VCALENDAR
PRODID:-//nuDatenautomaten//framework iCal4j //DE
VERSION:2.0
CALSCALE:GREGORIAN
BEGIN:VTIMEZONE
TZID:Europe/Berlin
LAST-MODIFIED:20260306T231828Z
TZURL:https://www.tzurl.org/zoneinfo/Europe/Berlin
X-LIC-LOCATION:Europe/Berlin
X-PROLEPTIC-TZNAME:LMT
BEGIN:STANDARD
TZNAME:CET
TZOFFSETFROM:+005328
TZOFFSETTO:+0100
DTSTART:18930401T000000
END:STANDARD
BEGIN:DAYLIGHT
TZNAME:CEST
TZOFFSETFROM:+0100
TZOFFSETTO:+0200
DTSTART:19160430T230000
RDATE:19400401T020000
RDATE:19430329T020000
RDATE:19460414T020000
RDATE:19470406T030000
RDATE:19480418T020000
RDATE:19490410T020000
RDATE:19800406T020000
END:DAYLIGHT
BEGIN:STANDARD
TZNAME:CET
TZOFFSETFROM:+0200
TZOFFSETTO:+0100
DTSTART:19161001T010000
RDATE:19421102T030000
RDATE:19431004T030000
RDATE:19441002T030000
RDATE:19451118T030000
RDATE:19461007T030000
END:STANDARD
BEGIN:DAYLIGHT
TZNAME:CEST
TZOFFSETFROM:+0100
TZOFFSETTO:+0200
DTSTART:19170416T020000
RRULE:FREQ=YEARLY;UNTIL=19180415T010000Z;BYMONTH=4;BYDAY=3MO
END:DAYLIGHT
BEGIN:STANDARD
TZNAME:CET
TZOFFSETFROM:+0200
TZOFFSETTO:+0100
DTSTART:19170917T030000
RRULE:FREQ=YEARLY;UNTIL=19180916T010000Z;BYMONTH=9;BYDAY=3MO
END:STANDARD
BEGIN:DAYLIGHT
TZNAME:CEST
TZOFFSETFROM:+0100
TZOFFSETTO:+0200
DTSTART:19440403T020000
RRULE:FREQ=YEARLY;UNTIL=19450402T010000Z;BYMONTH=4;BYDAY=1MO
END:DAYLIGHT
BEGIN:DAYLIGHT
TZNAME:CEMT
TZOFFSETFROM:+0200
TZOFFSETTO:+0300
DTSTART:19450524T020000
RDATE:19470511T030000
END:DAYLIGHT
BEGIN:DAYLIGHT
TZNAME:CEST
TZOFFSETFROM:+0300
TZOFFSETTO:+0200
DTSTART:19450924T030000
RDATE:19470629T030000
END:DAYLIGHT
BEGIN:STANDARD
TZNAME:CET
TZOFFSETFROM:+0100
TZOFFSETTO:+0100
DTSTART:19460101T000000
RDATE:19800101T000000
END:STANDARD
BEGIN:STANDARD
TZNAME:CET
TZOFFSETFROM:+0200
TZOFFSETTO:+0100
DTSTART:19471005T030000
RRULE:FREQ=YEARLY;UNTIL=19491002T010000Z;BYMONTH=10;BYDAY=1SU
END:STANDARD
BEGIN:STANDARD
TZNAME:CET
TZOFFSETFROM:+0200
TZOFFSETTO:+0100
DTSTART:19800928T030000
RRULE:FREQ=YEARLY;UNTIL=19950924T010000Z;BYMONTH=9;BYDAY=-1SU
END:STANDARD
BEGIN:DAYLIGHT
TZNAME:CEST
TZOFFSETFROM:+0100
TZOFFSETTO:+0200
DTSTART:19810329T020000
RRULE:FREQ=YEARLY;BYMONTH=3;BYDAY=-1SU
END:DAYLIGHT
BEGIN:STANDARD
TZNAME:CET
TZOFFSETFROM:+0200
TZOFFSETTO:+0100
DTSTART:19961027T030000
RRULE:FREQ=YEARLY;BYMONTH=10;BYDAY=-1SU
END:STANDARD
END:VTIMEZONE
BEGIN:VEVENT
DTSTAMP:20260419T122328Z
DTSTART;TZID=Europe/Berlin:20231013T200000
DTEND;TZID=Europe/Berlin:20231013T230000
SUMMARY:3. Kreisklasse Gruppe B TTC Seeth-Ekholt IV vs TSV Ellerbek V (18)
UID:1f3f700f-04c7-5b33-e063-1fc7a80a4d3b
STATUS:CONFIRMED
LAST-MODIFIED:20240809T113151Z
DESCRIPTION:3. Kreisklasse Herren Gruppe B\nBegegnungs-Nr: 18\nHeim: TTC Seeth-Ekholt IV\nGast: TSV Ellerbek V\n
LOCATION:
CATEGORIES:Saison 2023/24
END:VEVENT
BEGIN:VEVENT
DTSTAMP:20260419T122328Z
DTSTART;TZID=Europe/Berlin:20231117T200000
DTEND;TZID=Europe/Berlin:20231117T230000
SUMMARY:3. Kreisklasse Gruppe B TTC Seeth-Ekholt IV vs TuS Esingen VI (24)
UID:1f3f700f-0535-5b33-e063-1fc7a80a4d3b
STATUS:CONFIRMED
LAST-MODIFIED:20240809T113151Z
DESCRIPTION:3. Kreisklasse Herren Gruppe B\nBegegnungs-Nr: 24\nHeim: TTC Seeth-Ekholt IV\nGast: TuS Esingen VI\n
LOCATION:
CATEGORIES:Saison 2023/24
END:VEVENT
BEGIN:VEVENT
DTSTAMP:20260419T122328Z
DTSTART;TZID=Europe/Berlin:20231110T200000
DTEND;TZID=Europe/Berlin:20231110T230000
SUMMARY:3. Kreisklasse Gruppe B TTC Seeth-Ekholt IV vs TuS Appen IV (29)
UID:1f3f700f-0591-5b33-e063-1fc7a80a4d3b
STATUS:CONFIRMED
LAST-MODIFIED:20240809T113151Z
DESCRIPTION:3. Kreisklasse Herren Gruppe B\nBegegnungs-Nr: 29\nHeim: TTC Seeth-Ekholt IV\nGast: TuS Appen IV\n
LOCATION:
CATEGORIES:Saison 2023/24
END:VEVENT
BEGIN:VEVENT
DTSTAMP:20260419T122328Z
DTSTART;TZID=Europe/Berlin:20231124T200000
DTEND;TZID=Europe/Berlin:20231124T230000
SUMMARY:3. Kreisklasse Gruppe B TTC Seeth-Ekholt IV vs Moorreger SV VII (35)
UID:1f3f700f-0605-5b33-e063-1fc7a80a4d3b
STATUS:CONFIRMED
LAST-MODIFIED:20240809T113151Z
DESCRIPTION:3. Kreisklasse Herren Gruppe B\nBegegnungs-Nr: 35\nHeim: TTC Seeth-Ekholt IV\nGast: Moorreger SV VII\n
LOCATION:
CATEGORIES:Saison 2023/24
END:VEVENT
BEGIN:VEVENT
DTSTAMP:20260419T122328Z
DTSTART;TZID=Europe/Berlin:20240209T200000
DTEND;TZID=Europe/Berlin:20240209T230000
SUMMARY:3. Kreisklasse Gruppe B TTC Seeth-Ekholt IV vs Heidgrabener SV II (114)
UID:1f3f700f-0711-5b33-e063-1fc7a80a4d3b
STATUS:CONFIRMED
LAST-MODIFIED:20240809T113151Z
DESCRIPTION:3. Kreisklasse Herren Gruppe B\nBegegnungs-Nr: 114\nHeim: TTC Seeth-Ekholt IV\nGast: Heidgrabener SV II\n
LOCATION:
CATEGORIES:Saison 2023/24
END:VEVENT
BEGIN:VEVENT
DTSTAMP:20260419T122328Z
DTSTART;TZID=Europe/Berlin:20240223T200000
DTEND;TZID=Europe/Berlin:20240223T230000
SUMMARY:3. Kreisklasse Gruppe B TTC Seeth-Ekholt IV vs SuS Waldenau III (121)
UID:1f3f700f-0791-5b33-e063-1fc7a80a4d3b
STATUS:CONFIRMED
LAST-MODIFIED:20240809T113151Z
DESCRIPTION:3. Kreisklasse Herren Gruppe B\nBegegnungs-Nr: 121\nHeim: TTC Seeth-Ekholt IV\nGast: SuS Waldenau III\n
LOCATION:
CATEGORIES:Saison 2023/24
END:VEVENT
BEGIN:VEVENT
DTSTAMP:20260419T122328Z
DTSTART;TZID=Europe/Berlin:20240308T200000
DTEND;TZID=Europe/Berlin:20240308T230000
SUMMARY:3. Kreisklasse Gruppe B TTC Seeth-Ekholt IV vs SC Cosmos Wedel IV (126)
UID:1f3f700f-07f0-5b33-e063-1fc7a80a4d3b
STATUS:CONFIRMED
LAST-MODIFIED:20240809T113151Z
DESCRIPTION:3. Kreisklasse Herren Gruppe B\nBegegnungs-Nr: 126\nHeim: TTC Seeth-Ekholt IV\nGast: SC Cosmos Wedel IV\n
LOCATION:
CATEGORIES:Saison 2023/24
END:VEVENT
BEGIN:VEVENT
DTSTAMP:20260419T122328Z
DTSTART;TZID=Europe/Berlin:20240322T200000
DTEND;TZID=Europe/Berlin:20240322T230000
SUMMARY:3. Kreisklasse Gruppe B TTC Seeth-Ekholt IV vs TTC Die Sterne Elmshorn IV (132)
UID:1f3f700f-085e-5b33-e063-1fc7a80a4d3b
STATUS:CONFIRMED
LAST-MODIFIED:20240809T113151Z
DESCRIPTION:3. Kreisklasse Herren Gruppe B\nBegegnungs-Nr: 132\nHeim: TTC Seeth-Ekholt IV\nGast: TTC Die Sterne Elmshorn IV\n
LOCATION:
CATEGORIES:Saison 2023/24
END:VEVENT
BEGIN:VEVENT
DTSTAMP:20260419T122328Z
DTSTART;TZID=Europe/Berlin:20231006T201500
DTEND;TZID=Europe/Berlin:20231006T231500
SUMMARY:3. Kreisklasse Gruppe B Heidgrabener SV II vs TTC Seeth-Ekholt IV (14)
UID:1f3f700f-0476-5b33-e063-1fc7a80a4d3b
STATUS:CONFIRMED
LAST-MODIFIED:20240809T113151Z
DESCRIPTION:3. Kreisklasse Herren Gruppe B\nBegegnungs-Nr: 14\nHeim: Heidgrabener SV II\nGast: TTC Seeth-Ekholt IV\n
LOCATION:
CATEGORIES:Saison 2023/24
END:VEVENT
BEGIN:VEVENT
DTSTAMP:20260419T122328Z
DTSTART;TZID=Europe/Berlin:20231208T201500
DTEND;TZID=Europe/Berlin:20231208T231500
SUMMARY:3. Kreisklasse Gruppe B SuS Waldenau III vs TTC Seeth-Ekholt IV (21)
UID:1f3f700f-04fe-5b33-e063-1fc7a80a4d3b
STATUS:CONFIRMED
LAST-MODIFIED:20240809T113151Z
DESCRIPTION:3. Kreisklasse Herren Gruppe B\nBegegnungs-Nr: 21\nHeim: SuS Waldenau III\nGast: TTC Seeth-Ekholt IV\n
LOCATION:
CATEGORIES:Saison 2023/24
END:VEVENT
BEGIN:VEVENT
DTSTAMP:20260419T122328Z
DTSTART;TZID=Europe/Berlin:20231101T203000
DTEND;TZID=Europe/Berlin:20231101T233000
SUMMARY:3. Kreisklasse Gruppe B SC Cosmos Wedel IV vs TTC Seeth-Ekholt IV (25)
UID:1f3f700f-0548-5b33-e063-1fc7a80a4d3b
STATUS:CONFIRMED
LAST-MODIFIED:20240809T113151Z
DESCRIPTION:3. Kreisklasse Herren Gruppe B\nBegegnungs-Nr: 25\nHeim: SC Cosmos Wedel IV\nGast: TTC Seeth-Ekholt IV\n
LOCATION:
CATEGORIES:Saison 2023/24
END:VEVENT
BEGIN:VEVENT
DTSTAMP:20260419T122328Z
DTSTART;TZID=Europe/Berlin:20231211T200400
DTEND;TZID=Europe/Berlin:20231211T230400
SUMMARY:3. Kreisklasse Gruppe B TTC Die Sterne Elmshorn IV vs TTC Seeth-Ekholt IV (31)
UID:1f3f700f-05b6-5b33-e063-1fc7a80a4d3b
STATUS:CONFIRMED
LAST-MODIFIED:20240809T113151Z
DESCRIPTION:3. Kreisklasse Herren Gruppe B\nBegegnungs-Nr: 31\nHeim: TTC Die Sterne Elmshorn IV\nGast: TTC Seeth-Ekholt IV\n
LOCATION:
CATEGORIES:Saison 2023/24
END:VEVENT
BEGIN:VEVENT
DTSTAMP:20260419T122328Z
DTSTART;TZID=Europe/Berlin:20240215T200000
DTEND;TZID=Europe/Berlin:20240215T230000
SUMMARY:3. Kreisklasse Gruppe B TSV Ellerbek V vs TTC Seeth-Ekholt IV (117)
UID:1f3f700f-0747-5b33-e063-1fc7a80a4d3b
STATUS:CONFIRMED
LAST-MODIFIED:20240809T113151Z
DESCRIPTION:3. Kreisklasse Herren Gruppe B\nBegegnungs-Nr: 117\nHeim: TSV Ellerbek V\nGast: TTC Seeth-Ekholt IV\n
LOCATION:
CATEGORIES:Saison 2023/24
END:VEVENT
BEGIN:VEVENT
DTSTAMP:20260419T122328Z
DTSTART;TZID=Europe/Berlin:20240228T201500
DTEND;TZID=Europe/Berlin:20240228T231500
SUMMARY:3. Kreisklasse Gruppe B TuS Esingen VI vs TTC Seeth-Ekholt IV (122)
UID:1f3f700f-07a2-5b33-e063-1fc7a80a4d3b
STATUS:CONFIRMED
LAST-MODIFIED:20240809T113151Z
DESCRIPTION:3. Kreisklasse Herren Gruppe B\nBegegnungs-Nr: 122\nHeim: TuS Esingen VI\nGast: TTC Seeth-Ekholt IV\n
LOCATION:
CATEGORIES:Saison 2023/24
END:VEVENT
BEGIN:VEVENT
DTSTAMP:20260419T122328Z
DTSTART;TZID=Europe/Berlin:20240315T193000
DTEND;TZID=Europe/Berlin:20240315T223000
SUMMARY:3. Kreisklasse Gruppe B TuS Appen IV vs TTC Seeth-Ekholt IV (129)
UID:1f3f700f-0825-5b33-e063-1fc7a80a4d3b
STATUS:CONFIRMED
LAST-MODIFIED:20240809T113151Z
DESCRIPTION:3. Kreisklasse Herren Gruppe B\nBegegnungs-Nr: 129\nHeim: TuS Appen IV\nGast: TTC Seeth-Ekholt IV\n
LOCATION:
CATEGORIES:Saison 2023/24
END:VEVENT
BEGIN:VEVENT
DTSTAMP:20260419T122328Z
DTSTART;TZID=Europe/Berlin:20240325T201500
DTEND;TZID=Europe/Berlin:20240325T231500
SUMMARY:3. Kreisklasse Gruppe B Moorreger SV VII vs TTC Seeth-Ekholt IV (134)
UID:1f3f700f-0885-5b33-e063-1fc7a80a4d3b
STATUS:CONFIRMED
LAST-MODIFIED:20240809T113151Z
DESCRIPTION:3. Kreisklasse Herren Gruppe B\nBegegnungs-Nr: 134\nHeim: Moorreger SV VII\nGast: TTC Seeth-Ekholt IV\n
LOCATION:
CATEGORIES:Saison 2023/24
END:VEVENT
END:VCALENDAR
