BEGIN:VCALENDAR
PRODID:-//nuDatenautomaten//framework iCal4j //DE
VERSION:2.0
CALSCALE:GREGORIAN
BEGIN:VTIMEZONE
TZID:Europe/Berlin
LAST-MODIFIED:20260306T231828Z
TZURL:https://www.tzurl.org/zoneinfo/Europe/Berlin
X-LIC-LOCATION:Europe/Berlin
X-PROLEPTIC-TZNAME:LMT
BEGIN:STANDARD
TZNAME:CET
TZOFFSETFROM:+005328
TZOFFSETTO:+0100
DTSTART:18930401T000000
END:STANDARD
BEGIN:DAYLIGHT
TZNAME:CEST
TZOFFSETFROM:+0100
TZOFFSETTO:+0200
DTSTART:19160430T230000
RDATE:19400401T020000
RDATE:19430329T020000
RDATE:19460414T020000
RDATE:19470406T030000
RDATE:19480418T020000
RDATE:19490410T020000
RDATE:19800406T020000
END:DAYLIGHT
BEGIN:STANDARD
TZNAME:CET
TZOFFSETFROM:+0200
TZOFFSETTO:+0100
DTSTART:19161001T010000
RDATE:19421102T030000
RDATE:19431004T030000
RDATE:19441002T030000
RDATE:19451118T030000
RDATE:19461007T030000
END:STANDARD
BEGIN:DAYLIGHT
TZNAME:CEST
TZOFFSETFROM:+0100
TZOFFSETTO:+0200
DTSTART:19170416T020000
RRULE:FREQ=YEARLY;UNTIL=19180415T010000Z;BYMONTH=4;BYDAY=3MO
END:DAYLIGHT
BEGIN:STANDARD
TZNAME:CET
TZOFFSETFROM:+0200
TZOFFSETTO:+0100
DTSTART:19170917T030000
RRULE:FREQ=YEARLY;UNTIL=19180916T010000Z;BYMONTH=9;BYDAY=3MO
END:STANDARD
BEGIN:DAYLIGHT
TZNAME:CEST
TZOFFSETFROM:+0100
TZOFFSETTO:+0200
DTSTART:19440403T020000
RRULE:FREQ=YEARLY;UNTIL=19450402T010000Z;BYMONTH=4;BYDAY=1MO
END:DAYLIGHT
BEGIN:DAYLIGHT
TZNAME:CEMT
TZOFFSETFROM:+0200
TZOFFSETTO:+0300
DTSTART:19450524T020000
RDATE:19470511T030000
END:DAYLIGHT
BEGIN:DAYLIGHT
TZNAME:CEST
TZOFFSETFROM:+0300
TZOFFSETTO:+0200
DTSTART:19450924T030000
RDATE:19470629T030000
END:DAYLIGHT
BEGIN:STANDARD
TZNAME:CET
TZOFFSETFROM:+0100
TZOFFSETTO:+0100
DTSTART:19460101T000000
RDATE:19800101T000000
END:STANDARD
BEGIN:STANDARD
TZNAME:CET
TZOFFSETFROM:+0200
TZOFFSETTO:+0100
DTSTART:19471005T030000
RRULE:FREQ=YEARLY;UNTIL=19491002T010000Z;BYMONTH=10;BYDAY=1SU
END:STANDARD
BEGIN:STANDARD
TZNAME:CET
TZOFFSETFROM:+0200
TZOFFSETTO:+0100
DTSTART:19800928T030000
RRULE:FREQ=YEARLY;UNTIL=19950924T010000Z;BYMONTH=9;BYDAY=-1SU
END:STANDARD
BEGIN:DAYLIGHT
TZNAME:CEST
TZOFFSETFROM:+0100
TZOFFSETTO:+0200
DTSTART:19810329T020000
RRULE:FREQ=YEARLY;BYMONTH=3;BYDAY=-1SU
END:DAYLIGHT
BEGIN:STANDARD
TZNAME:CET
TZOFFSETFROM:+0200
TZOFFSETTO:+0100
DTSTART:19961027T030000
RRULE:FREQ=YEARLY;BYMONTH=10;BYDAY=-1SU
END:STANDARD
END:VTIMEZONE
BEGIN:VEVENT
DTSTAMP:20260424T151922Z
DTSTART;TZID=Europe/Berlin:20231214T201500
DTEND;TZID=Europe/Berlin:20231214T231500
SUMMARY:4. Kreisklasse Gruppe A TSV Uetersen VI vs TSV Prisdorf IV (53)
UID:1f3f700f-0c77-5b33-e063-1fc7a80a4d3b
STATUS:CONFIRMED
LAST-MODIFIED:20240809T113152Z
DESCRIPTION:4. Kreisklasse Herren Gruppe A\nBegegnungs-Nr: 53\nHeim: TSV Uetersen VI\nGast: TSV Prisdorf IV\n
LOCATION:
CATEGORIES:Saison 2023/24
END:VEVENT
BEGIN:VEVENT
DTSTAMP:20260424T151922Z
DTSTART;TZID=Europe/Berlin:20240118T201500
DTEND;TZID=Europe/Berlin:20240118T231500
SUMMARY:4. Kreisklasse Gruppe A TSV Uetersen VI vs TuS Hemdingen-Bilsen  (104)
UID:1f3f700f-0ce7-5b33-e063-1fc7a80a4d3b
STATUS:CONFIRMED
LAST-MODIFIED:20240809T113152Z
DESCRIPTION:4. Kreisklasse Herren Gruppe A\nBegegnungs-Nr: 104\nHeim: TSV Uetersen VI\nGast: TuS Hemdingen-Bilsen \n
LOCATION:
CATEGORIES:Saison 2023/24
END:VEVENT
BEGIN:VEVENT
DTSTAMP:20260424T151922Z
DTSTART;TZID=Europe/Berlin:20240307T201500
DTEND;TZID=Europe/Berlin:20240307T231500
SUMMARY:4. Kreisklasse Gruppe A TSV Uetersen VI vs SuS Waldenau IV (114)
UID:1f3f700f-0d90-5b33-e063-1fc7a80a4d3b
STATUS:CONFIRMED
LAST-MODIFIED:20240809T113152Z
DESCRIPTION:4. Kreisklasse Herren Gruppe A\nBegegnungs-Nr: 114\nHeim: TSV Uetersen VI\nGast: SuS Waldenau IV\n
LOCATION:
CATEGORIES:Saison 2023/24
END:VEVENT
BEGIN:VEVENT
DTSTAMP:20260424T151922Z
DTSTART;TZID=Europe/Berlin:20240215T201500
DTEND;TZID=Europe/Berlin:20240215T231500
SUMMARY:4. Kreisklasse Gruppe A TSV Uetersen VI vs Post SV Elmshorn III (123)
UID:1f3f700f-0e3c-5b33-e063-1fc7a80a4d3b
STATUS:CONFIRMED
LAST-MODIFIED:20240809T113152Z
DESCRIPTION:4. Kreisklasse Herren Gruppe A\nBegegnungs-Nr: 123\nHeim: TSV Uetersen VI\nGast: Post SV Elmshorn III\n
LOCATION:
CATEGORIES:Saison 2023/24
END:VEVENT
BEGIN:VEVENT
DTSTAMP:20260424T151922Z
DTSTART;TZID=Europe/Berlin:20240229T201500
DTEND;TZID=Europe/Berlin:20240229T231500
SUMMARY:4. Kreisklasse Gruppe A TSV Uetersen VI vs TuS Esingen VII (132)
UID:1f3f700f-0ec7-5b33-e063-1fc7a80a4d3b
STATUS:CONFIRMED
LAST-MODIFIED:20240809T113152Z
DESCRIPTION:4. Kreisklasse Herren Gruppe A\nBegegnungs-Nr: 132\nHeim: TSV Uetersen VI\nGast: TuS Esingen VII\n
LOCATION:
CATEGORIES:Saison 2023/24
END:VEVENT
BEGIN:VEVENT
DTSTAMP:20260424T151922Z
DTSTART;TZID=Europe/Berlin:20240314T201500
DTEND;TZID=Europe/Berlin:20240314T231500
SUMMARY:4. Kreisklasse Gruppe A TSV Uetersen VI vs TuS Holstein Quickborn V (141)
UID:1f3f700f-0f40-5b33-e063-1fc7a80a4d3b
STATUS:CONFIRMED
LAST-MODIFIED:20240809T113152Z
DESCRIPTION:4. Kreisklasse Herren Gruppe A\nBegegnungs-Nr: 141\nHeim: TSV Uetersen VI\nGast: TuS Holstein Quickborn V\n
LOCATION:
CATEGORIES:Saison 2023/24
END:VEVENT
BEGIN:VEVENT
DTSTAMP:20260424T151922Z
DTSTART;TZID=Europe/Berlin:20230921T201500
DTEND;TZID=Europe/Berlin:20230921T231500
SUMMARY:4. Kreisklasse Gruppe A TSV Uetersen VI vs TSV Sparrieshoop IV (8)
UID:1f3f700f-0941-5b33-e063-1fc7a80a4d3b
STATUS:CONFIRMED
LAST-MODIFIED:20240809T113152Z
DESCRIPTION:4. Kreisklasse Herren Gruppe A\nBegegnungs-Nr: 8\nHeim: TSV Uetersen VI\nGast: TSV Sparrieshoop IV\n
LOCATION:
CATEGORIES:Saison 2023/24
END:VEVENT
BEGIN:VEVENT
DTSTAMP:20260424T151922Z
DTSTART;TZID=Europe/Berlin:20231005T201500
DTEND;TZID=Europe/Berlin:20231005T231500
SUMMARY:4. Kreisklasse Gruppe A TSV Uetersen VI vs SC Cosmos Wedel V (19)
UID:1f3f700f-0a08-5b33-e063-1fc7a80a4d3b
STATUS:CONFIRMED
LAST-MODIFIED:20240809T113152Z
DESCRIPTION:4. Kreisklasse Herren Gruppe A\nBegegnungs-Nr: 19\nHeim: TSV Uetersen VI\nGast: SC Cosmos Wedel V\n
LOCATION:
CATEGORIES:Saison 2023/24
END:VEVENT
BEGIN:VEVENT
DTSTAMP:20260424T151922Z
DTSTART;TZID=Europe/Berlin:20231109T201500
DTEND;TZID=Europe/Berlin:20231109T231500
SUMMARY:4. Kreisklasse Gruppe A TSV Uetersen VI vs TSV Gut-Heil Heist IV (28)
UID:1f3f700f-0aaf-5b33-e063-1fc7a80a4d3b
STATUS:CONFIRMED
LAST-MODIFIED:20240809T113152Z
DESCRIPTION:4. Kreisklasse Herren Gruppe A\nBegegnungs-Nr: 28\nHeim: TSV Uetersen VI\nGast: TSV Gut-Heil Heist IV\n
LOCATION:
CATEGORIES:Saison 2023/24
END:VEVENT
BEGIN:VEVENT
DTSTAMP:20260424T151922Z
DTSTART;TZID=Europe/Berlin:20231207T201500
DTEND;TZID=Europe/Berlin:20231207T231500
SUMMARY:4. Kreisklasse Gruppe A TSV Uetersen VI vs SV Friedrichsgabe IV (47)
UID:1f3f700f-0c0b-5b33-e063-1fc7a80a4d3b
STATUS:CONFIRMED
LAST-MODIFIED:20240809T113152Z
DESCRIPTION:4. Kreisklasse Herren Gruppe A\nBegegnungs-Nr: 47\nHeim: TSV Uetersen VI\nGast: SV Friedrichsgabe IV\n
LOCATION:
CATEGORIES:Saison 2023/24
END:VEVENT
BEGIN:VEVENT
DTSTAMP:20260424T151922Z
DTSTART;TZID=Europe/Berlin:20240126T201500
DTEND;TZID=Europe/Berlin:20240126T231500
SUMMARY:4. Kreisklasse Gruppe A TSV Sparrieshoop IV vs TSV Uetersen VI (109)
UID:1f3f700f-0d36-5b33-e063-1fc7a80a4d3b
STATUS:CONFIRMED
LAST-MODIFIED:20240809T113152Z
DESCRIPTION:4. Kreisklasse Herren Gruppe A\nBegegnungs-Nr: 109\nHeim: TSV Sparrieshoop IV\nGast: TSV Uetersen VI\n
LOCATION:
CATEGORIES:Saison 2023/24
END:VEVENT
BEGIN:VEVENT
DTSTAMP:20260424T151922Z
DTSTART;TZID=Europe/Berlin:20240207T203000
DTEND;TZID=Europe/Berlin:20240207T233000
SUMMARY:4. Kreisklasse Gruppe A SC Cosmos Wedel V vs TSV Uetersen VI (117)
UID:1f3f700f-0dc8-5b33-e063-1fc7a80a4d3b
STATUS:CONFIRMED
LAST-MODIFIED:20240809T113152Z
DESCRIPTION:4. Kreisklasse Herren Gruppe A\nBegegnungs-Nr: 117\nHeim: SC Cosmos Wedel V\nGast: TSV Uetersen VI\n
LOCATION:
CATEGORIES:Saison 2023/24
END:VEVENT
BEGIN:VEVENT
DTSTAMP:20260424T151922Z
DTSTART;TZID=Europe/Berlin:20240223T201500
DTEND;TZID=Europe/Berlin:20240223T231500
SUMMARY:4. Kreisklasse Gruppe A TSV Gut-Heil Heist IV vs TSV Uetersen VI (130)
UID:1f3f700f-0ea3-5b33-e063-1fc7a80a4d3b
STATUS:CONFIRMED
LAST-MODIFIED:20240809T113152Z
DESCRIPTION:4. Kreisklasse Herren Gruppe A\nBegegnungs-Nr: 130\nHeim: TSV Gut-Heil Heist IV\nGast: TSV Uetersen VI\n
LOCATION:
CATEGORIES:Saison 2023/24
END:VEVENT
BEGIN:VEVENT
DTSTAMP:20260424T151922Z
DTSTART;TZID=Europe/Berlin:20240322T200000
DTEND;TZID=Europe/Berlin:20240322T230000
SUMMARY:4. Kreisklasse Gruppe A SV Friedrichsgabe IV vs TSV Uetersen VI (149)
UID:1f3f700f-0fc5-5b33-e063-1fc7a80a4d3b
STATUS:CONFIRMED
LAST-MODIFIED:20240809T113152Z
DESCRIPTION:4. Kreisklasse Herren Gruppe A\nBegegnungs-Nr: 149\nHeim: SV Friedrichsgabe IV\nGast: TSV Uetersen VI\n
LOCATION:
CATEGORIES:Saison 2023/24
END:VEVENT
BEGIN:VEVENT
DTSTAMP:20260424T151922Z
DTSTART;TZID=Europe/Berlin:20240418T201500
DTEND;TZID=Europe/Berlin:20240418T231500
SUMMARY:4. Kreisklasse Gruppe A TSV Prisdorf IV vs TSV Uetersen VI (153)
UID:1f3f700f-1008-5b33-e063-1fc7a80a4d3b
STATUS:CONFIRMED
LAST-MODIFIED:20240809T113152Z
DESCRIPTION:4. Kreisklasse Herren Gruppe A\nBegegnungs-Nr: 153\nHeim: TSV Prisdorf IV\nGast: TSV Uetersen VI\n
LOCATION:
CATEGORIES:Saison 2023/24
END:VEVENT
BEGIN:VEVENT
DTSTAMP:20260424T151922Z
DTSTART;TZID=Europe/Berlin:20230911T201500
DTEND;TZID=Europe/Berlin:20230911T231500
SUMMARY:4. Kreisklasse Gruppe A TuS Hemdingen-Bilsen  vs TSV Uetersen VI (2)
UID:1f3f700f-08cf-5b33-e063-1fc7a80a4d3b
STATUS:CONFIRMED
LAST-MODIFIED:20240809T113151Z
DESCRIPTION:4. Kreisklasse Herren Gruppe A\nBegegnungs-Nr: 2\nHeim: TuS Hemdingen-Bilsen \nGast: TSV Uetersen VI\n
LOCATION:
CATEGORIES:Saison 2023/24
END:VEVENT
BEGIN:VEVENT
DTSTAMP:20260424T151922Z
DTSTART;TZID=Europe/Berlin:20230929T201500
DTEND;TZID=Europe/Berlin:20230929T231500
SUMMARY:4. Kreisklasse Gruppe A SuS Waldenau IV vs TSV Uetersen VI (14)
UID:1f3f700f-09ac-5b33-e063-1fc7a80a4d3b
STATUS:CONFIRMED
LAST-MODIFIED:20240809T113152Z
DESCRIPTION:4. Kreisklasse Herren Gruppe A\nBegegnungs-Nr: 14\nHeim: SuS Waldenau IV\nGast: TSV Uetersen VI\n
LOCATION:
CATEGORIES:Saison 2023/24
END:VEVENT
BEGIN:VEVENT
DTSTAMP:20260424T151922Z
DTSTART;TZID=Europe/Berlin:20231009T201500
DTEND;TZID=Europe/Berlin:20231009T231500
SUMMARY:4. Kreisklasse Gruppe A Post SV Elmshorn III vs TSV Uetersen VI (21)
UID:1f3f700f-0a2e-5b33-e063-1fc7a80a4d3b
STATUS:CONFIRMED
LAST-MODIFIED:20240809T113152Z
DESCRIPTION:4. Kreisklasse Herren Gruppe A\nBegegnungs-Nr: 21\nHeim: Post SV Elmshorn III\nGast: TSV Uetersen VI\n
LOCATION:
CATEGORIES:Saison 2023/24
END:VEVENT
BEGIN:VEVENT
DTSTAMP:20260424T151922Z
DTSTART;TZID=Europe/Berlin:20231115T201500
DTEND;TZID=Europe/Berlin:20231115T231500
SUMMARY:4. Kreisklasse Gruppe A TuS Esingen VII vs TSV Uetersen VI (33)
UID:1f3f700f-0b0b-5b33-e063-1fc7a80a4d3b
STATUS:CONFIRMED
LAST-MODIFIED:20240809T113152Z
DESCRIPTION:4. Kreisklasse Herren Gruppe A\nBegegnungs-Nr: 33\nHeim: TuS Esingen VII\nGast: TSV Uetersen VI\n
LOCATION:
CATEGORIES:Saison 2023/24
END:VEVENT
BEGIN:VEVENT
DTSTAMP:20260424T151922Z
DTSTART;TZID=Europe/Berlin:20231127T201500
DTEND;TZID=Europe/Berlin:20231127T231500
SUMMARY:4. Kreisklasse Gruppe A TuS Holstein Quickborn V vs TSV Uetersen VI (42)
UID:1f3f700f-0bb1-5b33-e063-1fc7a80a4d3b
STATUS:CONFIRMED
LAST-MODIFIED:20240809T113152Z
DESCRIPTION:4. Kreisklasse Herren Gruppe A\nBegegnungs-Nr: 42\nHeim: TuS Holstein Quickborn V\nGast: TSV Uetersen VI\n
LOCATION:
CATEGORIES:Saison 2023/24
END:VEVENT
END:VCALENDAR
