BEGIN:VCALENDAR
PRODID:-//nuDatenautomaten//framework iCal4j //DE
VERSION:2.0
CALSCALE:GREGORIAN
BEGIN:VTIMEZONE
TZID:Europe/Berlin
LAST-MODIFIED:20260306T231828Z
TZURL:https://www.tzurl.org/zoneinfo/Europe/Berlin
X-LIC-LOCATION:Europe/Berlin
X-PROLEPTIC-TZNAME:LMT
BEGIN:STANDARD
TZNAME:CET
TZOFFSETFROM:+005328
TZOFFSETTO:+0100
DTSTART:18930401T000000
END:STANDARD
BEGIN:DAYLIGHT
TZNAME:CEST
TZOFFSETFROM:+0100
TZOFFSETTO:+0200
DTSTART:19160430T230000
RDATE:19400401T020000
RDATE:19430329T020000
RDATE:19460414T020000
RDATE:19470406T030000
RDATE:19480418T020000
RDATE:19490410T020000
RDATE:19800406T020000
END:DAYLIGHT
BEGIN:STANDARD
TZNAME:CET
TZOFFSETFROM:+0200
TZOFFSETTO:+0100
DTSTART:19161001T010000
RDATE:19421102T030000
RDATE:19431004T030000
RDATE:19441002T030000
RDATE:19451118T030000
RDATE:19461007T030000
END:STANDARD
BEGIN:DAYLIGHT
TZNAME:CEST
TZOFFSETFROM:+0100
TZOFFSETTO:+0200
DTSTART:19170416T020000
RRULE:FREQ=YEARLY;UNTIL=19180415T010000Z;BYMONTH=4;BYDAY=3MO
END:DAYLIGHT
BEGIN:STANDARD
TZNAME:CET
TZOFFSETFROM:+0200
TZOFFSETTO:+0100
DTSTART:19170917T030000
RRULE:FREQ=YEARLY;UNTIL=19180916T010000Z;BYMONTH=9;BYDAY=3MO
END:STANDARD
BEGIN:DAYLIGHT
TZNAME:CEST
TZOFFSETFROM:+0100
TZOFFSETTO:+0200
DTSTART:19440403T020000
RRULE:FREQ=YEARLY;UNTIL=19450402T010000Z;BYMONTH=4;BYDAY=1MO
END:DAYLIGHT
BEGIN:DAYLIGHT
TZNAME:CEMT
TZOFFSETFROM:+0200
TZOFFSETTO:+0300
DTSTART:19450524T020000
RDATE:19470511T030000
END:DAYLIGHT
BEGIN:DAYLIGHT
TZNAME:CEST
TZOFFSETFROM:+0300
TZOFFSETTO:+0200
DTSTART:19450924T030000
RDATE:19470629T030000
END:DAYLIGHT
BEGIN:STANDARD
TZNAME:CET
TZOFFSETFROM:+0100
TZOFFSETTO:+0100
DTSTART:19460101T000000
RDATE:19800101T000000
END:STANDARD
BEGIN:STANDARD
TZNAME:CET
TZOFFSETFROM:+0200
TZOFFSETTO:+0100
DTSTART:19471005T030000
RRULE:FREQ=YEARLY;UNTIL=19491002T010000Z;BYMONTH=10;BYDAY=1SU
END:STANDARD
BEGIN:STANDARD
TZNAME:CET
TZOFFSETFROM:+0200
TZOFFSETTO:+0100
DTSTART:19800928T030000
RRULE:FREQ=YEARLY;UNTIL=19950924T010000Z;BYMONTH=9;BYDAY=-1SU
END:STANDARD
BEGIN:DAYLIGHT
TZNAME:CEST
TZOFFSETFROM:+0100
TZOFFSETTO:+0200
DTSTART:19810329T020000
RRULE:FREQ=YEARLY;BYMONTH=3;BYDAY=-1SU
END:DAYLIGHT
BEGIN:STANDARD
TZNAME:CET
TZOFFSETFROM:+0200
TZOFFSETTO:+0100
DTSTART:19961027T030000
RRULE:FREQ=YEARLY;BYMONTH=10;BYDAY=-1SU
END:STANDARD
END:VTIMEZONE
BEGIN:VEVENT
DTSTAMP:20260424T181607Z
DTSTART;TZID=Europe/Berlin:20230920T201500
DTEND;TZID=Europe/Berlin:20230920T231500
SUMMARY:4. Kreisklasse Gruppe B SG Kölln-Reisiek V vs TuS Esingen VIII (10)
UID:1f3f700f-10cf-5b33-e063-1fc7a80a4d3b
STATUS:CONFIRMED
LAST-MODIFIED:20240809T113152Z
DESCRIPTION:4. Kreisklasse Herren Gruppe B\nBegegnungs-Nr: 10\nHeim: SG Kölln-Reisiek V\nGast: TuS Esingen VIII\n
LOCATION:
CATEGORIES:Saison 2023/24
END:VEVENT
BEGIN:VEVENT
DTSTAMP:20260424T181607Z
DTSTART;TZID=Europe/Berlin:20231004T201500
DTEND;TZID=Europe/Berlin:20231004T231500
SUMMARY:4. Kreisklasse Gruppe B SG Kölln-Reisiek V vs SV Friedrichsgabe V (22)
UID:1f3f700f-11b6-5b33-e063-1fc7a80a4d3b
STATUS:CONFIRMED
LAST-MODIFIED:20240809T113152Z
DESCRIPTION:4. Kreisklasse Herren Gruppe B\nBegegnungs-Nr: 22\nHeim: SG Kölln-Reisiek V\nGast: SV Friedrichsgabe V\n
LOCATION:
CATEGORIES:Saison 2023/24
END:VEVENT
BEGIN:VEVENT
DTSTAMP:20260424T181607Z
DTSTART;TZID=Europe/Berlin:20231108T201500
DTEND;TZID=Europe/Berlin:20231108T231500
SUMMARY:4. Kreisklasse Gruppe B SG Kölln-Reisiek V vs SC Pinneberg III (33)
UID:1f3f700f-1288-5b33-e063-1fc7a80a4d3b
STATUS:CONFIRMED
LAST-MODIFIED:20240809T113153Z
DESCRIPTION:4. Kreisklasse Herren Gruppe B\nBegegnungs-Nr: 33\nHeim: SG Kölln-Reisiek V\nGast: SC Pinneberg III\n
LOCATION:
CATEGORIES:Saison 2023/24
END:VEVENT
BEGIN:VEVENT
DTSTAMP:20260424T181607Z
DTSTART;TZID=Europe/Berlin:20231122T201500
DTEND;TZID=Europe/Berlin:20231122T231500
SUMMARY:4. Kreisklasse Gruppe B SG Kölln-Reisiek V vs SC Cosmos Wedel VI (45)
UID:1f3f700f-1367-5b33-e063-1fc7a80a4d3b
STATUS:CONFIRMED
LAST-MODIFIED:20240809T113153Z
DESCRIPTION:4. Kreisklasse Herren Gruppe B\nBegegnungs-Nr: 45\nHeim: SG Kölln-Reisiek V\nGast: SC Cosmos Wedel VI\n
LOCATION:
CATEGORIES:Saison 2023/24
END:VEVENT
BEGIN:VEVENT
DTSTAMP:20260424T181607Z
DTSTART;TZID=Europe/Berlin:20231206T201500
DTEND;TZID=Europe/Berlin:20231206T231500
SUMMARY:4. Kreisklasse Gruppe B SG Kölln-Reisiek V vs TSV Seestermüher Marsch II (58)
UID:1f3f700f-1464-5b33-e063-1fc7a80a4d3b
STATUS:CONFIRMED
LAST-MODIFIED:20240809T113153Z
DESCRIPTION:4. Kreisklasse Herren Gruppe B\nBegegnungs-Nr: 58\nHeim: SG Kölln-Reisiek V\nGast: TSV Seestermüher Marsch II\n
LOCATION:
CATEGORIES:Saison 2023/24
END:VEVENT
BEGIN:VEVENT
DTSTAMP:20260424T181607Z
DTSTART;TZID=Europe/Berlin:20240117T201500
DTEND;TZID=Europe/Berlin:20240117T231500
SUMMARY:4. Kreisklasse Gruppe B SG Kölln-Reisiek V vs Halstenbeker TS IV (104)
UID:1f3f700f-1538-5b33-e063-1fc7a80a4d3b
STATUS:CONFIRMED
LAST-MODIFIED:20240809T113153Z
DESCRIPTION:4. Kreisklasse Herren Gruppe B\nBegegnungs-Nr: 104\nHeim: SG Kölln-Reisiek V\nGast: Halstenbeker TS IV\n
LOCATION:
CATEGORIES:Saison 2023/24
END:VEVENT
BEGIN:VEVENT
DTSTAMP:20260424T181607Z
DTSTART;TZID=Europe/Berlin:20240131T201500
DTEND;TZID=Europe/Berlin:20240131T231500
SUMMARY:4. Kreisklasse Gruppe B SG Kölln-Reisiek V vs WSG BorKum III (116)
UID:1f3f700f-1609-5b33-e063-1fc7a80a4d3b
STATUS:CONFIRMED
LAST-MODIFIED:20240809T113153Z
DESCRIPTION:4. Kreisklasse Herren Gruppe B\nBegegnungs-Nr: 116\nHeim: SG Kölln-Reisiek V\nGast: WSG BorKum III\n
LOCATION:
CATEGORIES:Saison 2023/24
END:VEVENT
BEGIN:VEVENT
DTSTAMP:20260424T181607Z
DTSTART;TZID=Europe/Berlin:20240214T201500
DTEND;TZID=Europe/Berlin:20240214T231500
SUMMARY:4. Kreisklasse Gruppe B SG Kölln-Reisiek V vs SV Hörnerkirchen II (127)
UID:1f3f700f-16d6-5b33-e063-1fc7a80a4d3b
STATUS:CONFIRMED
LAST-MODIFIED:20240809T113153Z
DESCRIPTION:4. Kreisklasse Herren Gruppe B\nBegegnungs-Nr: 127\nHeim: SG Kölln-Reisiek V\nGast: SV Hörnerkirchen II\n
LOCATION:
CATEGORIES:Saison 2023/24
END:VEVENT
BEGIN:VEVENT
DTSTAMP:20260424T181607Z
DTSTART;TZID=Europe/Berlin:20240320T201500
DTEND;TZID=Europe/Berlin:20240320T231500
SUMMARY:4. Kreisklasse Gruppe B SG Kölln-Reisiek V vs TSV Uetersen VII (139)
UID:1f3f700f-17a8-5b33-e063-1fc7a80a4d3b
STATUS:CONFIRMED
LAST-MODIFIED:20240809T113153Z
DESCRIPTION:4. Kreisklasse Herren Gruppe B\nBegegnungs-Nr: 139\nHeim: SG Kölln-Reisiek V\nGast: TSV Uetersen VII\n
LOCATION:
CATEGORIES:Saison 2023/24
END:VEVENT
BEGIN:VEVENT
DTSTAMP:20260424T181607Z
DTSTART;TZID=Europe/Berlin:20240313T201500
DTEND;TZID=Europe/Berlin:20240313T231500
SUMMARY:4. Kreisklasse Gruppe B SG Kölln-Reisiek V vs SV Lieth II (152)
UID:1f3f700f-189e-5b33-e063-1fc7a80a4d3b
STATUS:CONFIRMED
LAST-MODIFIED:20240809T113153Z
DESCRIPTION:4. Kreisklasse Herren Gruppe B\nBegegnungs-Nr: 152\nHeim: SG Kölln-Reisiek V\nGast: SV Lieth II\n
LOCATION:
CATEGORIES:Saison 2023/24
END:VEVENT
BEGIN:VEVENT
DTSTAMP:20260424T181607Z
DTSTART;TZID=Europe/Berlin:20240327T201500
DTEND;TZID=Europe/Berlin:20240327T231500
SUMMARY:4. Kreisklasse Gruppe B SG Kölln-Reisiek V vs Moorreger SV VIII (164)
UID:1f3f700f-1958-5b33-e063-1fc7a80a4d3b
STATUS:CONFIRMED
LAST-MODIFIED:20240809T113153Z
DESCRIPTION:4. Kreisklasse Herren Gruppe B\nBegegnungs-Nr: 164\nHeim: SG Kölln-Reisiek V\nGast: Moorreger SV VIII\n
LOCATION:
CATEGORIES:Saison 2023/24
END:VEVENT
BEGIN:VEVENT
DTSTAMP:20260424T181607Z
DTSTART;TZID=Europe/Berlin:20230911T200000
DTEND;TZID=Europe/Berlin:20230911T230000
SUMMARY:4. Kreisklasse Gruppe B Halstenbeker TS IV vs SG Kölln-Reisiek V (1)
UID:1f3f700f-102d-5b33-e063-1fc7a80a4d3b
STATUS:CONFIRMED
LAST-MODIFIED:20240809T113152Z
DESCRIPTION:4. Kreisklasse Herren Gruppe B\nBegegnungs-Nr: 1\nHeim: Halstenbeker TS IV\nGast: SG Kölln-Reisiek V\n
LOCATION:
CATEGORIES:Saison 2023/24
END:VEVENT
BEGIN:VEVENT
DTSTAMP:20260424T181607Z
DTSTART;TZID=Europe/Berlin:20230926T200000
DTEND;TZID=Europe/Berlin:20230926T230000
SUMMARY:4. Kreisklasse Gruppe B WSG BorKum III vs SG Kölln-Reisiek V (15)
UID:1f3f700f-112e-5b33-e063-1fc7a80a4d3b
STATUS:CONFIRMED
LAST-MODIFIED:20240809T113152Z
DESCRIPTION:4. Kreisklasse Herren Gruppe B\nBegegnungs-Nr: 15\nHeim: WSG BorKum III\nGast: SG Kölln-Reisiek V\n
LOCATION:
CATEGORIES:Saison 2023/24
END:VEVENT
BEGIN:VEVENT
DTSTAMP:20260424T181607Z
DTSTART;TZID=Europe/Berlin:20231009T201500
DTEND;TZID=Europe/Berlin:20231009T231500
SUMMARY:4. Kreisklasse Gruppe B SV Hörnerkirchen II vs SG Kölln-Reisiek V (27)
UID:1f3f700f-1217-5b33-e063-1fc7a80a4d3b
STATUS:CONFIRMED
LAST-MODIFIED:20240809T113153Z
DESCRIPTION:4. Kreisklasse Herren Gruppe B\nBegegnungs-Nr: 27\nHeim: SV Hörnerkirchen II\nGast: SG Kölln-Reisiek V\n
LOCATION:
CATEGORIES:Saison 2023/24
END:VEVENT
BEGIN:VEVENT
DTSTAMP:20260424T181607Z
DTSTART;TZID=Europe/Berlin:20231117T201500
DTEND;TZID=Europe/Berlin:20231117T231500
SUMMARY:4. Kreisklasse Gruppe B TSV Uetersen VII vs SG Kölln-Reisiek V (41)
UID:1f3f700f-1321-5b33-e063-1fc7a80a4d3b
STATUS:CONFIRMED
LAST-MODIFIED:20240809T113153Z
DESCRIPTION:4. Kreisklasse Herren Gruppe B\nBegegnungs-Nr: 41\nHeim: TSV Uetersen VII\nGast: SG Kölln-Reisiek V\n
LOCATION:
CATEGORIES:Saison 2023/24
END:VEVENT
BEGIN:VEVENT
DTSTAMP:20260424T181607Z
DTSTART;TZID=Europe/Berlin:20231201T201500
DTEND;TZID=Europe/Berlin:20231201T231500
SUMMARY:4. Kreisklasse Gruppe B SV Lieth II vs SG Kölln-Reisiek V (53)
UID:1f3f700f-1402-5b33-e063-1fc7a80a4d3b
STATUS:CONFIRMED
LAST-MODIFIED:20240809T113153Z
DESCRIPTION:4. Kreisklasse Herren Gruppe B\nBegegnungs-Nr: 53\nHeim: SV Lieth II\nGast: SG Kölln-Reisiek V\n
LOCATION:
CATEGORIES:Saison 2023/24
END:VEVENT
BEGIN:VEVENT
DTSTAMP:20260424T181607Z
DTSTART;TZID=Europe/Berlin:20231211T201500
DTEND;TZID=Europe/Berlin:20231211T231500
SUMMARY:4. Kreisklasse Gruppe B Moorreger SV VIII vs SG Kölln-Reisiek V (62)
UID:1f3f700f-14b1-5b33-e063-1fc7a80a4d3b
STATUS:CONFIRMED
LAST-MODIFIED:20240809T113153Z
DESCRIPTION:4. Kreisklasse Herren Gruppe B\nBegegnungs-Nr: 62\nHeim: Moorreger SV VIII\nGast: SG Kölln-Reisiek V\n
LOCATION:
CATEGORIES:Saison 2023/24
END:VEVENT
BEGIN:VEVENT
DTSTAMP:20260424T181607Z
DTSTART;TZID=Europe/Berlin:20240124T201500
DTEND;TZID=Europe/Berlin:20240124T231500
SUMMARY:4. Kreisklasse Gruppe B TuS Esingen VIII vs SG Kölln-Reisiek V (110)
UID:1f3f700f-159d-5b33-e063-1fc7a80a4d3b
STATUS:CONFIRMED
LAST-MODIFIED:20240809T113153Z
DESCRIPTION:4. Kreisklasse Herren Gruppe B\nBegegnungs-Nr: 110\nHeim: TuS Esingen VIII\nGast: SG Kölln-Reisiek V\n
LOCATION:
CATEGORIES:Saison 2023/24
END:VEVENT
BEGIN:VEVENT
DTSTAMP:20260424T181607Z
DTSTART;TZID=Europe/Berlin:20240208T201500
DTEND;TZID=Europe/Berlin:20240208T231500
SUMMARY:4. Kreisklasse Gruppe B SV Friedrichsgabe V vs SG Kölln-Reisiek V (123)
UID:1f3f700f-168f-5b33-e063-1fc7a80a4d3b
STATUS:CONFIRMED
LAST-MODIFIED:20240809T113153Z
DESCRIPTION:4. Kreisklasse Herren Gruppe B\nBegegnungs-Nr: 123\nHeim: SV Friedrichsgabe V\nGast: SG Kölln-Reisiek V\n
LOCATION:
CATEGORIES:Saison 2023/24
END:VEVENT
BEGIN:VEVENT
DTSTAMP:20260424T181607Z
DTSTART;TZID=Europe/Berlin:20240219T200000
DTEND;TZID=Europe/Berlin:20240219T230000
SUMMARY:4. Kreisklasse Gruppe B SC Pinneberg III vs SG Kölln-Reisiek V (132)
UID:1f3f700f-173c-5b33-e063-1fc7a80a4d3b
STATUS:CONFIRMED
LAST-MODIFIED:20240809T113153Z
DESCRIPTION:4. Kreisklasse Herren Gruppe B\nBegegnungs-Nr: 132\nHeim: SC Pinneberg III\nGast: SG Kölln-Reisiek V\n
LOCATION:
CATEGORIES:Saison 2023/24
END:VEVENT
BEGIN:VEVENT
DTSTAMP:20260424T181607Z
DTSTART;TZID=Europe/Berlin:20240305T203000
DTEND;TZID=Europe/Berlin:20240305T233000
SUMMARY:4. Kreisklasse Gruppe B SC Cosmos Wedel VI vs SG Kölln-Reisiek V (146)
UID:1f3f700f-182d-5b33-e063-1fc7a80a4d3b
STATUS:CONFIRMED
LAST-MODIFIED:20240809T113153Z
DESCRIPTION:4. Kreisklasse Herren Gruppe B\nBegegnungs-Nr: 146\nHeim: SC Cosmos Wedel VI\nGast: SG Kölln-Reisiek V\n
LOCATION:
CATEGORIES:Saison 2023/24
END:VEVENT
BEGIN:VEVENT
DTSTAMP:20260424T181607Z
DTSTART;TZID=Europe/Berlin:20240318T201500
DTEND;TZID=Europe/Berlin:20240318T231500
SUMMARY:4. Kreisklasse Gruppe B TSV Seestermüher Marsch II vs SG Kölln-Reisiek V (160)
UID:1f3f700f-190b-5b33-e063-1fc7a80a4d3b
STATUS:CONFIRMED
LAST-MODIFIED:20240809T113153Z
DESCRIPTION:4. Kreisklasse Herren Gruppe B\nBegegnungs-Nr: 160\nHeim: TSV Seestermüher Marsch II\nGast: SG Kölln-Reisiek V\n
LOCATION:
CATEGORIES:Saison 2023/24
END:VEVENT
END:VCALENDAR
