BEGIN:VCALENDAR
PRODID:-//nuDatenautomaten//framework iCal4j //DE
VERSION:2.0
CALSCALE:GREGORIAN
BEGIN:VTIMEZONE
TZID:Europe/Berlin
LAST-MODIFIED:20260306T231828Z
TZURL:https://www.tzurl.org/zoneinfo/Europe/Berlin
X-LIC-LOCATION:Europe/Berlin
X-PROLEPTIC-TZNAME:LMT
BEGIN:STANDARD
TZNAME:CET
TZOFFSETFROM:+005328
TZOFFSETTO:+0100
DTSTART:18930401T000000
END:STANDARD
BEGIN:DAYLIGHT
TZNAME:CEST
TZOFFSETFROM:+0100
TZOFFSETTO:+0200
DTSTART:19160430T230000
RDATE:19400401T020000
RDATE:19430329T020000
RDATE:19460414T020000
RDATE:19470406T030000
RDATE:19480418T020000
RDATE:19490410T020000
RDATE:19800406T020000
END:DAYLIGHT
BEGIN:STANDARD
TZNAME:CET
TZOFFSETFROM:+0200
TZOFFSETTO:+0100
DTSTART:19161001T010000
RDATE:19421102T030000
RDATE:19431004T030000
RDATE:19441002T030000
RDATE:19451118T030000
RDATE:19461007T030000
END:STANDARD
BEGIN:DAYLIGHT
TZNAME:CEST
TZOFFSETFROM:+0100
TZOFFSETTO:+0200
DTSTART:19170416T020000
RRULE:FREQ=YEARLY;UNTIL=19180415T010000Z;BYMONTH=4;BYDAY=3MO
END:DAYLIGHT
BEGIN:STANDARD
TZNAME:CET
TZOFFSETFROM:+0200
TZOFFSETTO:+0100
DTSTART:19170917T030000
RRULE:FREQ=YEARLY;UNTIL=19180916T010000Z;BYMONTH=9;BYDAY=3MO
END:STANDARD
BEGIN:DAYLIGHT
TZNAME:CEST
TZOFFSETFROM:+0100
TZOFFSETTO:+0200
DTSTART:19440403T020000
RRULE:FREQ=YEARLY;UNTIL=19450402T010000Z;BYMONTH=4;BYDAY=1MO
END:DAYLIGHT
BEGIN:DAYLIGHT
TZNAME:CEMT
TZOFFSETFROM:+0200
TZOFFSETTO:+0300
DTSTART:19450524T020000
RDATE:19470511T030000
END:DAYLIGHT
BEGIN:DAYLIGHT
TZNAME:CEST
TZOFFSETFROM:+0300
TZOFFSETTO:+0200
DTSTART:19450924T030000
RDATE:19470629T030000
END:DAYLIGHT
BEGIN:STANDARD
TZNAME:CET
TZOFFSETFROM:+0100
TZOFFSETTO:+0100
DTSTART:19460101T000000
RDATE:19800101T000000
END:STANDARD
BEGIN:STANDARD
TZNAME:CET
TZOFFSETFROM:+0200
TZOFFSETTO:+0100
DTSTART:19471005T030000
RRULE:FREQ=YEARLY;UNTIL=19491002T010000Z;BYMONTH=10;BYDAY=1SU
END:STANDARD
BEGIN:STANDARD
TZNAME:CET
TZOFFSETFROM:+0200
TZOFFSETTO:+0100
DTSTART:19800928T030000
RRULE:FREQ=YEARLY;UNTIL=19950924T010000Z;BYMONTH=9;BYDAY=-1SU
END:STANDARD
BEGIN:DAYLIGHT
TZNAME:CEST
TZOFFSETFROM:+0100
TZOFFSETTO:+0200
DTSTART:19810329T020000
RRULE:FREQ=YEARLY;BYMONTH=3;BYDAY=-1SU
END:DAYLIGHT
BEGIN:STANDARD
TZNAME:CET
TZOFFSETFROM:+0200
TZOFFSETTO:+0100
DTSTART:19961027T030000
RRULE:FREQ=YEARLY;BYMONTH=10;BYDAY=-1SU
END:STANDARD
END:VTIMEZONE
BEGIN:VEVENT
DTSTAMP:20260425T174439Z
DTSTART;TZID=Europe/Berlin:20240326T193000
DTEND;TZID=Europe/Berlin:20240326T223000
SUMMARY:1. Kreisklasse SG Westend Neumünster  vs SV Bönebüttel-Husberg II (42)
UID:1f3f700e-4957-5b33-e063-1fc7a80a4d3b
STATUS:CONFIRMED
LAST-MODIFIED:20240809T113129Z
DESCRIPTION:1. Kreisklasse Herren\nBegegnungs-Nr: 42\nHeim: SG Westend Neumünster \nGast: SV Bönebüttel-Husberg II\n
LOCATION:
CATEGORIES:Saison 2023/24
END:VEVENT
BEGIN:VEVENT
DTSTAMP:20260425T174439Z
DTSTART;TZID=Europe/Berlin:20231010T193000
DTEND;TZID=Europe/Berlin:20231010T223000
SUMMARY:1. Kreisklasse SG Westend Neumünster  vs SV Tungendorf III (25)
UID:1f3f700e-4401-5b33-e063-1fc7a80a4d3b
STATUS:CONFIRMED
LAST-MODIFIED:20240809T113129Z
DESCRIPTION:1. Kreisklasse Herren\nBegegnungs-Nr: 25\nHeim: SG Westend Neumünster \nGast: SV Tungendorf III\n
LOCATION:
CATEGORIES:Saison 2023/24
END:VEVENT
BEGIN:VEVENT
DTSTAMP:20260425T174439Z
DTSTART;TZID=Europe/Berlin:20231107T193000
DTEND;TZID=Europe/Berlin:20231107T223000
SUMMARY:1. Kreisklasse SG Westend Neumünster  vs TTC Rendswühren  (35)
UID:1f3f700e-44c6-5b33-e063-1fc7a80a4d3b
STATUS:CONFIRMED
LAST-MODIFIED:20240809T113129Z
DESCRIPTION:1. Kreisklasse Herren\nBegegnungs-Nr: 35\nHeim: SG Westend Neumünster \nGast: TTC Rendswühren \n
LOCATION:
CATEGORIES:Saison 2023/24
END:VEVENT
BEGIN:VEVENT
DTSTAMP:20260425T174439Z
DTSTART;TZID=Europe/Berlin:20231128T193000
DTEND;TZID=Europe/Berlin:20231128T223000
SUMMARY:1. Kreisklasse SG Westend Neumünster  vs SV Boostedt IV (51)
UID:1f3f700e-45eb-5b33-e063-1fc7a80a4d3b
STATUS:CONFIRMED
LAST-MODIFIED:20240809T113129Z
DESCRIPTION:1. Kreisklasse Herren\nBegegnungs-Nr: 51\nHeim: SG Westend Neumünster \nGast: SV Boostedt IV\n
LOCATION:
CATEGORIES:Saison 2023/24
END:VEVENT
BEGIN:VEVENT
DTSTAMP:20260425T174439Z
DTSTART;TZID=Europe/Berlin:20240227T193000
DTEND;TZID=Europe/Berlin:20240227T223000
SUMMARY:1. Kreisklasse SG Westend Neumünster  vs SV Wasbek III (3)
UID:1f3f700e-4671-5b33-e063-1fc7a80a4d3b
STATUS:CONFIRMED
LAST-MODIFIED:20240809T113129Z
DESCRIPTION:1. Kreisklasse Herren\nBegegnungs-Nr: 3\nHeim: SG Westend Neumünster \nGast: SV Wasbek III\n
LOCATION:
CATEGORIES:Saison 2023/24
END:VEVENT
BEGIN:VEVENT
DTSTAMP:20260425T174439Z
DTSTART;TZID=Europe/Berlin:20240311T191500
DTEND;TZID=Europe/Berlin:20240311T221500
SUMMARY:1. Kreisklasse SG Westend Neumünster  vs TSV 05 Neumünster II (7)
UID:1f3f700e-46bb-5b33-e063-1fc7a80a4d3b
STATUS:CONFIRMED
LAST-MODIFIED:20240809T113129Z
DESCRIPTION:1. Kreisklasse Herren\nBegegnungs-Nr: 7\nHeim: SG Westend Neumünster \nGast: TSV 05 Neumünster II\n
LOCATION:
CATEGORIES:Saison 2023/24
END:VEVENT
BEGIN:VEVENT
DTSTAMP:20260425T174439Z
DTSTART;TZID=Europe/Berlin:20240219T193000
DTEND;TZID=Europe/Berlin:20240219T223000
SUMMARY:1. Kreisklasse SG Westend Neumünster  vs SV Boostedt III (12)
UID:1f3f700e-4718-5b33-e063-1fc7a80a4d3b
STATUS:CONFIRMED
LAST-MODIFIED:20240809T113129Z
DESCRIPTION:1. Kreisklasse Herren\nBegegnungs-Nr: 12\nHeim: SG Westend Neumünster \nGast: SV Boostedt III\n
LOCATION:
CATEGORIES:Saison 2023/24
END:VEVENT
BEGIN:VEVENT
DTSTAMP:20260425T174439Z
DTSTART;TZID=Europe/Berlin:20240319T193000
DTEND;TZID=Europe/Berlin:20240319T223000
SUMMARY:1. Kreisklasse SG Westend Neumünster  vs TS Einfeld Neumünster V (20)
UID:1f3f700e-47af-5b33-e063-1fc7a80a4d3b
STATUS:CONFIRMED
LAST-MODIFIED:20240809T113129Z
DESCRIPTION:1. Kreisklasse Herren\nBegegnungs-Nr: 20\nHeim: SG Westend Neumünster \nGast: TS Einfeld Neumünster V\n
LOCATION:
CATEGORIES:Saison 2023/24
END:VEVENT
BEGIN:VEVENT
DTSTAMP:20260425T174439Z
DTSTART;TZID=Europe/Berlin:20240213T193000
DTEND;TZID=Europe/Berlin:20240213T223000
SUMMARY:1. Kreisklasse SG Westend Neumünster  vs Polizei SV Neumünster IV (23)
UID:1f3f700e-47e8-5b33-e063-1fc7a80a4d3b
STATUS:CONFIRMED
LAST-MODIFIED:20240809T113129Z
DESCRIPTION:1. Kreisklasse Herren\nBegegnungs-Nr: 23\nHeim: SG Westend Neumünster \nGast: Polizei SV Neumünster IV\n
LOCATION:
CATEGORIES:Saison 2023/24
END:VEVENT
BEGIN:VEVENT
DTSTAMP:20260425T174439Z
DTSTART;TZID=Europe/Berlin:20240116T193000
DTEND;TZID=Europe/Berlin:20240116T223000
SUMMARY:1. Kreisklasse SG Westend Neumünster  vs SG Westend Neumünster II (32)
UID:1f3f700e-4891-5b33-e063-1fc7a80a4d3b
STATUS:CONFIRMED
LAST-MODIFIED:20240809T113129Z
DESCRIPTION:1. Kreisklasse Herren\nBegegnungs-Nr: 32\nHeim: SG Westend Neumünster \nGast: SG Westend Neumünster II\n
LOCATION:
CATEGORIES:Saison 2023/24
END:VEVENT
BEGIN:VEVENT
DTSTAMP:20260425T174439Z
DTSTART;TZID=Europe/Berlin:20240315T193000
DTEND;TZID=Europe/Berlin:20240315T223000
SUMMARY:1. Kreisklasse SV Boostedt IV vs SG Westend Neumünster  (55)
UID:1f3f700e-4a4a-5b33-e063-1fc7a80a4d3b
STATUS:CONFIRMED
LAST-MODIFIED:20240809T113129Z
DESCRIPTION:1. Kreisklasse Herren\nBegegnungs-Nr: 55\nHeim: SV Boostedt IV\nGast: SG Westend Neumünster \n
LOCATION:
CATEGORIES:Saison 2023/24
END:VEVENT
BEGIN:VEVENT
DTSTAMP:20260425T174439Z
DTSTART;TZID=Europe/Berlin:20230829T193000
DTEND;TZID=Europe/Berlin:20230829T223000
SUMMARY:1. Kreisklasse SG Westend Neumünster II vs SG Westend Neumünster  (1)
UID:1f3f700e-423f-5b33-e063-1fc7a80a4d3b
STATUS:CONFIRMED
LAST-MODIFIED:20240809T113129Z
DESCRIPTION:1. Kreisklasse Herren\nBegegnungs-Nr: 1\nHeim: SG Westend Neumünster II\nGast: SG Westend Neumünster \n
LOCATION:
CATEGORIES:Saison 2023/24
END:VEVENT
BEGIN:VEVENT
DTSTAMP:20260425T174439Z
DTSTART;TZID=Europe/Berlin:20230904T193000
DTEND;TZID=Europe/Berlin:20230904T223000
SUMMARY:1. Kreisklasse SV Wasbek III vs SG Westend Neumünster  (3)
UID:1f3f700e-4262-5b33-e063-1fc7a80a4d3b
STATUS:CONFIRMED
LAST-MODIFIED:20240809T113129Z
DESCRIPTION:1. Kreisklasse Herren\nBegegnungs-Nr: 3\nHeim: SV Wasbek III\nGast: SG Westend Neumünster \n
LOCATION:
CATEGORIES:Saison 2023/24
END:VEVENT
BEGIN:VEVENT
DTSTAMP:20260425T174439Z
DTSTART;TZID=Europe/Berlin:20230922T193000
DTEND;TZID=Europe/Berlin:20230922T223000
SUMMARY:1. Kreisklasse SV Boostedt III vs SG Westend Neumünster  (15)
UID:1f3f700e-4347-5b33-e063-1fc7a80a4d3b
STATUS:CONFIRMED
LAST-MODIFIED:20240809T113129Z
DESCRIPTION:1. Kreisklasse Herren\nBegegnungs-Nr: 15\nHeim: SV Boostedt III\nGast: SG Westend Neumünster \n
LOCATION:
CATEGORIES:Saison 2023/24
END:VEVENT
BEGIN:VEVENT
DTSTAMP:20260425T174439Z
DTSTART;TZID=Europe/Berlin:20231005T193000
DTEND;TZID=Europe/Berlin:20231005T223000
SUMMARY:1. Kreisklasse Polizei SV Neumünster IV vs SG Westend Neumünster  (19)
UID:1f3f700e-438e-5b33-e063-1fc7a80a4d3b
STATUS:CONFIRMED
LAST-MODIFIED:20240809T113129Z
DESCRIPTION:1. Kreisklasse Herren\nBegegnungs-Nr: 19\nHeim: Polizei SV Neumünster IV\nGast: SG Westend Neumünster \n
LOCATION:
CATEGORIES:Saison 2023/24
END:VEVENT
BEGIN:VEVENT
DTSTAMP:20260425T174439Z
DTSTART;TZID=Europe/Berlin:20231113T193000
DTEND;TZID=Europe/Berlin:20231113T223000
SUMMARY:1. Kreisklasse TS Einfeld Neumünster V vs SG Westend Neumünster  (38)
UID:1f3f700e-44fc-5b33-e063-1fc7a80a4d3b
STATUS:CONFIRMED
LAST-MODIFIED:20240809T113129Z
DESCRIPTION:1. Kreisklasse Herren\nBegegnungs-Nr: 38\nHeim: TS Einfeld Neumünster V\nGast: SG Westend Neumünster \n
LOCATION:
CATEGORIES:Saison 2023/24
END:VEVENT
BEGIN:VEVENT
DTSTAMP:20260425T174439Z
DTSTART;TZID=Europe/Berlin:20231115T190000
DTEND;TZID=Europe/Berlin:20231115T220000
SUMMARY:1. Kreisklasse SV Bönebüttel-Husberg II vs SG Westend Neumünster  (40)
UID:1f3f700e-451e-5b33-e063-1fc7a80a4d3b
STATUS:CONFIRMED
LAST-MODIFIED:20240809T113129Z
DESCRIPTION:1. Kreisklasse Herren\nBegegnungs-Nr: 40\nHeim: SV Bönebüttel-Husberg II\nGast: SG Westend Neumünster \n
LOCATION:
CATEGORIES:Saison 2023/24
END:VEVENT
BEGIN:VEVENT
DTSTAMP:20260425T174439Z
DTSTART;TZID=Europe/Berlin:20231206T193000
DTEND;TZID=Europe/Berlin:20231206T223000
SUMMARY:1. Kreisklasse TSV 05 Neumünster II vs SG Westend Neumünster  (53)
UID:1f3f700e-4611-5b33-e063-1fc7a80a4d3b
STATUS:CONFIRMED
LAST-MODIFIED:20240809T113129Z
DESCRIPTION:1. Kreisklasse Herren\nBegegnungs-Nr: 53\nHeim: TSV 05 Neumünster II\nGast: SG Westend Neumünster \n
LOCATION:
CATEGORIES:Saison 2023/24
END:VEVENT
BEGIN:VEVENT
DTSTAMP:20260425T174439Z
DTSTART;TZID=Europe/Berlin:20240223T193000
DTEND;TZID=Europe/Berlin:20240223T223000
SUMMARY:1. Kreisklasse SV Tungendorf III vs SG Westend Neumünster  (28)
UID:1f3f700e-4845-5b33-e063-1fc7a80a4d3b
STATUS:CONFIRMED
LAST-MODIFIED:20240809T113129Z
DESCRIPTION:1. Kreisklasse Herren\nBegegnungs-Nr: 28\nHeim: SV Tungendorf III\nGast: SG Westend Neumünster \n
LOCATION:
CATEGORIES:Saison 2023/24
END:VEVENT
BEGIN:VEVENT
DTSTAMP:20260425T174439Z
DTSTART;TZID=Europe/Berlin:20240304T193000
DTEND;TZID=Europe/Berlin:20240304T223000
SUMMARY:1. Kreisklasse TTC Rendswühren  vs SG Westend Neumünster  (36)
UID:1f3f700e-48e2-5b33-e063-1fc7a80a4d3b
STATUS:CONFIRMED
LAST-MODIFIED:20240809T113129Z
DESCRIPTION:1. Kreisklasse Herren\nBegegnungs-Nr: 36\nHeim: TTC Rendswühren \nGast: SG Westend Neumünster \n
LOCATION:
CATEGORIES:Saison 2023/24
END:VEVENT
END:VCALENDAR
