BEGIN:VCALENDAR
PRODID:-//nuDatenautomaten//framework iCal4j //DE
VERSION:2.0
CALSCALE:GREGORIAN
BEGIN:VTIMEZONE
TZID:Europe/Berlin
LAST-MODIFIED:20260306T231828Z
TZURL:https://www.tzurl.org/zoneinfo/Europe/Berlin
X-LIC-LOCATION:Europe/Berlin
X-PROLEPTIC-TZNAME:LMT
BEGIN:STANDARD
TZNAME:CET
TZOFFSETFROM:+005328
TZOFFSETTO:+0100
DTSTART:18930401T000000
END:STANDARD
BEGIN:DAYLIGHT
TZNAME:CEST
TZOFFSETFROM:+0100
TZOFFSETTO:+0200
DTSTART:19160430T230000
RDATE:19400401T020000
RDATE:19430329T020000
RDATE:19460414T020000
RDATE:19470406T030000
RDATE:19480418T020000
RDATE:19490410T020000
RDATE:19800406T020000
END:DAYLIGHT
BEGIN:STANDARD
TZNAME:CET
TZOFFSETFROM:+0200
TZOFFSETTO:+0100
DTSTART:19161001T010000
RDATE:19421102T030000
RDATE:19431004T030000
RDATE:19441002T030000
RDATE:19451118T030000
RDATE:19461007T030000
END:STANDARD
BEGIN:DAYLIGHT
TZNAME:CEST
TZOFFSETFROM:+0100
TZOFFSETTO:+0200
DTSTART:19170416T020000
RRULE:FREQ=YEARLY;UNTIL=19180415T010000Z;BYMONTH=4;BYDAY=3MO
END:DAYLIGHT
BEGIN:STANDARD
TZNAME:CET
TZOFFSETFROM:+0200
TZOFFSETTO:+0100
DTSTART:19170917T030000
RRULE:FREQ=YEARLY;UNTIL=19180916T010000Z;BYMONTH=9;BYDAY=3MO
END:STANDARD
BEGIN:DAYLIGHT
TZNAME:CEST
TZOFFSETFROM:+0100
TZOFFSETTO:+0200
DTSTART:19440403T020000
RRULE:FREQ=YEARLY;UNTIL=19450402T010000Z;BYMONTH=4;BYDAY=1MO
END:DAYLIGHT
BEGIN:DAYLIGHT
TZNAME:CEMT
TZOFFSETFROM:+0200
TZOFFSETTO:+0300
DTSTART:19450524T020000
RDATE:19470511T030000
END:DAYLIGHT
BEGIN:DAYLIGHT
TZNAME:CEST
TZOFFSETFROM:+0300
TZOFFSETTO:+0200
DTSTART:19450924T030000
RDATE:19470629T030000
END:DAYLIGHT
BEGIN:STANDARD
TZNAME:CET
TZOFFSETFROM:+0100
TZOFFSETTO:+0100
DTSTART:19460101T000000
RDATE:19800101T000000
END:STANDARD
BEGIN:STANDARD
TZNAME:CET
TZOFFSETFROM:+0200
TZOFFSETTO:+0100
DTSTART:19471005T030000
RRULE:FREQ=YEARLY;UNTIL=19491002T010000Z;BYMONTH=10;BYDAY=1SU
END:STANDARD
BEGIN:STANDARD
TZNAME:CET
TZOFFSETFROM:+0200
TZOFFSETTO:+0100
DTSTART:19800928T030000
RRULE:FREQ=YEARLY;UNTIL=19950924T010000Z;BYMONTH=9;BYDAY=-1SU
END:STANDARD
BEGIN:DAYLIGHT
TZNAME:CEST
TZOFFSETFROM:+0100
TZOFFSETTO:+0200
DTSTART:19810329T020000
RRULE:FREQ=YEARLY;BYMONTH=3;BYDAY=-1SU
END:DAYLIGHT
BEGIN:STANDARD
TZNAME:CET
TZOFFSETFROM:+0200
TZOFFSETTO:+0100
DTSTART:19961027T030000
RRULE:FREQ=YEARLY;BYMONTH=10;BYDAY=-1SU
END:STANDARD
END:VTIMEZONE
BEGIN:VEVENT
DTSTAMP:20260424T164522Z
DTSTART;TZID=Europe/Berlin:20240318T193000
DTEND;TZID=Europe/Berlin:20240318T223000
SUMMARY:1. Kreisklasse TTC Rendswühren  vs SV Wasbek III (46)
UID:1f3f700e-49a5-5b33-e063-1fc7a80a4d3b
STATUS:CONFIRMED
LAST-MODIFIED:20240809T113129Z
DESCRIPTION:1. Kreisklasse Herren\nBegegnungs-Nr: 46\nHeim: TTC Rendswühren \nGast: SV Wasbek III\n
LOCATION:
CATEGORIES:Saison 2023/24
END:VEVENT
BEGIN:VEVENT
DTSTAMP:20260424T164522Z
DTSTART;TZID=Europe/Berlin:20240408T193000
DTEND;TZID=Europe/Berlin:20240408T223000
SUMMARY:1. Kreisklasse TTC Rendswühren  vs TSV 05 Neumünster II (52)
UID:1f3f700e-4a12-5b33-e063-1fc7a80a4d3b
STATUS:CONFIRMED
LAST-MODIFIED:20240809T113129Z
DESCRIPTION:1. Kreisklasse Herren\nBegegnungs-Nr: 52\nHeim: TTC Rendswühren \nGast: TSV 05 Neumünster II\n
LOCATION:
CATEGORIES:Saison 2023/24
END:VEVENT
BEGIN:VEVENT
DTSTAMP:20260424T164522Z
DTSTART;TZID=Europe/Berlin:20230911T193000
DTEND;TZID=Europe/Berlin:20230911T223000
SUMMARY:1. Kreisklasse TTC Rendswühren  vs TS Einfeld Neumünster V (7)
UID:1f3f700e-42b1-5b33-e063-1fc7a80a4d3b
STATUS:CONFIRMED
LAST-MODIFIED:20240809T113129Z
DESCRIPTION:1. Kreisklasse Herren\nBegegnungs-Nr: 7\nHeim: TTC Rendswühren \nGast: TS Einfeld Neumünster V\n
LOCATION:
CATEGORIES:Saison 2023/24
END:VEVENT
BEGIN:VEVENT
DTSTAMP:20260424T164522Z
DTSTART;TZID=Europe/Berlin:20230925T193000
DTEND;TZID=Europe/Berlin:20230925T223000
SUMMARY:1. Kreisklasse TTC Rendswühren  vs SV Tungendorf III (16)
UID:1f3f700e-435b-5b33-e063-1fc7a80a4d3b
STATUS:CONFIRMED
LAST-MODIFIED:20240809T113129Z
DESCRIPTION:1. Kreisklasse Herren\nBegegnungs-Nr: 16\nHeim: TTC Rendswühren \nGast: SV Tungendorf III\n
LOCATION:
CATEGORIES:Saison 2023/24
END:VEVENT
BEGIN:VEVENT
DTSTAMP:20260424T164522Z
DTSTART;TZID=Europe/Berlin:20231009T193000
DTEND;TZID=Europe/Berlin:20231009T223000
SUMMARY:1. Kreisklasse TTC Rendswühren  vs SG Westend Neumünster II (23)
UID:1f3f700e-43db-5b33-e063-1fc7a80a4d3b
STATUS:CONFIRMED
LAST-MODIFIED:20240809T113129Z
DESCRIPTION:1. Kreisklasse Herren\nBegegnungs-Nr: 23\nHeim: TTC Rendswühren \nGast: SG Westend Neumünster II\n
LOCATION:
CATEGORIES:Saison 2023/24
END:VEVENT
BEGIN:VEVENT
DTSTAMP:20260424T164522Z
DTSTART;TZID=Europe/Berlin:20231030T193000
DTEND;TZID=Europe/Berlin:20231030T223000
SUMMARY:1. Kreisklasse TTC Rendswühren  vs SV Bönebüttel-Husberg II (31)
UID:1f3f700e-4478-5b33-e063-1fc7a80a4d3b
STATUS:CONFIRMED
LAST-MODIFIED:20240809T113129Z
DESCRIPTION:1. Kreisklasse Herren\nBegegnungs-Nr: 31\nHeim: TTC Rendswühren \nGast: SV Bönebüttel-Husberg II\n
LOCATION:
CATEGORIES:Saison 2023/24
END:VEVENT
BEGIN:VEVENT
DTSTAMP:20260424T164522Z
DTSTART;TZID=Europe/Berlin:20231113T193000
DTEND;TZID=Europe/Berlin:20231113T223000
SUMMARY:1. Kreisklasse TTC Rendswühren  vs SV Boostedt IV (37)
UID:1f3f700e-44e7-5b33-e063-1fc7a80a4d3b
STATUS:CONFIRMED
LAST-MODIFIED:20240809T113129Z
DESCRIPTION:1. Kreisklasse Herren\nBegegnungs-Nr: 37\nHeim: TTC Rendswühren \nGast: SV Boostedt IV\n
LOCATION:
CATEGORIES:Saison 2023/24
END:VEVENT
BEGIN:VEVENT
DTSTAMP:20260424T164522Z
DTSTART;TZID=Europe/Berlin:20231127T193000
DTEND;TZID=Europe/Berlin:20231127T223000
SUMMARY:1. Kreisklasse TTC Rendswühren  vs TSV 05 Neumünster II (48)
UID:1f3f700e-45b0-5b33-e063-1fc7a80a4d3b
STATUS:CONFIRMED
LAST-MODIFIED:20240809T113129Z
DESCRIPTION:1. Kreisklasse Herren\nBegegnungs-Nr: 48\nHeim: TTC Rendswühren \nGast: TSV 05 Neumünster II\n
LOCATION:
CATEGORIES:Saison 2023/24
END:VEVENT
BEGIN:VEVENT
DTSTAMP:20260424T164522Z
DTSTART;TZID=Europe/Berlin:20240226T193000
DTEND;TZID=Europe/Berlin:20240226T223000
SUMMARY:1. Kreisklasse TTC Rendswühren  vs SV Boostedt III (1)
UID:1f3f700e-4646-5b33-e063-1fc7a80a4d3b
STATUS:CONFIRMED
LAST-MODIFIED:20240809T113129Z
DESCRIPTION:1. Kreisklasse Herren\nBegegnungs-Nr: 1\nHeim: TTC Rendswühren \nGast: SV Boostedt III\n
LOCATION:
CATEGORIES:Saison 2023/24
END:VEVENT
BEGIN:VEVENT
DTSTAMP:20260424T164522Z
DTSTART;TZID=Europe/Berlin:20240129T193000
DTEND;TZID=Europe/Berlin:20240129T223000
SUMMARY:1. Kreisklasse TTC Rendswühren  vs Polizei SV Neumünster IV (11)
UID:1f3f700e-4706-5b33-e063-1fc7a80a4d3b
STATUS:CONFIRMED
LAST-MODIFIED:20240809T113129Z
DESCRIPTION:1. Kreisklasse Herren\nBegegnungs-Nr: 11\nHeim: TTC Rendswühren \nGast: Polizei SV Neumünster IV\n
LOCATION:
CATEGORIES:Saison 2023/24
END:VEVENT
BEGIN:VEVENT
DTSTAMP:20260424T164522Z
DTSTART;TZID=Europe/Berlin:20240304T193000
DTEND;TZID=Europe/Berlin:20240304T223000
SUMMARY:1. Kreisklasse TTC Rendswühren  vs SG Westend Neumünster  (36)
UID:1f3f700e-48e2-5b33-e063-1fc7a80a4d3b
STATUS:CONFIRMED
LAST-MODIFIED:20240809T113129Z
DESCRIPTION:1. Kreisklasse Herren\nBegegnungs-Nr: 36\nHeim: TTC Rendswühren \nGast: SG Westend Neumünster \n
LOCATION:
CATEGORIES:Saison 2023/24
END:VEVENT
BEGIN:VEVENT
DTSTAMP:20260424T164522Z
DTSTART;TZID=Europe/Berlin:20240325T193000
DTEND;TZID=Europe/Berlin:20240325T223000
SUMMARY:1. Kreisklasse SV Boostedt IV vs TTC Rendswühren  (44)
UID:1f3f700e-497e-5b33-e063-1fc7a80a4d3b
STATUS:CONFIRMED
LAST-MODIFIED:20240809T113129Z
DESCRIPTION:1. Kreisklasse Herren\nBegegnungs-Nr: 44\nHeim: SV Boostedt IV\nGast: TTC Rendswühren \n
LOCATION:
CATEGORIES:Saison 2023/24
END:VEVENT
BEGIN:VEVENT
DTSTAMP:20260424T164522Z
DTSTART;TZID=Europe/Berlin:20230908T193000
DTEND;TZID=Europe/Berlin:20230908T223000
SUMMARY:1. Kreisklasse SV Boostedt III vs TTC Rendswühren  (6)
UID:1f3f700e-429d-5b33-e063-1fc7a80a4d3b
STATUS:CONFIRMED
LAST-MODIFIED:20240809T113129Z
DESCRIPTION:1. Kreisklasse Herren\nBegegnungs-Nr: 6\nHeim: SV Boostedt III\nGast: TTC Rendswühren \n
LOCATION:
CATEGORIES:Saison 2023/24
END:VEVENT
BEGIN:VEVENT
DTSTAMP:20260424T164522Z
DTSTART;TZID=Europe/Berlin:20230921T193000
DTEND;TZID=Europe/Berlin:20230921T223000
SUMMARY:1. Kreisklasse Polizei SV Neumünster IV vs TTC Rendswühren  (13)
UID:1f3f700e-4322-5b33-e063-1fc7a80a4d3b
STATUS:CONFIRMED
LAST-MODIFIED:20240809T113129Z
DESCRIPTION:1. Kreisklasse Herren\nBegegnungs-Nr: 13\nHeim: Polizei SV Neumünster IV\nGast: TTC Rendswühren \n
LOCATION:
CATEGORIES:Saison 2023/24
END:VEVENT
BEGIN:VEVENT
DTSTAMP:20260424T164522Z
DTSTART;TZID=Europe/Berlin:20231107T193000
DTEND;TZID=Europe/Berlin:20231107T223000
SUMMARY:1. Kreisklasse SG Westend Neumünster  vs TTC Rendswühren  (35)
UID:1f3f700e-44c6-5b33-e063-1fc7a80a4d3b
STATUS:CONFIRMED
LAST-MODIFIED:20240809T113129Z
DESCRIPTION:1. Kreisklasse Herren\nBegegnungs-Nr: 35\nHeim: SG Westend Neumünster \nGast: TTC Rendswühren \n
LOCATION:
CATEGORIES:Saison 2023/24
END:VEVENT
BEGIN:VEVENT
DTSTAMP:20260424T164522Z
DTSTART;TZID=Europe/Berlin:20231120T193000
DTEND;TZID=Europe/Berlin:20231120T223000
SUMMARY:1. Kreisklasse SV Wasbek III vs TTC Rendswühren  (44)
UID:1f3f700e-4567-5b33-e063-1fc7a80a4d3b
STATUS:CONFIRMED
LAST-MODIFIED:20240809T113129Z
DESCRIPTION:1. Kreisklasse Herren\nBegegnungs-Nr: 44\nHeim: SV Wasbek III\nGast: TTC Rendswühren \n
LOCATION:
CATEGORIES:Saison 2023/24
END:VEVENT
BEGIN:VEVENT
DTSTAMP:20260424T164522Z
DTSTART;TZID=Europe/Berlin:20240426T193000
DTEND;TZID=Europe/Berlin:20240426T223000
SUMMARY:1. Kreisklasse TS Einfeld Neumünster V vs TTC Rendswühren  (10)
UID:1f3f700e-46f4-5b33-e063-1fc7a80a4d3b
STATUS:CONFIRMED
LAST-MODIFIED:20240809T113129Z
DESCRIPTION:1. Kreisklasse Herren\nBegegnungs-Nr: 10\nHeim: TS Einfeld Neumünster V\nGast: TTC Rendswühren \n
LOCATION:
CATEGORIES:Saison 2023/24
END:VEVENT
BEGIN:VEVENT
DTSTAMP:20260424T164522Z
DTSTART;TZID=Europe/Berlin:20240209T193000
DTEND;TZID=Europe/Berlin:20240209T223000
SUMMARY:1. Kreisklasse SV Tungendorf III vs TTC Rendswühren  (18)
UID:1f3f700e-4789-5b33-e063-1fc7a80a4d3b
STATUS:CONFIRMED
LAST-MODIFIED:20240809T113129Z
DESCRIPTION:1. Kreisklasse Herren\nBegegnungs-Nr: 18\nHeim: SV Tungendorf III\nGast: TTC Rendswühren \n
LOCATION:
CATEGORIES:Saison 2023/24
END:VEVENT
BEGIN:VEVENT
DTSTAMP:20260424T164522Z
DTSTART;TZID=Europe/Berlin:20240213T193000
DTEND;TZID=Europe/Berlin:20240213T223000
SUMMARY:1. Kreisklasse SG Westend Neumünster II vs TTC Rendswühren  (22)
UID:1f3f700e-47d3-5b33-e063-1fc7a80a4d3b
STATUS:CONFIRMED
LAST-MODIFIED:20240809T113129Z
DESCRIPTION:1. Kreisklasse Herren\nBegegnungs-Nr: 22\nHeim: SG Westend Neumünster II\nGast: TTC Rendswühren \n
LOCATION:
CATEGORIES:Saison 2023/24
END:VEVENT
BEGIN:VEVENT
DTSTAMP:20260424T164522Z
DTSTART;TZID=Europe/Berlin:20240115T190000
DTEND;TZID=Europe/Berlin:20240115T220000
SUMMARY:1. Kreisklasse SV Bönebüttel-Husberg II vs TTC Rendswühren  (33)
UID:1f3f700e-48a6-5b33-e063-1fc7a80a4d3b
STATUS:CONFIRMED
LAST-MODIFIED:20240809T113129Z
DESCRIPTION:1. Kreisklasse Herren\nBegegnungs-Nr: 33\nHeim: SV Bönebüttel-Husberg II\nGast: TTC Rendswühren \n
LOCATION:
CATEGORIES:Saison 2023/24
END:VEVENT
END:VCALENDAR
