BEGIN:VCALENDAR
PRODID:-//nuDatenautomaten//framework iCal4j //DE
VERSION:2.0
CALSCALE:GREGORIAN
BEGIN:VTIMEZONE
TZID:Europe/Berlin
LAST-MODIFIED:20260306T231828Z
TZURL:https://www.tzurl.org/zoneinfo/Europe/Berlin
X-LIC-LOCATION:Europe/Berlin
X-PROLEPTIC-TZNAME:LMT
BEGIN:STANDARD
TZNAME:CET
TZOFFSETFROM:+005328
TZOFFSETTO:+0100
DTSTART:18930401T000000
END:STANDARD
BEGIN:DAYLIGHT
TZNAME:CEST
TZOFFSETFROM:+0100
TZOFFSETTO:+0200
DTSTART:19160430T230000
RDATE:19400401T020000
RDATE:19430329T020000
RDATE:19460414T020000
RDATE:19470406T030000
RDATE:19480418T020000
RDATE:19490410T020000
RDATE:19800406T020000
END:DAYLIGHT
BEGIN:STANDARD
TZNAME:CET
TZOFFSETFROM:+0200
TZOFFSETTO:+0100
DTSTART:19161001T010000
RDATE:19421102T030000
RDATE:19431004T030000
RDATE:19441002T030000
RDATE:19451118T030000
RDATE:19461007T030000
END:STANDARD
BEGIN:DAYLIGHT
TZNAME:CEST
TZOFFSETFROM:+0100
TZOFFSETTO:+0200
DTSTART:19170416T020000
RRULE:FREQ=YEARLY;UNTIL=19180415T010000Z;BYMONTH=4;BYDAY=3MO
END:DAYLIGHT
BEGIN:STANDARD
TZNAME:CET
TZOFFSETFROM:+0200
TZOFFSETTO:+0100
DTSTART:19170917T030000
RRULE:FREQ=YEARLY;UNTIL=19180916T010000Z;BYMONTH=9;BYDAY=3MO
END:STANDARD
BEGIN:DAYLIGHT
TZNAME:CEST
TZOFFSETFROM:+0100
TZOFFSETTO:+0200
DTSTART:19440403T020000
RRULE:FREQ=YEARLY;UNTIL=19450402T010000Z;BYMONTH=4;BYDAY=1MO
END:DAYLIGHT
BEGIN:DAYLIGHT
TZNAME:CEMT
TZOFFSETFROM:+0200
TZOFFSETTO:+0300
DTSTART:19450524T020000
RDATE:19470511T030000
END:DAYLIGHT
BEGIN:DAYLIGHT
TZNAME:CEST
TZOFFSETFROM:+0300
TZOFFSETTO:+0200
DTSTART:19450924T030000
RDATE:19470629T030000
END:DAYLIGHT
BEGIN:STANDARD
TZNAME:CET
TZOFFSETFROM:+0100
TZOFFSETTO:+0100
DTSTART:19460101T000000
RDATE:19800101T000000
END:STANDARD
BEGIN:STANDARD
TZNAME:CET
TZOFFSETFROM:+0200
TZOFFSETTO:+0100
DTSTART:19471005T030000
RRULE:FREQ=YEARLY;UNTIL=19491002T010000Z;BYMONTH=10;BYDAY=1SU
END:STANDARD
BEGIN:STANDARD
TZNAME:CET
TZOFFSETFROM:+0200
TZOFFSETTO:+0100
DTSTART:19800928T030000
RRULE:FREQ=YEARLY;UNTIL=19950924T010000Z;BYMONTH=9;BYDAY=-1SU
END:STANDARD
BEGIN:DAYLIGHT
TZNAME:CEST
TZOFFSETFROM:+0100
TZOFFSETTO:+0200
DTSTART:19810329T020000
RRULE:FREQ=YEARLY;BYMONTH=3;BYDAY=-1SU
END:DAYLIGHT
BEGIN:STANDARD
TZNAME:CET
TZOFFSETFROM:+0200
TZOFFSETTO:+0100
DTSTART:19961027T030000
RRULE:FREQ=YEARLY;BYMONTH=10;BYDAY=-1SU
END:STANDARD
END:VTIMEZONE
BEGIN:VEVENT
DTSTAMP:20260420T030014Z
DTSTART;TZID=Europe/Berlin:20230906T193000
DTEND;TZID=Europe/Berlin:20230906T223000
SUMMARY:3. Kreisklasse Großenasper SV  vs Blau-Weiß Wittorf Neumünster V (5)
UID:1f3f700e-5143-5b33-e063-1fc7a80a4d3b
STATUS:CONFIRMED
LAST-MODIFIED:20240809T113130Z
DESCRIPTION:3. Kreisklasse Herren\nBegegnungs-Nr: 5\nHeim: Großenasper SV \nGast: Blau-Weiß Wittorf Neumünster V\n
LOCATION:
CATEGORIES:Saison 2023/24
END:VEVENT
BEGIN:VEVENT
DTSTAMP:20260420T030014Z
DTSTART;TZID=Europe/Berlin:20230920T193000
DTEND;TZID=Europe/Berlin:20230920T223000
SUMMARY:3. Kreisklasse Großenasper SV  vs Blau-Weiß Wittorf Neumünster IV (13)
UID:1f3f700e-51d7-5b33-e063-1fc7a80a4d3b
STATUS:CONFIRMED
LAST-MODIFIED:20240809T113130Z
DESCRIPTION:3. Kreisklasse Herren\nBegegnungs-Nr: 13\nHeim: Großenasper SV \nGast: Blau-Weiß Wittorf Neumünster IV\n
LOCATION:
CATEGORIES:Saison 2023/24
END:VEVENT
BEGIN:VEVENT
DTSTAMP:20260420T030014Z
DTSTART;TZID=Europe/Berlin:20230927T193000
DTEND;TZID=Europe/Berlin:20230927T223000
SUMMARY:3. Kreisklasse Großenasper SV  vs TSV Gadeland Neumünster III (15)
UID:1f3f700e-51fb-5b33-e063-1fc7a80a4d3b
STATUS:CONFIRMED
LAST-MODIFIED:20240809T113130Z
DESCRIPTION:3. Kreisklasse Herren\nBegegnungs-Nr: 15\nHeim: Großenasper SV \nGast: TSV Gadeland Neumünster III\n
LOCATION:
CATEGORIES:Saison 2023/24
END:VEVENT
BEGIN:VEVENT
DTSTAMP:20260420T030014Z
DTSTART;TZID=Europe/Berlin:20231011T193000
DTEND;TZID=Europe/Berlin:20231011T223000
SUMMARY:3. Kreisklasse Großenasper SV  vs SV Boostedt V (24)
UID:1f3f700e-52a9-5b33-e063-1fc7a80a4d3b
STATUS:CONFIRMED
LAST-MODIFIED:20240809T113130Z
DESCRIPTION:3. Kreisklasse Herren\nBegegnungs-Nr: 24\nHeim: Großenasper SV \nGast: SV Boostedt V\n
LOCATION:
CATEGORIES:Saison 2023/24
END:VEVENT
BEGIN:VEVENT
DTSTAMP:20260420T030014Z
DTSTART;TZID=Europe/Berlin:20231108T193000
DTEND;TZID=Europe/Berlin:20231108T223000
SUMMARY:3. Kreisklasse Großenasper SV  vs SG Westend Neumünster III (34)
UID:1f3f700e-535f-5b33-e063-1fc7a80a4d3b
STATUS:CONFIRMED
LAST-MODIFIED:20240809T113131Z
DESCRIPTION:3. Kreisklasse Herren\nBegegnungs-Nr: 34\nHeim: Großenasper SV \nGast: SG Westend Neumünster III\n
LOCATION:
CATEGORIES:Saison 2023/24
END:VEVENT
BEGIN:VEVENT
DTSTAMP:20260420T030014Z
DTSTART;TZID=Europe/Berlin:20240124T193000
DTEND;TZID=Europe/Berlin:20240124T223000
SUMMARY:3. Kreisklasse Großenasper SV  vs SV Wasbek V (9)
UID:1f3f700e-54d5-5b33-e063-1fc7a80a4d3b
STATUS:CONFIRMED
LAST-MODIFIED:20240809T113131Z
DESCRIPTION:3. Kreisklasse Herren\nBegegnungs-Nr: 9\nHeim: Großenasper SV \nGast: SV Wasbek V\n
LOCATION:
CATEGORIES:Saison 2023/24
END:VEVENT
BEGIN:VEVENT
DTSTAMP:20260420T030014Z
DTSTART;TZID=Europe/Berlin:20240214T193000
DTEND;TZID=Europe/Berlin:20240214T223000
SUMMARY:3. Kreisklasse Großenasper SV  vs TTC Rendswühren III (24)
UID:1f3f700e-55e9-5b33-e063-1fc7a80a4d3b
STATUS:CONFIRMED
LAST-MODIFIED:20240809T113131Z
DESCRIPTION:3. Kreisklasse Herren\nBegegnungs-Nr: 24\nHeim: Großenasper SV \nGast: TTC Rendswühren III\n
LOCATION:
CATEGORIES:Saison 2023/24
END:VEVENT
BEGIN:VEVENT
DTSTAMP:20260420T030014Z
DTSTART;TZID=Europe/Berlin:20240228T193000
DTEND;TZID=Europe/Berlin:20240228T223000
SUMMARY:3. Kreisklasse Großenasper SV  vs SG Padenstedt III (32)
UID:1f3f700e-566d-5b33-e063-1fc7a80a4d3b
STATUS:CONFIRMED
LAST-MODIFIED:20240809T113131Z
DESCRIPTION:3. Kreisklasse Herren\nBegegnungs-Nr: 32\nHeim: Großenasper SV \nGast: SG Padenstedt III\n
LOCATION:
CATEGORIES:Saison 2023/24
END:VEVENT
BEGIN:VEVENT
DTSTAMP:20260420T030014Z
DTSTART;TZID=Europe/Berlin:20240313T193000
DTEND;TZID=Europe/Berlin:20240313T223000
SUMMARY:3. Kreisklasse Großenasper SV  vs SV Boostedt VI (40)
UID:1f3f700e-56fd-5b33-e063-1fc7a80a4d3b
STATUS:CONFIRMED
LAST-MODIFIED:20240809T113131Z
DESCRIPTION:3. Kreisklasse Herren\nBegegnungs-Nr: 40\nHeim: Großenasper SV \nGast: SV Boostedt VI\n
LOCATION:
CATEGORIES:Saison 2023/24
END:VEVENT
BEGIN:VEVENT
DTSTAMP:20260420T030014Z
DTSTART;TZID=Europe/Berlin:20230913T193000
DTEND;TZID=Europe/Berlin:20230913T223000
SUMMARY:3. Kreisklasse SV Wasbek V vs Großenasper SV  (9)
UID:1f3f700e-5190-5b33-e063-1fc7a80a4d3b
STATUS:CONFIRMED
LAST-MODIFIED:20240809T113130Z
DESCRIPTION:3. Kreisklasse Herren\nBegegnungs-Nr: 9\nHeim: SV Wasbek V\nGast: Großenasper SV \n
LOCATION:
CATEGORIES:Saison 2023/24
END:VEVENT
BEGIN:VEVENT
DTSTAMP:20260420T030014Z
DTSTART;TZID=Europe/Berlin:20231004T193000
DTEND;TZID=Europe/Berlin:20231004T223000
SUMMARY:3. Kreisklasse TTC Rendswühren III vs Großenasper SV  (20)
UID:1f3f700e-525a-5b33-e063-1fc7a80a4d3b
STATUS:CONFIRMED
LAST-MODIFIED:20240809T113130Z
DESCRIPTION:3. Kreisklasse Herren\nBegegnungs-Nr: 20\nHeim: TTC Rendswühren III\nGast: Großenasper SV \n
LOCATION:
CATEGORIES:Saison 2023/24
END:VEVENT
BEGIN:VEVENT
DTSTAMP:20260420T030014Z
DTSTART;TZID=Europe/Berlin:20231030T201500
DTEND;TZID=Europe/Berlin:20231030T231500
SUMMARY:3. Kreisklasse SG Padenstedt III vs Großenasper SV  (26)
UID:1f3f700e-52cb-5b33-e063-1fc7a80a4d3b
STATUS:CONFIRMED
LAST-MODIFIED:20240809T113131Z
DESCRIPTION:3. Kreisklasse Herren\nBegegnungs-Nr: 26\nHeim: SG Padenstedt III\nGast: Großenasper SV \n
LOCATION:
CATEGORIES:Saison 2023/24
END:VEVENT
BEGIN:VEVENT
DTSTAMP:20260420T030014Z
DTSTART;TZID=Europe/Berlin:20231117T193000
DTEND;TZID=Europe/Berlin:20231117T223000
SUMMARY:3. Kreisklasse SV Boostedt VI vs Großenasper SV  (39)
UID:1f3f700e-53c1-5b33-e063-1fc7a80a4d3b
STATUS:CONFIRMED
LAST-MODIFIED:20240809T113131Z
DESCRIPTION:3. Kreisklasse Herren\nBegegnungs-Nr: 39\nHeim: SV Boostedt VI\nGast: Großenasper SV \n
LOCATION:
CATEGORIES:Saison 2023/24
END:VEVENT
BEGIN:VEVENT
DTSTAMP:20260420T030014Z
DTSTART;TZID=Europe/Berlin:20240116T191500
DTEND;TZID=Europe/Berlin:20240116T221500
SUMMARY:3. Kreisklasse Blau-Weiß Wittorf Neumünster V vs Großenasper SV  (3)
UID:1f3f700e-5466-5b33-e063-1fc7a80a4d3b
STATUS:CONFIRMED
LAST-MODIFIED:20240809T113131Z
DESCRIPTION:3. Kreisklasse Herren\nBegegnungs-Nr: 3\nHeim: Blau-Weiß Wittorf Neumünster V\nGast: Großenasper SV \n
LOCATION:
CATEGORIES:Saison 2023/24
END:VEVENT
BEGIN:VEVENT
DTSTAMP:20260420T030014Z
DTSTART;TZID=Europe/Berlin:20240202T191500
DTEND;TZID=Europe/Berlin:20240202T221500
SUMMARY:3. Kreisklasse Blau-Weiß Wittorf Neumünster IV vs Großenasper SV  (15)
UID:1f3f700e-5544-5b33-e063-1fc7a80a4d3b
STATUS:CONFIRMED
LAST-MODIFIED:20240809T113131Z
DESCRIPTION:3. Kreisklasse Herren\nBegegnungs-Nr: 15\nHeim: Blau-Weiß Wittorf Neumünster IV\nGast: Großenasper SV \n
LOCATION:
CATEGORIES:Saison 2023/24
END:VEVENT
BEGIN:VEVENT
DTSTAMP:20260420T030014Z
DTSTART;TZID=Europe/Berlin:20240423T193000
DTEND;TZID=Europe/Berlin:20240423T223000
SUMMARY:3. Kreisklasse TSV Gadeland Neumünster III vs Großenasper SV  (20)
UID:1f3f700e-559d-5b33-e063-1fc7a80a4d3b
STATUS:CONFIRMED
LAST-MODIFIED:20240809T113131Z
DESCRIPTION:3. Kreisklasse Herren\nBegegnungs-Nr: 20\nHeim: TSV Gadeland Neumünster III\nGast: Großenasper SV \n
LOCATION:
CATEGORIES:Saison 2023/24
END:VEVENT
BEGIN:VEVENT
DTSTAMP:20260420T030014Z
DTSTART;TZID=Europe/Berlin:20240223T193000
DTEND;TZID=Europe/Berlin:20240223T223000
SUMMARY:3. Kreisklasse SV Boostedt V vs Großenasper SV  (30)
UID:1f3f700e-564a-5b33-e063-1fc7a80a4d3b
STATUS:CONFIRMED
LAST-MODIFIED:20240809T113131Z
DESCRIPTION:3. Kreisklasse Herren\nBegegnungs-Nr: 30\nHeim: SV Boostedt V\nGast: Großenasper SV \n
LOCATION:
CATEGORIES:Saison 2023/24
END:VEVENT
BEGIN:VEVENT
DTSTAMP:20260420T030014Z
DTSTART;TZID=Europe/Berlin:20240305T193000
DTEND;TZID=Europe/Berlin:20240305T223000
SUMMARY:3. Kreisklasse SG Westend Neumünster III vs Großenasper SV  (37)
UID:1f3f700e-56c5-5b33-e063-1fc7a80a4d3b
STATUS:CONFIRMED
LAST-MODIFIED:20240809T113131Z
DESCRIPTION:3. Kreisklasse Herren\nBegegnungs-Nr: 37\nHeim: SG Westend Neumünster III\nGast: Großenasper SV \n
LOCATION:
CATEGORIES:Saison 2023/24
END:VEVENT
END:VCALENDAR
